BEGIN:VCALENDAR
VERSION:2.0
PRODID:-//Brunswick Forest - ECPv6.15.20//NONSGML v1.0//EN
CALSCALE:GREGORIAN
METHOD:PUBLISH
X-ORIGINAL-URL:https://brunswickforest.com
X-WR-CALDESC:Events for Brunswick Forest
REFRESH-INTERVAL;VALUE=DURATION:PT1H
X-Robots-Tag:noindex
X-PUBLISHED-TTL:PT1H
BEGIN:VTIMEZONE
TZID:America/New_York
BEGIN:DAYLIGHT
TZOFFSETFROM:-0500
TZOFFSETTO:-0400
TZNAME:EDT
DTSTART:20220313T070000
END:DAYLIGHT
BEGIN:STANDARD
TZOFFSETFROM:-0400
TZOFFSETTO:-0500
TZNAME:EST
DTSTART:20221106T060000
END:STANDARD
BEGIN:DAYLIGHT
TZOFFSETFROM:-0500
TZOFFSETTO:-0400
TZNAME:EDT
DTSTART:20230312T070000
END:DAYLIGHT
BEGIN:STANDARD
TZOFFSETFROM:-0400
TZOFFSETTO:-0500
TZNAME:EST
DTSTART:20231105T060000
END:STANDARD
BEGIN:DAYLIGHT
TZOFFSETFROM:-0500
TZOFFSETTO:-0400
TZNAME:EDT
DTSTART:20240310T070000
END:DAYLIGHT
BEGIN:STANDARD
TZOFFSETFROM:-0400
TZOFFSETTO:-0500
TZNAME:EST
DTSTART:20241103T060000
END:STANDARD
END:VTIMEZONE
BEGIN:VEVENT
DTSTART;TZID=America/New_York:20230616T123000
DTEND;TZID=America/New_York:20230616T133000
DTSTAMP:20260425T192849
CREATED:20230616T130310Z
LAST-MODIFIED:20230616T130310Z
UID:10006288-1686918600-1686922200@brunswickforest.com
SUMMARY:Intermediate Line Dance
DESCRIPTION:The Leland Room \n@2 pm \nContact: Helen Wisz \nHelenwisz88@gmail.com
URL:https://brunswickforest.com/events/intermediate-line-dance-5/2023-06-16/
LOCATION:The Leland Room
CATEGORIES:Resident Activities
ATTACH;FMTTYPE=image/png:https://brunswickforest.com/wpc/uploads/linedancer.png
ORGANIZER;CN="Helen Wisz":MAILTO:Helenwisz88@gmail.com
END:VEVENT
BEGIN:VEVENT
DTSTART;TZID=America/New_York:20230615T111500
DTEND;TZID=America/New_York:20230615T121500
DTSTAMP:20260425T192849
CREATED:20230616T124156Z
LAST-MODIFIED:20230616T124156Z
UID:10006218-1686827700-1686831300@brunswickforest.com
SUMMARY:Beginner 2 Line Dance
DESCRIPTION:The Leland Room @11:15 \nContact: Lorrie & Steve Gregory \nwinddancerlg@aol.com
URL:https://brunswickforest.com/events/beginner-2-line-dance-2/2023-06-15/
LOCATION:The Leland Room
CATEGORIES:Resident Activities
ATTACH;FMTTYPE=image/png:https://brunswickforest.com/wpc/uploads/line-dancer.png
ORGANIZER;CN="Lorrie & Steve Gregory":MAILTO:winddancerlg@aol.com
END:VEVENT
BEGIN:VEVENT
DTSTART;TZID=America/New_York:20230614T130000
DTEND;TZID=America/New_York:20230614T140000
DTSTAMP:20260425T192849
CREATED:20230616T123922Z
LAST-MODIFIED:20230616T123922Z
UID:10006188-1686747600-1686751200@brunswickforest.com
SUMMARY:Beginner 1 Line Dancing
DESCRIPTION:The Leland Room @ 1pm \nContact: Lorrie & Steve Gregory \nwinddancerlg@aol.com
URL:https://brunswickforest.com/events/beginner-1-line-dancing-2/2023-06-14/
LOCATION:The Leland Room
CATEGORIES:Resident Activities
ATTACH;FMTTYPE=image/png:https://brunswickforest.com/wpc/uploads/line-dancer.png
ORGANIZER;CN="Lorrie & Steve Gregory":MAILTO:winddancerlg@aol.com
END:VEVENT
BEGIN:VEVENT
DTSTART;TZID=America/New_York:20230613T151500
DTEND;TZID=America/New_York:20230613T160000
DTSTAMP:20260425T192849
CREATED:20230615T203950Z
LAST-MODIFIED:20230615T203950Z
UID:10006110-1686669300-1686672000@brunswickforest.com
SUMMARY:Advanced Line Dancing
DESCRIPTION:The Leland Room @ 3:15pm \nContact: Lorrie & Steve Gregory \nwinddancerlg@aol.com
URL:https://brunswickforest.com/events/advanced-line-dancing-2/2023-06-13/
LOCATION:The Leland Room
CATEGORIES:Resident Activities
ATTACH;FMTTYPE=image/png:https://brunswickforest.com/wpc/uploads/line-dancer.png
ORGANIZER;CN="Lorrie & Steve Gregory":MAILTO:winddancerlg@aol.com
END:VEVENT
BEGIN:VEVENT
DTSTART;TZID=America/New_York:20230612T123000
DTEND;TZID=America/New_York:20230612T133000
DTSTAMP:20260425T192849
CREATED:20230615T143103Z
LAST-MODIFIED:20230615T143258Z
UID:10006031-1686573000-1686576600@brunswickforest.com
SUMMARY:Intermediate Line Dance
DESCRIPTION:The Leland Room \n@12:30 pm \nContact: Helen Wisz \nHelenwisz88@gmail.com
URL:https://brunswickforest.com/events/intermediate-line-dance-4/2023-06-12/
LOCATION:The Leland Room
CATEGORIES:Resident Activities
ATTACH;FMTTYPE=image/png:https://brunswickforest.com/wpc/uploads/linedancer.png
ORGANIZER;CN="Helen Wisz":MAILTO:Helenwisz88@gmail.com
END:VEVENT
BEGIN:VEVENT
DTSTART;TZID=America/New_York:20230610T123000
DTEND;TZID=America/New_York:20230610T133000
DTSTAMP:20260425T192849
CREATED:20230616T130715Z
LAST-MODIFIED:20230616T130715Z
UID:10006303-1686400200-1686403800@brunswickforest.com
SUMMARY:Intermediate Line Dance
DESCRIPTION:The Leland Room \n@2 pm \nContact: Helen Wisz \nHelenwisz88@gmail.com
URL:https://brunswickforest.com/events/intermediate-line-dance-6/2023-06-10/
LOCATION:The Leland Room
CATEGORIES:Resident Activities
ATTACH;FMTTYPE=image/png:https://brunswickforest.com/wpc/uploads/linedancer.png
ORGANIZER;CN="Helen Wisz":MAILTO:Helenwisz88@gmail.com
END:VEVENT
BEGIN:VEVENT
DTSTART;TZID=America/New_York:20230609T123000
DTEND;TZID=America/New_York:20230609T133000
DTSTAMP:20260425T192849
CREATED:20230616T130310Z
LAST-MODIFIED:20230616T130310Z
UID:10006287-1686313800-1686317400@brunswickforest.com
SUMMARY:Intermediate Line Dance
DESCRIPTION:The Leland Room \n@2 pm \nContact: Helen Wisz \nHelenwisz88@gmail.com
URL:https://brunswickforest.com/events/intermediate-line-dance-5/2023-06-09/
LOCATION:The Leland Room
CATEGORIES:Resident Activities
ATTACH;FMTTYPE=image/png:https://brunswickforest.com/wpc/uploads/linedancer.png
ORGANIZER;CN="Helen Wisz":MAILTO:Helenwisz88@gmail.com
END:VEVENT
BEGIN:VEVENT
DTSTART;TZID=America/New_York:20230608T111500
DTEND;TZID=America/New_York:20230608T121500
DTSTAMP:20260425T192849
CREATED:20230616T124156Z
LAST-MODIFIED:20230616T124156Z
UID:10006217-1686222900-1686226500@brunswickforest.com
SUMMARY:Beginner 2 Line Dance
DESCRIPTION:The Leland Room @11:15 \nContact: Lorrie & Steve Gregory \nwinddancerlg@aol.com
URL:https://brunswickforest.com/events/beginner-2-line-dance-2/2023-06-08/
LOCATION:The Leland Room
CATEGORIES:Resident Activities
ATTACH;FMTTYPE=image/png:https://brunswickforest.com/wpc/uploads/line-dancer.png
ORGANIZER;CN="Lorrie & Steve Gregory":MAILTO:winddancerlg@aol.com
END:VEVENT
BEGIN:VEVENT
DTSTART;TZID=America/New_York:20230607T130000
DTEND;TZID=America/New_York:20230607T140000
DTSTAMP:20260425T192849
CREATED:20230616T123922Z
LAST-MODIFIED:20230616T123922Z
UID:10006187-1686142800-1686146400@brunswickforest.com
SUMMARY:Beginner 1 Line Dancing
DESCRIPTION:The Leland Room @ 1pm \nContact: Lorrie & Steve Gregory \nwinddancerlg@aol.com
URL:https://brunswickforest.com/events/beginner-1-line-dancing-2/2023-06-07/
LOCATION:The Leland Room
CATEGORIES:Resident Activities
ATTACH;FMTTYPE=image/png:https://brunswickforest.com/wpc/uploads/line-dancer.png
ORGANIZER;CN="Lorrie & Steve Gregory":MAILTO:winddancerlg@aol.com
END:VEVENT
BEGIN:VEVENT
DTSTART;TZID=America/New_York:20230606T151500
DTEND;TZID=America/New_York:20230606T160000
DTSTAMP:20260425T192849
CREATED:20230615T203950Z
LAST-MODIFIED:20230615T203950Z
UID:10006109-1686064500-1686067200@brunswickforest.com
SUMMARY:Advanced Line Dancing
DESCRIPTION:The Leland Room @ 3:15pm \nContact: Lorrie & Steve Gregory \nwinddancerlg@aol.com
URL:https://brunswickforest.com/events/advanced-line-dancing-2/2023-06-06/
LOCATION:The Leland Room
CATEGORIES:Resident Activities
ATTACH;FMTTYPE=image/png:https://brunswickforest.com/wpc/uploads/line-dancer.png
ORGANIZER;CN="Lorrie & Steve Gregory":MAILTO:winddancerlg@aol.com
END:VEVENT
BEGIN:VEVENT
DTSTART;TZID=America/New_York:20230606T141500
DTEND;TZID=America/New_York:20230606T151500
DTSTAMP:20260425T192849
CREATED:20230615T204219Z
LAST-MODIFIED:20230615T204219Z
UID:10006102-1686060900-1686064500@brunswickforest.com
SUMMARY:Intermediate Line Dancing with the Gregorys
DESCRIPTION:The Leland Room @ 2:15pm \nContact: Lorrie & Steve Gregory \nwinddancerlg@aol.com
URL:https://brunswickforest.com/events/intermediate-line-dancing-with-the-gregorys-2-2/
LOCATION:The Leland Room
CATEGORIES:Resident Activities
ATTACH;FMTTYPE=image/png:https://brunswickforest.com/wpc/uploads/line-dancer.png
ORGANIZER;CN="Lorrie & Steve Gregory":MAILTO:winddancerlg@aol.com
END:VEVENT
BEGIN:VEVENT
DTSTART;TZID=America/New_York:20230605T123000
DTEND;TZID=America/New_York:20230605T133000
DTSTAMP:20260425T192849
CREATED:20230615T143103Z
LAST-MODIFIED:20230615T143258Z
UID:10006030-1685968200-1685971800@brunswickforest.com
SUMMARY:Intermediate Line Dance
DESCRIPTION:The Leland Room \n@12:30 pm \nContact: Helen Wisz \nHelenwisz88@gmail.com
URL:https://brunswickforest.com/events/intermediate-line-dance-4/2023-06-05/
LOCATION:The Leland Room
CATEGORIES:Resident Activities
ATTACH;FMTTYPE=image/png:https://brunswickforest.com/wpc/uploads/linedancer.png
ORGANIZER;CN="Helen Wisz":MAILTO:Helenwisz88@gmail.com
END:VEVENT
BEGIN:VEVENT
DTSTART;TZID=America/New_York:20230603T180000
DTEND;TZID=America/New_York:20230603T190000
DTSTAMP:20260425T192849
CREATED:20230616T130912Z
LAST-MODIFIED:20230616T130912Z
UID:10006307-1685815200-1685818800@brunswickforest.com
SUMMARY:BF Shag party
DESCRIPTION:The Leland Room \n@6pm \nContact: Pam Bacon \nPbacon89@gmail.com
URL:https://brunswickforest.com/events/bf-shag-party/
LOCATION:The Leland Room
CATEGORIES:Resident Activities
ATTACH;FMTTYPE=image/png:https://brunswickforest.com/wpc/uploads/shag-2.png
ORGANIZER;CN="Pam Bacon":MAILTO:pbacon89@Gmail.com
END:VEVENT
BEGIN:VEVENT
DTSTART;TZID=America/New_York:20230603T123000
DTEND;TZID=America/New_York:20230603T133000
DTSTAMP:20260425T192849
CREATED:20230616T130715Z
LAST-MODIFIED:20230616T130715Z
UID:10006302-1685795400-1685799000@brunswickforest.com
SUMMARY:Intermediate Line Dance
DESCRIPTION:The Leland Room \n@2 pm \nContact: Helen Wisz \nHelenwisz88@gmail.com
URL:https://brunswickforest.com/events/intermediate-line-dance-6/2023-06-03/
LOCATION:The Leland Room
CATEGORIES:Resident Activities
ATTACH;FMTTYPE=image/png:https://brunswickforest.com/wpc/uploads/linedancer.png
ORGANIZER;CN="Helen Wisz":MAILTO:Helenwisz88@gmail.com
END:VEVENT
BEGIN:VEVENT
DTSTART;TZID=America/New_York:20230602T123000
DTEND;TZID=America/New_York:20230602T133000
DTSTAMP:20260425T192849
CREATED:20230616T130310Z
LAST-MODIFIED:20230616T130310Z
UID:10006286-1685709000-1685712600@brunswickforest.com
SUMMARY:Intermediate Line Dance
DESCRIPTION:The Leland Room \n@2 pm \nContact: Helen Wisz \nHelenwisz88@gmail.com
URL:https://brunswickforest.com/events/intermediate-line-dance-5/2023-06-02/
LOCATION:The Leland Room
CATEGORIES:Resident Activities
ATTACH;FMTTYPE=image/png:https://brunswickforest.com/wpc/uploads/linedancer.png
ORGANIZER;CN="Helen Wisz":MAILTO:Helenwisz88@gmail.com
END:VEVENT
BEGIN:VEVENT
DTSTART;TZID=America/New_York:20230601T111500
DTEND;TZID=America/New_York:20230601T121500
DTSTAMP:20260425T192849
CREATED:20230616T124156Z
LAST-MODIFIED:20230616T124156Z
UID:10006216-1685618100-1685621700@brunswickforest.com
SUMMARY:Beginner 2 Line Dance
DESCRIPTION:The Leland Room @11:15 \nContact: Lorrie & Steve Gregory \nwinddancerlg@aol.com
URL:https://brunswickforest.com/events/beginner-2-line-dance-2/2023-06-01/
LOCATION:The Leland Room
CATEGORIES:Resident Activities
ATTACH;FMTTYPE=image/png:https://brunswickforest.com/wpc/uploads/line-dancer.png
ORGANIZER;CN="Lorrie & Steve Gregory":MAILTO:winddancerlg@aol.com
END:VEVENT
BEGIN:VEVENT
DTSTART;TZID=America/New_York:20230401T140000
DTEND;TZID=America/New_York:20230401T150000
DTSTAMP:20260425T192849
CREATED:20230303T183629Z
LAST-MODIFIED:20230303T183629Z
UID:10005991-1680357600-1680361200@brunswickforest.com
SUMMARY:Intermediate Line Dance
DESCRIPTION:The Leland Room \n@2pm \nContact: Helen Wisz \nHelenwisz88@gmail.com
URL:https://brunswickforest.com/events/intermediate-line-dance-3/2023-04-01/
LOCATION:The Leland Room
CATEGORIES:Resident Activities
ATTACH;FMTTYPE=image/png:https://brunswickforest.com/wpc/uploads/linedancer.png
ORGANIZER;CN="Helen Wisz":MAILTO:Helenwisz88@gmail.com
END:VEVENT
BEGIN:VEVENT
DTSTART;TZID=America/New_York:20230331T140000
DTEND;TZID=America/New_York:20230331T150000
DTSTAMP:20260425T192849
CREATED:20230303T165215Z
LAST-MODIFIED:20230303T165215Z
UID:10005958-1680271200-1680274800@brunswickforest.com
SUMMARY:Intermediate Line Dance
DESCRIPTION:The Leland Room \n@2pm \nContact: Helen Wisz \nHelenwisz88@gmail.com
URL:https://brunswickforest.com/events/intermediate-line-dance-2/2023-03-31/
LOCATION:The Leland Room
CATEGORIES:Resident Activities
ATTACH;FMTTYPE=image/png:https://brunswickforest.com/wpc/uploads/linedancer.png
ORGANIZER;CN="Helen Wisz":MAILTO:Helenwisz88@gmail.com
END:VEVENT
BEGIN:VEVENT
DTSTART;TZID=America/New_York:20230330T111500
DTEND;TZID=America/New_York:20230330T121500
DTSTAMP:20260425T192849
CREATED:20230303T160950Z
LAST-MODIFIED:20230303T160950Z
UID:10005918-1680174900-1680178500@brunswickforest.com
SUMMARY:Beginner 2 Line Dance
DESCRIPTION:The Leland Room @11:15 \nContact: Lorrie & Steve Gregory \nwinddancerlg@aol.com
URL:https://brunswickforest.com/events/beginner-2-line-dance/2023-03-30/
LOCATION:The Leland Room
CATEGORIES:Resident Activities
ATTACH;FMTTYPE=image/png:https://brunswickforest.com/wpc/uploads/line-dancer.png
ORGANIZER;CN="Lorrie & Steve Gregory":MAILTO:winddancerlg@aol.com
END:VEVENT
BEGIN:VEVENT
DTSTART;TZID=America/New_York:20230329T130000
DTEND;TZID=America/New_York:20230329T140000
DTSTAMP:20260425T192849
CREATED:20230303T154410Z
LAST-MODIFIED:20230303T154410Z
UID:10005882-1680094800-1680098400@brunswickforest.com
SUMMARY:Beginner 1 Line Dancing
DESCRIPTION:The Leland Room @ 1pm \nContact: Lorrie & Steve Gregory \nwinddancerlg@aol.com
URL:https://brunswickforest.com/events/beginner-1-line-dancing/2023-03-29/
LOCATION:The Leland Room
CATEGORIES:Resident Activities
ATTACH;FMTTYPE=image/png:https://brunswickforest.com/wpc/uploads/line-dancer.png
ORGANIZER;CN="Lorrie & Steve Gregory":MAILTO:winddancerlg@aol.com
END:VEVENT
BEGIN:VEVENT
DTSTART;TZID=America/New_York:20230327T123000
DTEND;TZID=America/New_York:20230327T143000
DTSTAMP:20260425T192849
CREATED:20260425T060647Z
LAST-MODIFIED:20260425T060647Z
UID:10015622-1679920200-1679927400@brunswickforest.com
SUMMARY:Advanced Line Dancing
DESCRIPTION:The Leland Room @ 3:15pm \nContact: Lorrie & Steve Gregory \nwinddancerlg@aol.com
URL:https://brunswickforest.com/events/advanced-line-dancing-432/
LOCATION:The Leland Room
CATEGORIES:Resident Activities
ATTACH;FMTTYPE=image/png:https://brunswickforest.com/wpc/uploads/line-dancer.png
ORGANIZER;CN="Lorrie & Steve Gregory":MAILTO:winddancerlg@aol.com
END:VEVENT
BEGIN:VEVENT
DTSTART;TZID=America/New_York:20230327T123000
DTEND;TZID=America/New_York:20230327T143000
DTSTAMP:20260425T192849
CREATED:20260424T060647Z
LAST-MODIFIED:20260424T060647Z
UID:10015621-1679920200-1679927400@brunswickforest.com
SUMMARY:Advanced Line Dancing
DESCRIPTION:The Leland Room @ 3:15pm \nContact: Lorrie & Steve Gregory \nwinddancerlg@aol.com
URL:https://brunswickforest.com/events/advanced-line-dancing-431/
LOCATION:The Leland Room
CATEGORIES:Resident Activities
ATTACH;FMTTYPE=image/png:https://brunswickforest.com/wpc/uploads/line-dancer.png
ORGANIZER;CN="Lorrie & Steve Gregory":MAILTO:winddancerlg@aol.com
END:VEVENT
BEGIN:VEVENT
DTSTART;TZID=America/New_York:20230327T123000
DTEND;TZID=America/New_York:20230327T143000
DTSTAMP:20260425T192849
CREATED:20260423T060646Z
LAST-MODIFIED:20260423T060646Z
UID:10015620-1679920200-1679927400@brunswickforest.com
SUMMARY:Advanced Line Dancing
DESCRIPTION:The Leland Room @ 3:15pm \nContact: Lorrie & Steve Gregory \nwinddancerlg@aol.com
URL:https://brunswickforest.com/events/advanced-line-dancing-430/
LOCATION:The Leland Room
CATEGORIES:Resident Activities
ATTACH;FMTTYPE=image/png:https://brunswickforest.com/wpc/uploads/line-dancer.png
ORGANIZER;CN="Lorrie & Steve Gregory":MAILTO:winddancerlg@aol.com
END:VEVENT
BEGIN:VEVENT
DTSTART;TZID=America/New_York:20230327T123000
DTEND;TZID=America/New_York:20230327T143000
DTSTAMP:20260425T192849
CREATED:20260422T060651Z
LAST-MODIFIED:20260422T060651Z
UID:10015619-1679920200-1679927400@brunswickforest.com
SUMMARY:Advanced Line Dancing
DESCRIPTION:The Leland Room @ 3:15pm \nContact: Lorrie & Steve Gregory \nwinddancerlg@aol.com
URL:https://brunswickforest.com/events/advanced-line-dancing-429/
LOCATION:The Leland Room
CATEGORIES:Resident Activities
ATTACH;FMTTYPE=image/png:https://brunswickforest.com/wpc/uploads/line-dancer.png
ORGANIZER;CN="Lorrie & Steve Gregory":MAILTO:winddancerlg@aol.com
END:VEVENT
BEGIN:VEVENT
DTSTART;TZID=America/New_York:20230327T123000
DTEND;TZID=America/New_York:20230327T143000
DTSTAMP:20260425T192849
CREATED:20260421T060645Z
LAST-MODIFIED:20260421T060645Z
UID:10015618-1679920200-1679927400@brunswickforest.com
SUMMARY:Advanced Line Dancing
DESCRIPTION:The Leland Room @ 3:15pm \nContact: Lorrie & Steve Gregory \nwinddancerlg@aol.com
URL:https://brunswickforest.com/events/advanced-line-dancing-428/
LOCATION:The Leland Room
CATEGORIES:Resident Activities
ATTACH;FMTTYPE=image/png:https://brunswickforest.com/wpc/uploads/line-dancer.png
ORGANIZER;CN="Lorrie & Steve Gregory":MAILTO:winddancerlg@aol.com
END:VEVENT
BEGIN:VEVENT
DTSTART;TZID=America/New_York:20230327T123000
DTEND;TZID=America/New_York:20230327T143000
DTSTAMP:20260425T192849
CREATED:20260420T060644Z
LAST-MODIFIED:20260420T060644Z
UID:10015617-1679920200-1679927400@brunswickforest.com
SUMMARY:Advanced Line Dancing
DESCRIPTION:The Leland Room @ 3:15pm \nContact: Lorrie & Steve Gregory \nwinddancerlg@aol.com
URL:https://brunswickforest.com/events/advanced-line-dancing-427/
LOCATION:The Leland Room
CATEGORIES:Resident Activities
ATTACH;FMTTYPE=image/png:https://brunswickforest.com/wpc/uploads/line-dancer.png
ORGANIZER;CN="Lorrie & Steve Gregory":MAILTO:winddancerlg@aol.com
END:VEVENT
BEGIN:VEVENT
DTSTART;TZID=America/New_York:20230327T123000
DTEND;TZID=America/New_York:20230327T143000
DTSTAMP:20260425T192849
CREATED:20260419T060645Z
LAST-MODIFIED:20260419T060645Z
UID:10015616-1679920200-1679927400@brunswickforest.com
SUMMARY:Advanced Line Dancing
DESCRIPTION:The Leland Room @ 3:15pm \nContact: Lorrie & Steve Gregory \nwinddancerlg@aol.com
URL:https://brunswickforest.com/events/advanced-line-dancing-426/
LOCATION:The Leland Room
CATEGORIES:Resident Activities
ATTACH;FMTTYPE=image/png:https://brunswickforest.com/wpc/uploads/line-dancer.png
ORGANIZER;CN="Lorrie & Steve Gregory":MAILTO:winddancerlg@aol.com
END:VEVENT
BEGIN:VEVENT
DTSTART;TZID=America/New_York:20230327T123000
DTEND;TZID=America/New_York:20230327T143000
DTSTAMP:20260425T192849
CREATED:20260418T060644Z
LAST-MODIFIED:20260418T060644Z
UID:10015615-1679920200-1679927400@brunswickforest.com
SUMMARY:Advanced Line Dancing
DESCRIPTION:The Leland Room @ 3:15pm \nContact: Lorrie & Steve Gregory \nwinddancerlg@aol.com
URL:https://brunswickforest.com/events/advanced-line-dancing-425/
LOCATION:The Leland Room
CATEGORIES:Resident Activities
ATTACH;FMTTYPE=image/png:https://brunswickforest.com/wpc/uploads/line-dancer.png
ORGANIZER;CN="Lorrie & Steve Gregory":MAILTO:winddancerlg@aol.com
END:VEVENT
BEGIN:VEVENT
DTSTART;TZID=America/New_York:20230327T123000
DTEND;TZID=America/New_York:20230327T143000
DTSTAMP:20260425T192849
CREATED:20260417T060647Z
LAST-MODIFIED:20260417T060647Z
UID:10015614-1679920200-1679927400@brunswickforest.com
SUMMARY:Advanced Line Dancing
DESCRIPTION:The Leland Room @ 3:15pm \nContact: Lorrie & Steve Gregory \nwinddancerlg@aol.com
URL:https://brunswickforest.com/events/advanced-line-dancing-424/
LOCATION:The Leland Room
CATEGORIES:Resident Activities
ATTACH;FMTTYPE=image/png:https://brunswickforest.com/wpc/uploads/line-dancer.png
ORGANIZER;CN="Lorrie & Steve Gregory":MAILTO:winddancerlg@aol.com
END:VEVENT
BEGIN:VEVENT
DTSTART;TZID=America/New_York:20230327T123000
DTEND;TZID=America/New_York:20230327T143000
DTSTAMP:20260425T192849
CREATED:20260416T060647Z
LAST-MODIFIED:20260416T060647Z
UID:10015613-1679920200-1679927400@brunswickforest.com
SUMMARY:Intermediate Line Dancing with the Gregorys
DESCRIPTION:The Leland Room @ 3:15pm \nContact: Lorrie & Steve Gregory \nwinddancerlg@aol.com
URL:https://brunswickforest.com/events/intermediate-line-dancing-with-the-gregorys-11/
LOCATION:The Leland Room
CATEGORIES:Resident Activities
ATTACH;FMTTYPE=image/png:https://brunswickforest.com/wpc/uploads/line-dancer.png
ORGANIZER;CN="Lorrie & Steve Gregory":MAILTO:winddancerlg@aol.com
END:VEVENT
END:VCALENDAR