BEGIN:VCALENDAR
VERSION:2.0
PRODID:-//Brunswick Forest - ECPv6.15.20//NONSGML v1.0//EN
CALSCALE:GREGORIAN
METHOD:PUBLISH
X-WR-CALNAME:Brunswick Forest
X-ORIGINAL-URL:https://brunswickforest.com
X-WR-CALDESC:Events for Brunswick Forest
REFRESH-INTERVAL;VALUE=DURATION:PT1H
X-Robots-Tag:noindex
X-PUBLISHED-TTL:PT1H
BEGIN:VTIMEZONE
TZID:America/New_York
BEGIN:DAYLIGHT
TZOFFSETFROM:-0500
TZOFFSETTO:-0400
TZNAME:EDT
DTSTART:20220313T070000
END:DAYLIGHT
BEGIN:STANDARD
TZOFFSETFROM:-0400
TZOFFSETTO:-0500
TZNAME:EST
DTSTART:20221106T060000
END:STANDARD
BEGIN:DAYLIGHT
TZOFFSETFROM:-0500
TZOFFSETTO:-0400
TZNAME:EDT
DTSTART:20230312T070000
END:DAYLIGHT
BEGIN:STANDARD
TZOFFSETFROM:-0400
TZOFFSETTO:-0500
TZNAME:EST
DTSTART:20231105T060000
END:STANDARD
BEGIN:DAYLIGHT
TZOFFSETFROM:-0500
TZOFFSETTO:-0400
TZNAME:EDT
DTSTART:20240310T070000
END:DAYLIGHT
BEGIN:STANDARD
TZOFFSETFROM:-0400
TZOFFSETTO:-0500
TZNAME:EST
DTSTART:20241103T060000
END:STANDARD
END:VTIMEZONE
BEGIN:VEVENT
DTSTART;TZID=America/New_York:20231123T111500
DTEND;TZID=America/New_York:20231123T121500
DTSTAMP:20260425T072047
CREATED:20231012T152457Z
LAST-MODIFIED:20231012T152457Z
UID:10011985-1700738100-1700741700@brunswickforest.com
SUMMARY:Beginner 2 Line Dance
DESCRIPTION:The Leland Room @11:15 \nContact: Lorrie & Steve Gregory \nwinddancerlg@aol.com
URL:https://brunswickforest.com/events/beginner-2-line-dance-3/2023-11-23/
LOCATION:The Leland Room
CATEGORIES:Resident Activities
ATTACH;FMTTYPE=image/png:https://brunswickforest.com/wpc/uploads/line-dancer.png
ORGANIZER;CN="Lorrie & Steve Gregory":MAILTO:winddancerlg@aol.com
END:VEVENT
BEGIN:VEVENT
DTSTART;TZID=America/New_York:20231121T141500
DTEND;TZID=America/New_York:20231121T151500
DTSTAMP:20260425T072047
CREATED:20231012T123630Z
LAST-MODIFIED:20231012T123630Z
UID:10008253-1700576100-1700579700@brunswickforest.com
SUMMARY:Intermediate Line Dancing with the Gregorys
DESCRIPTION:The Leland Room @ 2:15pm \nContact: Lorrie & Steve Gregory \nwinddancerlg@aol.com
URL:https://brunswickforest.com/events/intermediate-line-dancing-with-the-gregorys-3/2023-11-21/
LOCATION:The Leland Room
CATEGORIES:Resident Activities
ATTACH;FMTTYPE=image/png:https://brunswickforest.com/wpc/uploads/line-dancer.png
ORGANIZER;CN="Lorrie & Steve Gregory":MAILTO:winddancerlg@aol.com
END:VEVENT
BEGIN:VEVENT
DTSTART;TZID=America/New_York:20231116T111500
DTEND;TZID=America/New_York:20231116T121500
DTSTAMP:20260425T072047
CREATED:20231012T152457Z
LAST-MODIFIED:20231012T152457Z
UID:10011984-1700133300-1700136900@brunswickforest.com
SUMMARY:Beginner 2 Line Dance
DESCRIPTION:The Leland Room @11:15 \nContact: Lorrie & Steve Gregory \nwinddancerlg@aol.com
URL:https://brunswickforest.com/events/beginner-2-line-dance-3/2023-11-16/
LOCATION:The Leland Room
CATEGORIES:Resident Activities
ATTACH;FMTTYPE=image/png:https://brunswickforest.com/wpc/uploads/line-dancer.png
ORGANIZER;CN="Lorrie & Steve Gregory":MAILTO:winddancerlg@aol.com
END:VEVENT
BEGIN:VEVENT
DTSTART;TZID=America/New_York:20231114T141500
DTEND;TZID=America/New_York:20231114T151500
DTSTAMP:20260425T072047
CREATED:20231012T123630Z
LAST-MODIFIED:20231012T123630Z
UID:10008252-1699971300-1699974900@brunswickforest.com
SUMMARY:Intermediate Line Dancing with the Gregorys
DESCRIPTION:The Leland Room @ 2:15pm \nContact: Lorrie & Steve Gregory \nwinddancerlg@aol.com
URL:https://brunswickforest.com/events/intermediate-line-dancing-with-the-gregorys-3/2023-11-14/
LOCATION:The Leland Room
CATEGORIES:Resident Activities
ATTACH;FMTTYPE=image/png:https://brunswickforest.com/wpc/uploads/line-dancer.png
ORGANIZER;CN="Lorrie & Steve Gregory":MAILTO:winddancerlg@aol.com
END:VEVENT
BEGIN:VEVENT
DTSTART;TZID=America/New_York:20231109T111500
DTEND;TZID=America/New_York:20231109T121500
DTSTAMP:20260425T072047
CREATED:20231012T152457Z
LAST-MODIFIED:20231012T152457Z
UID:10011983-1699528500-1699532100@brunswickforest.com
SUMMARY:Beginner 2 Line Dance
DESCRIPTION:The Leland Room @11:15 \nContact: Lorrie & Steve Gregory \nwinddancerlg@aol.com
URL:https://brunswickforest.com/events/beginner-2-line-dance-3/2023-11-09/
LOCATION:The Leland Room
CATEGORIES:Resident Activities
ATTACH;FMTTYPE=image/png:https://brunswickforest.com/wpc/uploads/line-dancer.png
ORGANIZER;CN="Lorrie & Steve Gregory":MAILTO:winddancerlg@aol.com
END:VEVENT
BEGIN:VEVENT
DTSTART;TZID=America/New_York:20231107T141500
DTEND;TZID=America/New_York:20231107T151500
DTSTAMP:20260425T072047
CREATED:20231012T123630Z
LAST-MODIFIED:20231012T123630Z
UID:10008251-1699366500-1699370100@brunswickforest.com
SUMMARY:Intermediate Line Dancing with the Gregorys
DESCRIPTION:The Leland Room @ 2:15pm \nContact: Lorrie & Steve Gregory \nwinddancerlg@aol.com
URL:https://brunswickforest.com/events/intermediate-line-dancing-with-the-gregorys-3/2023-11-07/
LOCATION:The Leland Room
CATEGORIES:Resident Activities
ATTACH;FMTTYPE=image/png:https://brunswickforest.com/wpc/uploads/line-dancer.png
ORGANIZER;CN="Lorrie & Steve Gregory":MAILTO:winddancerlg@aol.com
END:VEVENT
BEGIN:VEVENT
DTSTART;TZID=America/New_York:20231102T111500
DTEND;TZID=America/New_York:20231102T121500
DTSTAMP:20260425T072047
CREATED:20231012T152457Z
LAST-MODIFIED:20231012T152457Z
UID:10011982-1698923700-1698927300@brunswickforest.com
SUMMARY:Beginner 2 Line Dance
DESCRIPTION:The Leland Room @11:15 \nContact: Lorrie & Steve Gregory \nwinddancerlg@aol.com
URL:https://brunswickforest.com/events/beginner-2-line-dance-3/2023-11-02/
LOCATION:The Leland Room
CATEGORIES:Resident Activities
ATTACH;FMTTYPE=image/png:https://brunswickforest.com/wpc/uploads/line-dancer.png
ORGANIZER;CN="Lorrie & Steve Gregory":MAILTO:winddancerlg@aol.com
END:VEVENT
BEGIN:VEVENT
DTSTART;TZID=America/New_York:20231031T141500
DTEND;TZID=America/New_York:20231031T151500
DTSTAMP:20260425T072047
CREATED:20231012T123630Z
LAST-MODIFIED:20231012T123630Z
UID:10008250-1698761700-1698765300@brunswickforest.com
SUMMARY:Intermediate Line Dancing with the Gregorys
DESCRIPTION:The Leland Room @ 2:15pm \nContact: Lorrie & Steve Gregory \nwinddancerlg@aol.com
URL:https://brunswickforest.com/events/intermediate-line-dancing-with-the-gregorys-3/2023-10-31/
LOCATION:The Leland Room
CATEGORIES:Resident Activities
ATTACH;FMTTYPE=image/png:https://brunswickforest.com/wpc/uploads/line-dancer.png
ORGANIZER;CN="Lorrie & Steve Gregory":MAILTO:winddancerlg@aol.com
END:VEVENT
BEGIN:VEVENT
DTSTART;TZID=America/New_York:20231030T123000
DTEND;TZID=America/New_York:20231030T133000
DTSTAMP:20260425T072047
CREATED:20231012T115541Z
LAST-MODIFIED:20231012T115541Z
UID:10006636-1698669000-1698672600@brunswickforest.com
SUMMARY:Intermediate Line Dance
DESCRIPTION:The Leland Room \n@12:30 pm \nContact: Helen Wisz \nHelenwisz88@gmail.com
URL:https://brunswickforest.com/events/intermediate-line-dance-7/2023-10-30/
LOCATION:The Leland Room
CATEGORIES:Resident Activities
ATTACH;FMTTYPE=image/png:https://brunswickforest.com/wpc/uploads/linedancer.png
ORGANIZER;CN="Helen Wisz":MAILTO:Helenwisz88@gmail.com
END:VEVENT
BEGIN:VEVENT
DTSTART;TZID=America/New_York:20231026T111500
DTEND;TZID=America/New_York:20231026T121500
DTSTAMP:20260425T072047
CREATED:20231012T152457Z
LAST-MODIFIED:20231012T152457Z
UID:10011981-1698318900-1698322500@brunswickforest.com
SUMMARY:Beginner 2 Line Dance
DESCRIPTION:The Leland Room @11:15 \nContact: Lorrie & Steve Gregory \nwinddancerlg@aol.com
URL:https://brunswickforest.com/events/beginner-2-line-dance-3/2023-10-26/
LOCATION:The Leland Room
CATEGORIES:Resident Activities
ATTACH;FMTTYPE=image/png:https://brunswickforest.com/wpc/uploads/line-dancer.png
ORGANIZER;CN="Lorrie & Steve Gregory":MAILTO:winddancerlg@aol.com
END:VEVENT
BEGIN:VEVENT
DTSTART;TZID=America/New_York:20231024T141500
DTEND;TZID=America/New_York:20231024T151500
DTSTAMP:20260425T072047
CREATED:20231012T123630Z
LAST-MODIFIED:20231012T123630Z
UID:10008249-1698156900-1698160500@brunswickforest.com
SUMMARY:Intermediate Line Dancing with the Gregorys
DESCRIPTION:The Leland Room @ 2:15pm \nContact: Lorrie & Steve Gregory \nwinddancerlg@aol.com
URL:https://brunswickforest.com/events/intermediate-line-dancing-with-the-gregorys-3/2023-10-24/
LOCATION:The Leland Room
CATEGORIES:Resident Activities
ATTACH;FMTTYPE=image/png:https://brunswickforest.com/wpc/uploads/line-dancer.png
ORGANIZER;CN="Lorrie & Steve Gregory":MAILTO:winddancerlg@aol.com
END:VEVENT
BEGIN:VEVENT
DTSTART;TZID=America/New_York:20231023T123000
DTEND;TZID=America/New_York:20231023T133000
DTSTAMP:20260425T072047
CREATED:20231012T115541Z
LAST-MODIFIED:20231012T115541Z
UID:10006635-1698064200-1698067800@brunswickforest.com
SUMMARY:Intermediate Line Dance
DESCRIPTION:The Leland Room \n@12:30 pm \nContact: Helen Wisz \nHelenwisz88@gmail.com
URL:https://brunswickforest.com/events/intermediate-line-dance-7/2023-10-23/
LOCATION:The Leland Room
CATEGORIES:Resident Activities
ATTACH;FMTTYPE=image/png:https://brunswickforest.com/wpc/uploads/linedancer.png
ORGANIZER;CN="Helen Wisz":MAILTO:Helenwisz88@gmail.com
END:VEVENT
BEGIN:VEVENT
DTSTART;TZID=America/New_York:20231019T111500
DTEND;TZID=America/New_York:20231019T121500
DTSTAMP:20260425T072047
CREATED:20231012T152457Z
LAST-MODIFIED:20231012T152457Z
UID:10011980-1697714100-1697717700@brunswickforest.com
SUMMARY:Beginner 2 Line Dance
DESCRIPTION:The Leland Room @11:15 \nContact: Lorrie & Steve Gregory \nwinddancerlg@aol.com
URL:https://brunswickforest.com/events/beginner-2-line-dance-3/2023-10-19/
LOCATION:The Leland Room
CATEGORIES:Resident Activities
ATTACH;FMTTYPE=image/png:https://brunswickforest.com/wpc/uploads/line-dancer.png
ORGANIZER;CN="Lorrie & Steve Gregory":MAILTO:winddancerlg@aol.com
END:VEVENT
BEGIN:VEVENT
DTSTART;TZID=America/New_York:20231017T141500
DTEND;TZID=America/New_York:20231017T151500
DTSTAMP:20260425T072047
CREATED:20231012T123630Z
LAST-MODIFIED:20231012T123630Z
UID:10008248-1697552100-1697555700@brunswickforest.com
SUMMARY:Intermediate Line Dancing with the Gregorys
DESCRIPTION:The Leland Room @ 2:15pm \nContact: Lorrie & Steve Gregory \nwinddancerlg@aol.com
URL:https://brunswickforest.com/events/intermediate-line-dancing-with-the-gregorys-3/2023-10-17/
LOCATION:The Leland Room
CATEGORIES:Resident Activities
ATTACH;FMTTYPE=image/png:https://brunswickforest.com/wpc/uploads/line-dancer.png
ORGANIZER;CN="Lorrie & Steve Gregory":MAILTO:winddancerlg@aol.com
END:VEVENT
BEGIN:VEVENT
DTSTART;TZID=America/New_York:20231016T123000
DTEND;TZID=America/New_York:20231016T133000
DTSTAMP:20260425T072047
CREATED:20231012T115541Z
LAST-MODIFIED:20231012T115541Z
UID:10006634-1697459400-1697463000@brunswickforest.com
SUMMARY:Intermediate Line Dance
DESCRIPTION:The Leland Room \n@12:30 pm \nContact: Helen Wisz \nHelenwisz88@gmail.com
URL:https://brunswickforest.com/events/intermediate-line-dance-7/2023-10-16/
LOCATION:The Leland Room
CATEGORIES:Resident Activities
ATTACH;FMTTYPE=image/png:https://brunswickforest.com/wpc/uploads/linedancer.png
ORGANIZER;CN="Helen Wisz":MAILTO:Helenwisz88@gmail.com
END:VEVENT
BEGIN:VEVENT
DTSTART;TZID=America/New_York:20231012T111500
DTEND;TZID=America/New_York:20231012T121500
DTSTAMP:20260425T072047
CREATED:20231012T152457Z
LAST-MODIFIED:20231012T152457Z
UID:10011979-1697109300-1697112900@brunswickforest.com
SUMMARY:Beginner 2 Line Dance
DESCRIPTION:The Leland Room @11:15 \nContact: Lorrie & Steve Gregory \nwinddancerlg@aol.com
URL:https://brunswickforest.com/events/beginner-2-line-dance-3/2023-10-12/
LOCATION:The Leland Room
CATEGORIES:Resident Activities
ATTACH;FMTTYPE=image/png:https://brunswickforest.com/wpc/uploads/line-dancer.png
ORGANIZER;CN="Lorrie & Steve Gregory":MAILTO:winddancerlg@aol.com
END:VEVENT
BEGIN:VEVENT
DTSTART;TZID=America/New_York:20231010T141500
DTEND;TZID=America/New_York:20231010T151500
DTSTAMP:20260425T072047
CREATED:20231012T123630Z
LAST-MODIFIED:20231012T123630Z
UID:10008247-1696947300-1696950900@brunswickforest.com
SUMMARY:Intermediate Line Dancing with the Gregorys
DESCRIPTION:The Leland Room @ 2:15pm \nContact: Lorrie & Steve Gregory \nwinddancerlg@aol.com
URL:https://brunswickforest.com/events/intermediate-line-dancing-with-the-gregorys-3/2023-10-10/
LOCATION:The Leland Room
CATEGORIES:Resident Activities
ATTACH;FMTTYPE=image/png:https://brunswickforest.com/wpc/uploads/line-dancer.png
ORGANIZER;CN="Lorrie & Steve Gregory":MAILTO:winddancerlg@aol.com
END:VEVENT
BEGIN:VEVENT
DTSTART;TZID=America/New_York:20231009T123000
DTEND;TZID=America/New_York:20231009T133000
DTSTAMP:20260425T072047
CREATED:20231012T115541Z
LAST-MODIFIED:20231012T115541Z
UID:10006633-1696854600-1696858200@brunswickforest.com
SUMMARY:Intermediate Line Dance
DESCRIPTION:The Leland Room \n@12:30 pm \nContact: Helen Wisz \nHelenwisz88@gmail.com
URL:https://brunswickforest.com/events/intermediate-line-dance-7/2023-10-09/
LOCATION:The Leland Room
CATEGORIES:Resident Activities
ATTACH;FMTTYPE=image/png:https://brunswickforest.com/wpc/uploads/linedancer.png
ORGANIZER;CN="Helen Wisz":MAILTO:Helenwisz88@gmail.com
END:VEVENT
BEGIN:VEVENT
DTSTART;TZID=America/New_York:20231005T111500
DTEND;TZID=America/New_York:20231005T121500
DTSTAMP:20260425T072047
CREATED:20231012T152457Z
LAST-MODIFIED:20231012T152457Z
UID:10011978-1696504500-1696508100@brunswickforest.com
SUMMARY:Beginner 2 Line Dance
DESCRIPTION:The Leland Room @11:15 \nContact: Lorrie & Steve Gregory \nwinddancerlg@aol.com
URL:https://brunswickforest.com/events/beginner-2-line-dance-3/2023-10-05/
LOCATION:The Leland Room
CATEGORIES:Resident Activities
ATTACH;FMTTYPE=image/png:https://brunswickforest.com/wpc/uploads/line-dancer.png
ORGANIZER;CN="Lorrie & Steve Gregory":MAILTO:winddancerlg@aol.com
END:VEVENT
BEGIN:VEVENT
DTSTART;TZID=America/New_York:20231003T151500
DTEND;TZID=America/New_York:20231003T160000
DTSTAMP:20260425T072047
CREATED:20231012T123738Z
LAST-MODIFIED:20231012T123738Z
UID:10006112-1696346100-1696348800@brunswickforest.com
SUMMARY:Advanced Line Dancing
DESCRIPTION:The Leland Room @ 3:15pm \nContact: Lorrie & Steve Gregory \nwinddancerlg@aol.com
URL:https://brunswickforest.com/events/advanced-line-dancing-2-2/
LOCATION:The Leland Room
CATEGORIES:Resident Activities
ATTACH;FMTTYPE=image/png:https://brunswickforest.com/wpc/uploads/line-dancer.png
ORGANIZER;CN="Lorrie & Steve Gregory":MAILTO:winddancerlg@aol.com
END:VEVENT
BEGIN:VEVENT
DTSTART;TZID=America/New_York:20231003T141500
DTEND;TZID=America/New_York:20231003T151500
DTSTAMP:20260425T072047
CREATED:20231012T123630Z
LAST-MODIFIED:20231012T123630Z
UID:10008246-1696342500-1696346100@brunswickforest.com
SUMMARY:Intermediate Line Dancing with the Gregorys
DESCRIPTION:The Leland Room @ 2:15pm \nContact: Lorrie & Steve Gregory \nwinddancerlg@aol.com
URL:https://brunswickforest.com/events/intermediate-line-dancing-with-the-gregorys-3/2023-10-03/
LOCATION:The Leland Room
CATEGORIES:Resident Activities
ATTACH;FMTTYPE=image/png:https://brunswickforest.com/wpc/uploads/line-dancer.png
ORGANIZER;CN="Lorrie & Steve Gregory":MAILTO:winddancerlg@aol.com
END:VEVENT
BEGIN:VEVENT
DTSTART;TZID=America/New_York:20231002T123000
DTEND;TZID=America/New_York:20231002T133000
DTSTAMP:20260425T072047
CREATED:20231012T115541Z
LAST-MODIFIED:20231012T115541Z
UID:10006628-1696249800-1696253400@brunswickforest.com
SUMMARY:Intermediate Line Dance
DESCRIPTION:The Leland Room \n@12:30 pm \nContact: Helen Wisz \nHelenwisz88@gmail.com
URL:https://brunswickforest.com/events/intermediate-line-dance-7/2023-10-02/
LOCATION:The Leland Room
CATEGORIES:Resident Activities
ATTACH;FMTTYPE=image/png:https://brunswickforest.com/wpc/uploads/linedancer.png
ORGANIZER;CN="Helen Wisz":MAILTO:Helenwisz88@gmail.com
END:VEVENT
BEGIN:VEVENT
DTSTART;TZID=America/New_York:20230703T123000
DTEND;TZID=America/New_York:20230703T133000
DTSTAMP:20260425T072047
CREATED:20230615T143103Z
LAST-MODIFIED:20230615T143258Z
UID:10006034-1688387400-1688391000@brunswickforest.com
SUMMARY:Intermediate Line Dance
DESCRIPTION:The Leland Room \n@12:30 pm \nContact: Helen Wisz \nHelenwisz88@gmail.com
URL:https://brunswickforest.com/events/intermediate-line-dance-4/2023-07-03/
LOCATION:The Leland Room
CATEGORIES:Resident Activities
ATTACH;FMTTYPE=image/png:https://brunswickforest.com/wpc/uploads/linedancer.png
ORGANIZER;CN="Helen Wisz":MAILTO:Helenwisz88@gmail.com
END:VEVENT
BEGIN:VEVENT
DTSTART;TZID=America/New_York:20230701T123000
DTEND;TZID=America/New_York:20230701T133000
DTSTAMP:20260425T072047
CREATED:20230616T130715Z
LAST-MODIFIED:20230616T130715Z
UID:10006306-1688214600-1688218200@brunswickforest.com
SUMMARY:Intermediate Line Dance
DESCRIPTION:The Leland Room \n@2 pm \nContact: Helen Wisz \nHelenwisz88@gmail.com
URL:https://brunswickforest.com/events/intermediate-line-dance-6/2023-07-01/
LOCATION:The Leland Room
CATEGORIES:Resident Activities
ATTACH;FMTTYPE=image/png:https://brunswickforest.com/wpc/uploads/linedancer.png
ORGANIZER;CN="Helen Wisz":MAILTO:Helenwisz88@gmail.com
END:VEVENT
BEGIN:VEVENT
DTSTART;TZID=America/New_York:20230630T123000
DTEND;TZID=America/New_York:20230630T133000
DTSTAMP:20260425T072047
CREATED:20230616T130310Z
LAST-MODIFIED:20230616T130310Z
UID:10006290-1688128200-1688131800@brunswickforest.com
SUMMARY:Intermediate Line Dance
DESCRIPTION:The Leland Room \n@2 pm \nContact: Helen Wisz \nHelenwisz88@gmail.com
URL:https://brunswickforest.com/events/intermediate-line-dance-5/2023-06-30/
LOCATION:The Leland Room
CATEGORIES:Resident Activities
ATTACH;FMTTYPE=image/png:https://brunswickforest.com/wpc/uploads/linedancer.png
ORGANIZER;CN="Helen Wisz":MAILTO:Helenwisz88@gmail.com
END:VEVENT
BEGIN:VEVENT
DTSTART;TZID=America/New_York:20230629T111500
DTEND;TZID=America/New_York:20230629T121500
DTSTAMP:20260425T072047
CREATED:20230616T124156Z
LAST-MODIFIED:20230616T124156Z
UID:10006220-1688037300-1688040900@brunswickforest.com
SUMMARY:Beginner 2 Line Dance
DESCRIPTION:The Leland Room @11:15 \nContact: Lorrie & Steve Gregory \nwinddancerlg@aol.com
URL:https://brunswickforest.com/events/beginner-2-line-dance-2/2023-06-29/
LOCATION:The Leland Room
CATEGORIES:Resident Activities
ATTACH;FMTTYPE=image/png:https://brunswickforest.com/wpc/uploads/line-dancer.png
ORGANIZER;CN="Lorrie & Steve Gregory":MAILTO:winddancerlg@aol.com
END:VEVENT
BEGIN:VEVENT
DTSTART;TZID=America/New_York:20230628T130000
DTEND;TZID=America/New_York:20230628T140000
DTSTAMP:20260425T072047
CREATED:20230616T123922Z
LAST-MODIFIED:20230616T123922Z
UID:10006190-1687957200-1687960800@brunswickforest.com
SUMMARY:Beginner 1 Line Dancing
DESCRIPTION:The Leland Room @ 1pm \nContact: Lorrie & Steve Gregory \nwinddancerlg@aol.com
URL:https://brunswickforest.com/events/beginner-1-line-dancing-2/2023-06-28/
LOCATION:The Leland Room
CATEGORIES:Resident Activities
ATTACH;FMTTYPE=image/png:https://brunswickforest.com/wpc/uploads/line-dancer.png
ORGANIZER;CN="Lorrie & Steve Gregory":MAILTO:winddancerlg@aol.com
END:VEVENT
BEGIN:VEVENT
DTSTART;TZID=America/New_York:20230626T123000
DTEND;TZID=America/New_York:20230626T133000
DTSTAMP:20260425T072047
CREATED:20230615T143103Z
LAST-MODIFIED:20230615T143258Z
UID:10006033-1687782600-1687786200@brunswickforest.com
SUMMARY:Intermediate Line Dance
DESCRIPTION:The Leland Room \n@12:30 pm \nContact: Helen Wisz \nHelenwisz88@gmail.com
URL:https://brunswickforest.com/events/intermediate-line-dance-4/2023-06-26/
LOCATION:The Leland Room
CATEGORIES:Resident Activities
ATTACH;FMTTYPE=image/png:https://brunswickforest.com/wpc/uploads/linedancer.png
ORGANIZER;CN="Helen Wisz":MAILTO:Helenwisz88@gmail.com
END:VEVENT
BEGIN:VEVENT
DTSTART;TZID=America/New_York:20230624T123000
DTEND;TZID=America/New_York:20230624T133000
DTSTAMP:20260425T072047
CREATED:20230616T130715Z
LAST-MODIFIED:20230616T130715Z
UID:10006305-1687609800-1687613400@brunswickforest.com
SUMMARY:Intermediate Line Dance
DESCRIPTION:The Leland Room \n@2 pm \nContact: Helen Wisz \nHelenwisz88@gmail.com
URL:https://brunswickforest.com/events/intermediate-line-dance-6/2023-06-24/
LOCATION:The Leland Room
CATEGORIES:Resident Activities
ATTACH;FMTTYPE=image/png:https://brunswickforest.com/wpc/uploads/linedancer.png
ORGANIZER;CN="Helen Wisz":MAILTO:Helenwisz88@gmail.com
END:VEVENT
BEGIN:VEVENT
DTSTART;TZID=America/New_York:20230623T123000
DTEND;TZID=America/New_York:20230623T133000
DTSTAMP:20260425T072047
CREATED:20230616T130310Z
LAST-MODIFIED:20230616T130310Z
UID:10006289-1687523400-1687527000@brunswickforest.com
SUMMARY:Intermediate Line Dance
DESCRIPTION:The Leland Room \n@2 pm \nContact: Helen Wisz \nHelenwisz88@gmail.com
URL:https://brunswickforest.com/events/intermediate-line-dance-5/2023-06-23/
LOCATION:The Leland Room
CATEGORIES:Resident Activities
ATTACH;FMTTYPE=image/png:https://brunswickforest.com/wpc/uploads/linedancer.png
ORGANIZER;CN="Helen Wisz":MAILTO:Helenwisz88@gmail.com
END:VEVENT
END:VCALENDAR