BEGIN:VCALENDAR
VERSION:2.0
PRODID:-//Brunswick Forest - ECPv6.15.20//NONSGML v1.0//EN
CALSCALE:GREGORIAN
METHOD:PUBLISH
X-ORIGINAL-URL:https://brunswickforest.com
X-WR-CALDESC:Events for Brunswick Forest
REFRESH-INTERVAL;VALUE=DURATION:PT1H
X-Robots-Tag:noindex
X-PUBLISHED-TTL:PT1H
BEGIN:VTIMEZONE
TZID:America/New_York
BEGIN:DAYLIGHT
TZOFFSETFROM:-0500
TZOFFSETTO:-0400
TZNAME:EDT
DTSTART:20250309T070000
END:DAYLIGHT
BEGIN:STANDARD
TZOFFSETFROM:-0400
TZOFFSETTO:-0500
TZNAME:EST
DTSTART:20251102T060000
END:STANDARD
BEGIN:DAYLIGHT
TZOFFSETFROM:-0500
TZOFFSETTO:-0400
TZNAME:EDT
DTSTART:20260308T070000
END:DAYLIGHT
BEGIN:STANDARD
TZOFFSETFROM:-0400
TZOFFSETTO:-0500
TZNAME:EST
DTSTART:20261101T060000
END:STANDARD
BEGIN:DAYLIGHT
TZOFFSETFROM:-0500
TZOFFSETTO:-0400
TZNAME:EDT
DTSTART:20270314T070000
END:DAYLIGHT
BEGIN:STANDARD
TZOFFSETFROM:-0400
TZOFFSETTO:-0500
TZNAME:EST
DTSTART:20271107T060000
END:STANDARD
END:VTIMEZONE
BEGIN:VEVENT
DTSTART;TZID=America/New_York:20260610T110000
DTEND;TZID=America/New_York:20260610T121500
DTSTAMP:20260423T032650
CREATED:20250207T140916Z
LAST-MODIFIED:20250207T140951Z
UID:10015033-1781089200-1781093700@brunswickforest.com
SUMMARY:Zumba
DESCRIPTION:Join us for Latin-based dancing creating a dynamic workout routine!
URL:https://brunswickforest.com/events/zumba/2026-06-10/
LOCATION:The Leland Room
CATEGORIES:Fitness and Wellness
ATTACH;FMTTYPE=image/png:https://brunswickforest.com/wpc/uploads/ZUMBA-1.png
END:VEVENT
BEGIN:VEVENT
DTSTART;TZID=America/New_York:20260611T111500
DTEND;TZID=America/New_York:20260611T121500
DTSTAMP:20260423T032650
CREATED:20231012T152457Z
LAST-MODIFIED:20231012T152457Z
UID:10012118-1781176500-1781180100@brunswickforest.com
SUMMARY:Beginner 2 Line Dance
DESCRIPTION:The Leland Room @11:15 \nContact: Lorrie & Steve Gregory \nwinddancerlg@aol.com
URL:https://brunswickforest.com/events/beginner-2-line-dance-3/2026-06-11/
LOCATION:The Leland Room
CATEGORIES:Resident Activities
ATTACH;FMTTYPE=image/png:https://brunswickforest.com/wpc/uploads/line-dancer.png
ORGANIZER;CN="Lorrie & Steve Gregory":MAILTO:winddancerlg@aol.com
END:VEVENT
BEGIN:VEVENT
DTSTART;TZID=America/New_York:20260616T141500
DTEND;TZID=America/New_York:20260616T151500
DTSTAMP:20260423T032650
CREATED:20231012T123630Z
LAST-MODIFIED:20231012T123630Z
UID:10008387-1781619300-1781622900@brunswickforest.com
SUMMARY:Intermediate Line Dancing with the Gregorys
DESCRIPTION:The Leland Room @ 2:15pm \nContact: Lorrie & Steve Gregory \nwinddancerlg@aol.com
URL:https://brunswickforest.com/events/intermediate-line-dancing-with-the-gregorys-3/2026-06-16/
LOCATION:The Leland Room
CATEGORIES:Resident Activities
ATTACH;FMTTYPE=image/png:https://brunswickforest.com/wpc/uploads/line-dancer.png
ORGANIZER;CN="Lorrie & Steve Gregory":MAILTO:winddancerlg@aol.com
END:VEVENT
BEGIN:VEVENT
DTSTART;TZID=America/New_York:20260617T110000
DTEND;TZID=America/New_York:20260617T121500
DTSTAMP:20260423T032650
CREATED:20250207T140916Z
LAST-MODIFIED:20250207T140951Z
UID:10015034-1781694000-1781698500@brunswickforest.com
SUMMARY:Zumba
DESCRIPTION:Join us for Latin-based dancing creating a dynamic workout routine!
URL:https://brunswickforest.com/events/zumba/2026-06-17/
LOCATION:The Leland Room
CATEGORIES:Fitness and Wellness
ATTACH;FMTTYPE=image/png:https://brunswickforest.com/wpc/uploads/ZUMBA-1.png
END:VEVENT
BEGIN:VEVENT
DTSTART;TZID=America/New_York:20260618T111500
DTEND;TZID=America/New_York:20260618T121500
DTSTAMP:20260423T032650
CREATED:20231012T152457Z
LAST-MODIFIED:20231012T152457Z
UID:10012119-1781781300-1781784900@brunswickforest.com
SUMMARY:Beginner 2 Line Dance
DESCRIPTION:The Leland Room @11:15 \nContact: Lorrie & Steve Gregory \nwinddancerlg@aol.com
URL:https://brunswickforest.com/events/beginner-2-line-dance-3/2026-06-18/
LOCATION:The Leland Room
CATEGORIES:Resident Activities
ATTACH;FMTTYPE=image/png:https://brunswickforest.com/wpc/uploads/line-dancer.png
ORGANIZER;CN="Lorrie & Steve Gregory":MAILTO:winddancerlg@aol.com
END:VEVENT
BEGIN:VEVENT
DTSTART;TZID=America/New_York:20260623T141500
DTEND;TZID=America/New_York:20260623T151500
DTSTAMP:20260423T032650
CREATED:20231012T123630Z
LAST-MODIFIED:20231012T123630Z
UID:10008388-1782224100-1782227700@brunswickforest.com
SUMMARY:Intermediate Line Dancing with the Gregorys
DESCRIPTION:The Leland Room @ 2:15pm \nContact: Lorrie & Steve Gregory \nwinddancerlg@aol.com
URL:https://brunswickforest.com/events/intermediate-line-dancing-with-the-gregorys-3/2026-06-23/
LOCATION:The Leland Room
CATEGORIES:Resident Activities
ATTACH;FMTTYPE=image/png:https://brunswickforest.com/wpc/uploads/line-dancer.png
ORGANIZER;CN="Lorrie & Steve Gregory":MAILTO:winddancerlg@aol.com
END:VEVENT
BEGIN:VEVENT
DTSTART;TZID=America/New_York:20260624T110000
DTEND;TZID=America/New_York:20260624T121500
DTSTAMP:20260423T032650
CREATED:20250207T140916Z
LAST-MODIFIED:20250207T140951Z
UID:10015035-1782298800-1782303300@brunswickforest.com
SUMMARY:Zumba
DESCRIPTION:Join us for Latin-based dancing creating a dynamic workout routine!
URL:https://brunswickforest.com/events/zumba/2026-06-24/
LOCATION:The Leland Room
CATEGORIES:Fitness and Wellness
ATTACH;FMTTYPE=image/png:https://brunswickforest.com/wpc/uploads/ZUMBA-1.png
END:VEVENT
BEGIN:VEVENT
DTSTART;TZID=America/New_York:20260625T111500
DTEND;TZID=America/New_York:20260625T121500
DTSTAMP:20260423T032650
CREATED:20231012T152457Z
LAST-MODIFIED:20231012T152457Z
UID:10012120-1782386100-1782389700@brunswickforest.com
SUMMARY:Beginner 2 Line Dance
DESCRIPTION:The Leland Room @11:15 \nContact: Lorrie & Steve Gregory \nwinddancerlg@aol.com
URL:https://brunswickforest.com/events/beginner-2-line-dance-3/2026-06-25/
LOCATION:The Leland Room
CATEGORIES:Resident Activities
ATTACH;FMTTYPE=image/png:https://brunswickforest.com/wpc/uploads/line-dancer.png
ORGANIZER;CN="Lorrie & Steve Gregory":MAILTO:winddancerlg@aol.com
END:VEVENT
BEGIN:VEVENT
DTSTART;TZID=America/New_York:20260630T141500
DTEND;TZID=America/New_York:20260630T151500
DTSTAMP:20260423T032650
CREATED:20231012T123630Z
LAST-MODIFIED:20231012T123630Z
UID:10008389-1782828900-1782832500@brunswickforest.com
SUMMARY:Intermediate Line Dancing with the Gregorys
DESCRIPTION:The Leland Room @ 2:15pm \nContact: Lorrie & Steve Gregory \nwinddancerlg@aol.com
URL:https://brunswickforest.com/events/intermediate-line-dancing-with-the-gregorys-3/2026-06-30/
LOCATION:The Leland Room
CATEGORIES:Resident Activities
ATTACH;FMTTYPE=image/png:https://brunswickforest.com/wpc/uploads/line-dancer.png
ORGANIZER;CN="Lorrie & Steve Gregory":MAILTO:winddancerlg@aol.com
END:VEVENT
BEGIN:VEVENT
DTSTART;TZID=America/New_York:20260701T110000
DTEND;TZID=America/New_York:20260701T121500
DTSTAMP:20260423T032650
CREATED:20250207T140916Z
LAST-MODIFIED:20250207T140951Z
UID:10015036-1782903600-1782908100@brunswickforest.com
SUMMARY:Zumba
DESCRIPTION:Join us for Latin-based dancing creating a dynamic workout routine!
URL:https://brunswickforest.com/events/zumba/2026-07-01/
LOCATION:The Leland Room
CATEGORIES:Fitness and Wellness
ATTACH;FMTTYPE=image/png:https://brunswickforest.com/wpc/uploads/ZUMBA-1.png
END:VEVENT
BEGIN:VEVENT
DTSTART;TZID=America/New_York:20260702T111500
DTEND;TZID=America/New_York:20260702T121500
DTSTAMP:20260423T032650
CREATED:20231012T152457Z
LAST-MODIFIED:20231012T152457Z
UID:10012121-1782990900-1782994500@brunswickforest.com
SUMMARY:Beginner 2 Line Dance
DESCRIPTION:The Leland Room @11:15 \nContact: Lorrie & Steve Gregory \nwinddancerlg@aol.com
URL:https://brunswickforest.com/events/beginner-2-line-dance-3/2026-07-02/
LOCATION:The Leland Room
CATEGORIES:Resident Activities
ATTACH;FMTTYPE=image/png:https://brunswickforest.com/wpc/uploads/line-dancer.png
ORGANIZER;CN="Lorrie & Steve Gregory":MAILTO:winddancerlg@aol.com
END:VEVENT
BEGIN:VEVENT
DTSTART;TZID=America/New_York:20260707T141500
DTEND;TZID=America/New_York:20260707T151500
DTSTAMP:20260423T032650
CREATED:20231012T123630Z
LAST-MODIFIED:20231012T123630Z
UID:10008390-1783433700-1783437300@brunswickforest.com
SUMMARY:Intermediate Line Dancing with the Gregorys
DESCRIPTION:The Leland Room @ 2:15pm \nContact: Lorrie & Steve Gregory \nwinddancerlg@aol.com
URL:https://brunswickforest.com/events/intermediate-line-dancing-with-the-gregorys-3/2026-07-07/
LOCATION:The Leland Room
CATEGORIES:Resident Activities
ATTACH;FMTTYPE=image/png:https://brunswickforest.com/wpc/uploads/line-dancer.png
ORGANIZER;CN="Lorrie & Steve Gregory":MAILTO:winddancerlg@aol.com
END:VEVENT
BEGIN:VEVENT
DTSTART;TZID=America/New_York:20260708T110000
DTEND;TZID=America/New_York:20260708T121500
DTSTAMP:20260423T032650
CREATED:20250207T140916Z
LAST-MODIFIED:20250207T140951Z
UID:10015037-1783508400-1783512900@brunswickforest.com
SUMMARY:Zumba
DESCRIPTION:Join us for Latin-based dancing creating a dynamic workout routine!
URL:https://brunswickforest.com/events/zumba/2026-07-08/
LOCATION:The Leland Room
CATEGORIES:Fitness and Wellness
ATTACH;FMTTYPE=image/png:https://brunswickforest.com/wpc/uploads/ZUMBA-1.png
END:VEVENT
BEGIN:VEVENT
DTSTART;TZID=America/New_York:20260709T111500
DTEND;TZID=America/New_York:20260709T121500
DTSTAMP:20260423T032650
CREATED:20231012T152457Z
LAST-MODIFIED:20231012T152457Z
UID:10012122-1783595700-1783599300@brunswickforest.com
SUMMARY:Beginner 2 Line Dance
DESCRIPTION:The Leland Room @11:15 \nContact: Lorrie & Steve Gregory \nwinddancerlg@aol.com
URL:https://brunswickforest.com/events/beginner-2-line-dance-3/2026-07-09/
LOCATION:The Leland Room
CATEGORIES:Resident Activities
ATTACH;FMTTYPE=image/png:https://brunswickforest.com/wpc/uploads/line-dancer.png
ORGANIZER;CN="Lorrie & Steve Gregory":MAILTO:winddancerlg@aol.com
END:VEVENT
BEGIN:VEVENT
DTSTART;TZID=America/New_York:20260714T141500
DTEND;TZID=America/New_York:20260714T151500
DTSTAMP:20260423T032650
CREATED:20231012T123630Z
LAST-MODIFIED:20231012T123630Z
UID:10008391-1784038500-1784042100@brunswickforest.com
SUMMARY:Intermediate Line Dancing with the Gregorys
DESCRIPTION:The Leland Room @ 2:15pm \nContact: Lorrie & Steve Gregory \nwinddancerlg@aol.com
URL:https://brunswickforest.com/events/intermediate-line-dancing-with-the-gregorys-3/2026-07-14/
LOCATION:The Leland Room
CATEGORIES:Resident Activities
ATTACH;FMTTYPE=image/png:https://brunswickforest.com/wpc/uploads/line-dancer.png
ORGANIZER;CN="Lorrie & Steve Gregory":MAILTO:winddancerlg@aol.com
END:VEVENT
BEGIN:VEVENT
DTSTART;TZID=America/New_York:20260715T110000
DTEND;TZID=America/New_York:20260715T121500
DTSTAMP:20260423T032650
CREATED:20250207T140916Z
LAST-MODIFIED:20250207T140951Z
UID:10015038-1784113200-1784117700@brunswickforest.com
SUMMARY:Zumba
DESCRIPTION:Join us for Latin-based dancing creating a dynamic workout routine!
URL:https://brunswickforest.com/events/zumba/2026-07-15/
LOCATION:The Leland Room
CATEGORIES:Fitness and Wellness
ATTACH;FMTTYPE=image/png:https://brunswickforest.com/wpc/uploads/ZUMBA-1.png
END:VEVENT
BEGIN:VEVENT
DTSTART;TZID=America/New_York:20260716T111500
DTEND;TZID=America/New_York:20260716T121500
DTSTAMP:20260423T032650
CREATED:20231012T152457Z
LAST-MODIFIED:20231012T152457Z
UID:10012123-1784200500-1784204100@brunswickforest.com
SUMMARY:Beginner 2 Line Dance
DESCRIPTION:The Leland Room @11:15 \nContact: Lorrie & Steve Gregory \nwinddancerlg@aol.com
URL:https://brunswickforest.com/events/beginner-2-line-dance-3/2026-07-16/
LOCATION:The Leland Room
CATEGORIES:Resident Activities
ATTACH;FMTTYPE=image/png:https://brunswickforest.com/wpc/uploads/line-dancer.png
ORGANIZER;CN="Lorrie & Steve Gregory":MAILTO:winddancerlg@aol.com
END:VEVENT
BEGIN:VEVENT
DTSTART;TZID=America/New_York:20260721T141500
DTEND;TZID=America/New_York:20260721T151500
DTSTAMP:20260423T032650
CREATED:20231012T123630Z
LAST-MODIFIED:20231012T123630Z
UID:10008392-1784643300-1784646900@brunswickforest.com
SUMMARY:Intermediate Line Dancing with the Gregorys
DESCRIPTION:The Leland Room @ 2:15pm \nContact: Lorrie & Steve Gregory \nwinddancerlg@aol.com
URL:https://brunswickforest.com/events/intermediate-line-dancing-with-the-gregorys-3/2026-07-21/
LOCATION:The Leland Room
CATEGORIES:Resident Activities
ATTACH;FMTTYPE=image/png:https://brunswickforest.com/wpc/uploads/line-dancer.png
ORGANIZER;CN="Lorrie & Steve Gregory":MAILTO:winddancerlg@aol.com
END:VEVENT
BEGIN:VEVENT
DTSTART;TZID=America/New_York:20260722T110000
DTEND;TZID=America/New_York:20260722T121500
DTSTAMP:20260423T032650
CREATED:20250207T140916Z
LAST-MODIFIED:20250207T140951Z
UID:10015039-1784718000-1784722500@brunswickforest.com
SUMMARY:Zumba
DESCRIPTION:Join us for Latin-based dancing creating a dynamic workout routine!
URL:https://brunswickforest.com/events/zumba/2026-07-22/
LOCATION:The Leland Room
CATEGORIES:Fitness and Wellness
ATTACH;FMTTYPE=image/png:https://brunswickforest.com/wpc/uploads/ZUMBA-1.png
END:VEVENT
BEGIN:VEVENT
DTSTART;TZID=America/New_York:20260723T111500
DTEND;TZID=America/New_York:20260723T121500
DTSTAMP:20260423T032650
CREATED:20231012T152457Z
LAST-MODIFIED:20231012T152457Z
UID:10012124-1784805300-1784808900@brunswickforest.com
SUMMARY:Beginner 2 Line Dance
DESCRIPTION:The Leland Room @11:15 \nContact: Lorrie & Steve Gregory \nwinddancerlg@aol.com
URL:https://brunswickforest.com/events/beginner-2-line-dance-3/2026-07-23/
LOCATION:The Leland Room
CATEGORIES:Resident Activities
ATTACH;FMTTYPE=image/png:https://brunswickforest.com/wpc/uploads/line-dancer.png
ORGANIZER;CN="Lorrie & Steve Gregory":MAILTO:winddancerlg@aol.com
END:VEVENT
BEGIN:VEVENT
DTSTART;TZID=America/New_York:20260728T141500
DTEND;TZID=America/New_York:20260728T151500
DTSTAMP:20260423T032650
CREATED:20231012T123630Z
LAST-MODIFIED:20231012T123630Z
UID:10008393-1785248100-1785251700@brunswickforest.com
SUMMARY:Intermediate Line Dancing with the Gregorys
DESCRIPTION:The Leland Room @ 2:15pm \nContact: Lorrie & Steve Gregory \nwinddancerlg@aol.com
URL:https://brunswickforest.com/events/intermediate-line-dancing-with-the-gregorys-3/2026-07-28/
LOCATION:The Leland Room
CATEGORIES:Resident Activities
ATTACH;FMTTYPE=image/png:https://brunswickforest.com/wpc/uploads/line-dancer.png
ORGANIZER;CN="Lorrie & Steve Gregory":MAILTO:winddancerlg@aol.com
END:VEVENT
BEGIN:VEVENT
DTSTART;TZID=America/New_York:20260729T110000
DTEND;TZID=America/New_York:20260729T121500
DTSTAMP:20260423T032650
CREATED:20250207T140916Z
LAST-MODIFIED:20250207T140951Z
UID:10015040-1785322800-1785327300@brunswickforest.com
SUMMARY:Zumba
DESCRIPTION:Join us for Latin-based dancing creating a dynamic workout routine!
URL:https://brunswickforest.com/events/zumba/2026-07-29/
LOCATION:The Leland Room
CATEGORIES:Fitness and Wellness
ATTACH;FMTTYPE=image/png:https://brunswickforest.com/wpc/uploads/ZUMBA-1.png
END:VEVENT
BEGIN:VEVENT
DTSTART;TZID=America/New_York:20260730T111500
DTEND;TZID=America/New_York:20260730T121500
DTSTAMP:20260423T032650
CREATED:20231012T152457Z
LAST-MODIFIED:20231012T152457Z
UID:10012125-1785410100-1785413700@brunswickforest.com
SUMMARY:Beginner 2 Line Dance
DESCRIPTION:The Leland Room @11:15 \nContact: Lorrie & Steve Gregory \nwinddancerlg@aol.com
URL:https://brunswickforest.com/events/beginner-2-line-dance-3/2026-07-30/
LOCATION:The Leland Room
CATEGORIES:Resident Activities
ATTACH;FMTTYPE=image/png:https://brunswickforest.com/wpc/uploads/line-dancer.png
ORGANIZER;CN="Lorrie & Steve Gregory":MAILTO:winddancerlg@aol.com
END:VEVENT
BEGIN:VEVENT
DTSTART;TZID=America/New_York:20260804T141500
DTEND;TZID=America/New_York:20260804T151500
DTSTAMP:20260423T032650
CREATED:20231012T123630Z
LAST-MODIFIED:20231012T123630Z
UID:10008394-1785852900-1785856500@brunswickforest.com
SUMMARY:Intermediate Line Dancing with the Gregorys
DESCRIPTION:The Leland Room @ 2:15pm \nContact: Lorrie & Steve Gregory \nwinddancerlg@aol.com
URL:https://brunswickforest.com/events/intermediate-line-dancing-with-the-gregorys-3/2026-08-04/
LOCATION:The Leland Room
CATEGORIES:Resident Activities
ATTACH;FMTTYPE=image/png:https://brunswickforest.com/wpc/uploads/line-dancer.png
ORGANIZER;CN="Lorrie & Steve Gregory":MAILTO:winddancerlg@aol.com
END:VEVENT
BEGIN:VEVENT
DTSTART;TZID=America/New_York:20260805T110000
DTEND;TZID=America/New_York:20260805T121500
DTSTAMP:20260423T032650
CREATED:20250207T140916Z
LAST-MODIFIED:20250207T140951Z
UID:10015041-1785927600-1785932100@brunswickforest.com
SUMMARY:Zumba
DESCRIPTION:Join us for Latin-based dancing creating a dynamic workout routine!
URL:https://brunswickforest.com/events/zumba/2026-08-05/
LOCATION:The Leland Room
CATEGORIES:Fitness and Wellness
ATTACH;FMTTYPE=image/png:https://brunswickforest.com/wpc/uploads/ZUMBA-1.png
END:VEVENT
BEGIN:VEVENT
DTSTART;TZID=America/New_York:20260806T111500
DTEND;TZID=America/New_York:20260806T121500
DTSTAMP:20260423T032650
CREATED:20231012T152457Z
LAST-MODIFIED:20231012T152457Z
UID:10012126-1786014900-1786018500@brunswickforest.com
SUMMARY:Beginner 2 Line Dance
DESCRIPTION:The Leland Room @11:15 \nContact: Lorrie & Steve Gregory \nwinddancerlg@aol.com
URL:https://brunswickforest.com/events/beginner-2-line-dance-3/2026-08-06/
LOCATION:The Leland Room
CATEGORIES:Resident Activities
ATTACH;FMTTYPE=image/png:https://brunswickforest.com/wpc/uploads/line-dancer.png
ORGANIZER;CN="Lorrie & Steve Gregory":MAILTO:winddancerlg@aol.com
END:VEVENT
BEGIN:VEVENT
DTSTART;TZID=America/New_York:20260811T141500
DTEND;TZID=America/New_York:20260811T151500
DTSTAMP:20260423T032650
CREATED:20231012T123630Z
LAST-MODIFIED:20231012T123630Z
UID:10008395-1786457700-1786461300@brunswickforest.com
SUMMARY:Intermediate Line Dancing with the Gregorys
DESCRIPTION:The Leland Room @ 2:15pm \nContact: Lorrie & Steve Gregory \nwinddancerlg@aol.com
URL:https://brunswickforest.com/events/intermediate-line-dancing-with-the-gregorys-3/2026-08-11/
LOCATION:The Leland Room
CATEGORIES:Resident Activities
ATTACH;FMTTYPE=image/png:https://brunswickforest.com/wpc/uploads/line-dancer.png
ORGANIZER;CN="Lorrie & Steve Gregory":MAILTO:winddancerlg@aol.com
END:VEVENT
BEGIN:VEVENT
DTSTART;TZID=America/New_York:20260812T110000
DTEND;TZID=America/New_York:20260812T121500
DTSTAMP:20260423T032650
CREATED:20250207T140916Z
LAST-MODIFIED:20250207T140951Z
UID:10015042-1786532400-1786536900@brunswickforest.com
SUMMARY:Zumba
DESCRIPTION:Join us for Latin-based dancing creating a dynamic workout routine!
URL:https://brunswickforest.com/events/zumba/2026-08-12/
LOCATION:The Leland Room
CATEGORIES:Fitness and Wellness
ATTACH;FMTTYPE=image/png:https://brunswickforest.com/wpc/uploads/ZUMBA-1.png
END:VEVENT
BEGIN:VEVENT
DTSTART;TZID=America/New_York:20260813T111500
DTEND;TZID=America/New_York:20260813T121500
DTSTAMP:20260423T032650
CREATED:20231012T152457Z
LAST-MODIFIED:20231012T152457Z
UID:10012127-1786619700-1786623300@brunswickforest.com
SUMMARY:Beginner 2 Line Dance
DESCRIPTION:The Leland Room @11:15 \nContact: Lorrie & Steve Gregory \nwinddancerlg@aol.com
URL:https://brunswickforest.com/events/beginner-2-line-dance-3/2026-08-13/
LOCATION:The Leland Room
CATEGORIES:Resident Activities
ATTACH;FMTTYPE=image/png:https://brunswickforest.com/wpc/uploads/line-dancer.png
ORGANIZER;CN="Lorrie & Steve Gregory":MAILTO:winddancerlg@aol.com
END:VEVENT
BEGIN:VEVENT
DTSTART;TZID=America/New_York:20260818T141500
DTEND;TZID=America/New_York:20260818T151500
DTSTAMP:20260423T032650
CREATED:20231012T123630Z
LAST-MODIFIED:20231012T123630Z
UID:10008396-1787062500-1787066100@brunswickforest.com
SUMMARY:Intermediate Line Dancing with the Gregorys
DESCRIPTION:The Leland Room @ 2:15pm \nContact: Lorrie & Steve Gregory \nwinddancerlg@aol.com
URL:https://brunswickforest.com/events/intermediate-line-dancing-with-the-gregorys-3/2026-08-18/
LOCATION:The Leland Room
CATEGORIES:Resident Activities
ATTACH;FMTTYPE=image/png:https://brunswickforest.com/wpc/uploads/line-dancer.png
ORGANIZER;CN="Lorrie & Steve Gregory":MAILTO:winddancerlg@aol.com
END:VEVENT
END:VCALENDAR