BEGIN:VCALENDAR
VERSION:2.0
PRODID:-//Brunswick Forest - ECPv6.15.20//NONSGML v1.0//EN
CALSCALE:GREGORIAN
METHOD:PUBLISH
X-ORIGINAL-URL:https://brunswickforest.com
X-WR-CALDESC:Events for Brunswick Forest
REFRESH-INTERVAL;VALUE=DURATION:PT1H
X-Robots-Tag:noindex
X-PUBLISHED-TTL:PT1H
BEGIN:VTIMEZONE
TZID:America/New_York
BEGIN:DAYLIGHT
TZOFFSETFROM:-0500
TZOFFSETTO:-0400
TZNAME:EDT
DTSTART:20240310T070000
END:DAYLIGHT
BEGIN:STANDARD
TZOFFSETFROM:-0400
TZOFFSETTO:-0500
TZNAME:EST
DTSTART:20241103T060000
END:STANDARD
BEGIN:DAYLIGHT
TZOFFSETFROM:-0500
TZOFFSETTO:-0400
TZNAME:EDT
DTSTART:20250309T070000
END:DAYLIGHT
BEGIN:STANDARD
TZOFFSETFROM:-0400
TZOFFSETTO:-0500
TZNAME:EST
DTSTART:20251102T060000
END:STANDARD
BEGIN:DAYLIGHT
TZOFFSETFROM:-0500
TZOFFSETTO:-0400
TZNAME:EDT
DTSTART:20260308T070000
END:DAYLIGHT
BEGIN:STANDARD
TZOFFSETFROM:-0400
TZOFFSETTO:-0500
TZNAME:EST
DTSTART:20261101T060000
END:STANDARD
END:VTIMEZONE
BEGIN:VEVENT
DTSTART;TZID=America/New_York:20250520T141500
DTEND;TZID=America/New_York:20250520T151500
DTSTAMP:20260422T153740
CREATED:20231012T123630Z
LAST-MODIFIED:20231012T123630Z
UID:10008331-1747750500-1747754100@brunswickforest.com
SUMMARY:Intermediate Line Dancing with the Gregorys
DESCRIPTION:The Leland Room @ 2:15pm \nContact: Lorrie & Steve Gregory \nwinddancerlg@aol.com
URL:https://brunswickforest.com/events/intermediate-line-dancing-with-the-gregorys-3/2025-05-20/
LOCATION:The Leland Room
CATEGORIES:Resident Activities
ATTACH;FMTTYPE=image/png:https://brunswickforest.com/wpc/uploads/line-dancer.png
ORGANIZER;CN="Lorrie & Steve Gregory":MAILTO:winddancerlg@aol.com
END:VEVENT
BEGIN:VEVENT
DTSTART;TZID=America/New_York:20250515T111500
DTEND;TZID=America/New_York:20250515T121500
DTSTAMP:20260422T153740
CREATED:20231012T152457Z
LAST-MODIFIED:20231012T152457Z
UID:10012062-1747307700-1747311300@brunswickforest.com
SUMMARY:Beginner 2 Line Dance
DESCRIPTION:The Leland Room @11:15 \nContact: Lorrie & Steve Gregory \nwinddancerlg@aol.com
URL:https://brunswickforest.com/events/beginner-2-line-dance-3/2025-05-15/
LOCATION:The Leland Room
CATEGORIES:Resident Activities
ATTACH;FMTTYPE=image/png:https://brunswickforest.com/wpc/uploads/line-dancer.png
ORGANIZER;CN="Lorrie & Steve Gregory":MAILTO:winddancerlg@aol.com
END:VEVENT
BEGIN:VEVENT
DTSTART;TZID=America/New_York:20250514T110000
DTEND;TZID=America/New_York:20250514T121500
DTSTAMP:20260422T153740
CREATED:20250207T140916Z
LAST-MODIFIED:20250207T140951Z
UID:10014977-1747220400-1747224900@brunswickforest.com
SUMMARY:Zumba
DESCRIPTION:Join us for Latin-based dancing creating a dynamic workout routine!
URL:https://brunswickforest.com/events/zumba/2025-05-14/
LOCATION:The Leland Room
CATEGORIES:Fitness and Wellness
ATTACH;FMTTYPE=image/png:https://brunswickforest.com/wpc/uploads/ZUMBA-1.png
END:VEVENT
BEGIN:VEVENT
DTSTART;TZID=America/New_York:20250513T141500
DTEND;TZID=America/New_York:20250513T151500
DTSTAMP:20260422T153740
CREATED:20231012T123630Z
LAST-MODIFIED:20231012T123630Z
UID:10008330-1747145700-1747149300@brunswickforest.com
SUMMARY:Intermediate Line Dancing with the Gregorys
DESCRIPTION:The Leland Room @ 2:15pm \nContact: Lorrie & Steve Gregory \nwinddancerlg@aol.com
URL:https://brunswickforest.com/events/intermediate-line-dancing-with-the-gregorys-3/2025-05-13/
LOCATION:The Leland Room
CATEGORIES:Resident Activities
ATTACH;FMTTYPE=image/png:https://brunswickforest.com/wpc/uploads/line-dancer.png
ORGANIZER;CN="Lorrie & Steve Gregory":MAILTO:winddancerlg@aol.com
END:VEVENT
BEGIN:VEVENT
DTSTART;TZID=America/New_York:20250508T111500
DTEND;TZID=America/New_York:20250508T121500
DTSTAMP:20260422T153740
CREATED:20231012T152457Z
LAST-MODIFIED:20231012T152457Z
UID:10012061-1746702900-1746706500@brunswickforest.com
SUMMARY:Beginner 2 Line Dance
DESCRIPTION:The Leland Room @11:15 \nContact: Lorrie & Steve Gregory \nwinddancerlg@aol.com
URL:https://brunswickforest.com/events/beginner-2-line-dance-3/2025-05-08/
LOCATION:The Leland Room
CATEGORIES:Resident Activities
ATTACH;FMTTYPE=image/png:https://brunswickforest.com/wpc/uploads/line-dancer.png
ORGANIZER;CN="Lorrie & Steve Gregory":MAILTO:winddancerlg@aol.com
END:VEVENT
BEGIN:VEVENT
DTSTART;TZID=America/New_York:20250507T110000
DTEND;TZID=America/New_York:20250507T121500
DTSTAMP:20260422T153740
CREATED:20250207T140916Z
LAST-MODIFIED:20250207T140951Z
UID:10014976-1746615600-1746620100@brunswickforest.com
SUMMARY:Zumba
DESCRIPTION:Join us for Latin-based dancing creating a dynamic workout routine!
URL:https://brunswickforest.com/events/zumba/2025-05-07/
LOCATION:The Leland Room
CATEGORIES:Fitness and Wellness
ATTACH;FMTTYPE=image/png:https://brunswickforest.com/wpc/uploads/ZUMBA-1.png
END:VEVENT
BEGIN:VEVENT
DTSTART;TZID=America/New_York:20250506T141500
DTEND;TZID=America/New_York:20250506T151500
DTSTAMP:20260422T153740
CREATED:20231012T123630Z
LAST-MODIFIED:20231012T123630Z
UID:10008329-1746540900-1746544500@brunswickforest.com
SUMMARY:Intermediate Line Dancing with the Gregorys
DESCRIPTION:The Leland Room @ 2:15pm \nContact: Lorrie & Steve Gregory \nwinddancerlg@aol.com
URL:https://brunswickforest.com/events/intermediate-line-dancing-with-the-gregorys-3/2025-05-06/
LOCATION:The Leland Room
CATEGORIES:Resident Activities
ATTACH;FMTTYPE=image/png:https://brunswickforest.com/wpc/uploads/line-dancer.png
ORGANIZER;CN="Lorrie & Steve Gregory":MAILTO:winddancerlg@aol.com
END:VEVENT
BEGIN:VEVENT
DTSTART;TZID=America/New_York:20250501T111500
DTEND;TZID=America/New_York:20250501T121500
DTSTAMP:20260422T153740
CREATED:20231012T152457Z
LAST-MODIFIED:20231012T152457Z
UID:10012060-1746098100-1746101700@brunswickforest.com
SUMMARY:Beginner 2 Line Dance
DESCRIPTION:The Leland Room @11:15 \nContact: Lorrie & Steve Gregory \nwinddancerlg@aol.com
URL:https://brunswickforest.com/events/beginner-2-line-dance-3/2025-05-01/
LOCATION:The Leland Room
CATEGORIES:Resident Activities
ATTACH;FMTTYPE=image/png:https://brunswickforest.com/wpc/uploads/line-dancer.png
ORGANIZER;CN="Lorrie & Steve Gregory":MAILTO:winddancerlg@aol.com
END:VEVENT
BEGIN:VEVENT
DTSTART;TZID=America/New_York:20250430T110000
DTEND;TZID=America/New_York:20250430T121500
DTSTAMP:20260422T153740
CREATED:20250207T140916Z
LAST-MODIFIED:20250207T140951Z
UID:10014975-1746010800-1746015300@brunswickforest.com
SUMMARY:Zumba
DESCRIPTION:Join us for Latin-based dancing creating a dynamic workout routine!
URL:https://brunswickforest.com/events/zumba/2025-04-30/
LOCATION:The Leland Room
CATEGORIES:Fitness and Wellness
ATTACH;FMTTYPE=image/png:https://brunswickforest.com/wpc/uploads/ZUMBA-1.png
END:VEVENT
BEGIN:VEVENT
DTSTART;TZID=America/New_York:20250429T141500
DTEND;TZID=America/New_York:20250429T151500
DTSTAMP:20260422T153740
CREATED:20231012T123630Z
LAST-MODIFIED:20231012T123630Z
UID:10008328-1745936100-1745939700@brunswickforest.com
SUMMARY:Intermediate Line Dancing with the Gregorys
DESCRIPTION:The Leland Room @ 2:15pm \nContact: Lorrie & Steve Gregory \nwinddancerlg@aol.com
URL:https://brunswickforest.com/events/intermediate-line-dancing-with-the-gregorys-3/2025-04-29/
LOCATION:The Leland Room
CATEGORIES:Resident Activities
ATTACH;FMTTYPE=image/png:https://brunswickforest.com/wpc/uploads/line-dancer.png
ORGANIZER;CN="Lorrie & Steve Gregory":MAILTO:winddancerlg@aol.com
END:VEVENT
BEGIN:VEVENT
DTSTART;TZID=America/New_York:20250424T111500
DTEND;TZID=America/New_York:20250424T121500
DTSTAMP:20260422T153740
CREATED:20231012T152457Z
LAST-MODIFIED:20231012T152457Z
UID:10012059-1745493300-1745496900@brunswickforest.com
SUMMARY:Beginner 2 Line Dance
DESCRIPTION:The Leland Room @11:15 \nContact: Lorrie & Steve Gregory \nwinddancerlg@aol.com
URL:https://brunswickforest.com/events/beginner-2-line-dance-3/2025-04-24/
LOCATION:The Leland Room
CATEGORIES:Resident Activities
ATTACH;FMTTYPE=image/png:https://brunswickforest.com/wpc/uploads/line-dancer.png
ORGANIZER;CN="Lorrie & Steve Gregory":MAILTO:winddancerlg@aol.com
END:VEVENT
BEGIN:VEVENT
DTSTART;TZID=America/New_York:20250423T110000
DTEND;TZID=America/New_York:20250423T121500
DTSTAMP:20260422T153740
CREATED:20250207T140916Z
LAST-MODIFIED:20250207T140951Z
UID:10014974-1745406000-1745410500@brunswickforest.com
SUMMARY:Zumba
DESCRIPTION:Join us for Latin-based dancing creating a dynamic workout routine!
URL:https://brunswickforest.com/events/zumba/2025-04-23/
LOCATION:The Leland Room
CATEGORIES:Fitness and Wellness
ATTACH;FMTTYPE=image/png:https://brunswickforest.com/wpc/uploads/ZUMBA-1.png
END:VEVENT
BEGIN:VEVENT
DTSTART;TZID=America/New_York:20250422T141500
DTEND;TZID=America/New_York:20250422T151500
DTSTAMP:20260422T153740
CREATED:20231012T123630Z
LAST-MODIFIED:20231012T123630Z
UID:10008327-1745331300-1745334900@brunswickforest.com
SUMMARY:Intermediate Line Dancing with the Gregorys
DESCRIPTION:The Leland Room @ 2:15pm \nContact: Lorrie & Steve Gregory \nwinddancerlg@aol.com
URL:https://brunswickforest.com/events/intermediate-line-dancing-with-the-gregorys-3/2025-04-22/
LOCATION:The Leland Room
CATEGORIES:Resident Activities
ATTACH;FMTTYPE=image/png:https://brunswickforest.com/wpc/uploads/line-dancer.png
ORGANIZER;CN="Lorrie & Steve Gregory":MAILTO:winddancerlg@aol.com
END:VEVENT
BEGIN:VEVENT
DTSTART;TZID=America/New_York:20250417T111500
DTEND;TZID=America/New_York:20250417T121500
DTSTAMP:20260422T153740
CREATED:20231012T152457Z
LAST-MODIFIED:20231012T152457Z
UID:10012058-1744888500-1744892100@brunswickforest.com
SUMMARY:Beginner 2 Line Dance
DESCRIPTION:The Leland Room @11:15 \nContact: Lorrie & Steve Gregory \nwinddancerlg@aol.com
URL:https://brunswickforest.com/events/beginner-2-line-dance-3/2025-04-17/
LOCATION:The Leland Room
CATEGORIES:Resident Activities
ATTACH;FMTTYPE=image/png:https://brunswickforest.com/wpc/uploads/line-dancer.png
ORGANIZER;CN="Lorrie & Steve Gregory":MAILTO:winddancerlg@aol.com
END:VEVENT
BEGIN:VEVENT
DTSTART;TZID=America/New_York:20250416T110000
DTEND;TZID=America/New_York:20250416T121500
DTSTAMP:20260422T153740
CREATED:20250207T140916Z
LAST-MODIFIED:20250207T140951Z
UID:10014973-1744801200-1744805700@brunswickforest.com
SUMMARY:Zumba
DESCRIPTION:Join us for Latin-based dancing creating a dynamic workout routine!
URL:https://brunswickforest.com/events/zumba/2025-04-16/
LOCATION:The Leland Room
CATEGORIES:Fitness and Wellness
ATTACH;FMTTYPE=image/png:https://brunswickforest.com/wpc/uploads/ZUMBA-1.png
END:VEVENT
BEGIN:VEVENT
DTSTART;TZID=America/New_York:20250415T141500
DTEND;TZID=America/New_York:20250415T151500
DTSTAMP:20260422T153740
CREATED:20231012T123630Z
LAST-MODIFIED:20231012T123630Z
UID:10008326-1744726500-1744730100@brunswickforest.com
SUMMARY:Intermediate Line Dancing with the Gregorys
DESCRIPTION:The Leland Room @ 2:15pm \nContact: Lorrie & Steve Gregory \nwinddancerlg@aol.com
URL:https://brunswickforest.com/events/intermediate-line-dancing-with-the-gregorys-3/2025-04-15/
LOCATION:The Leland Room
CATEGORIES:Resident Activities
ATTACH;FMTTYPE=image/png:https://brunswickforest.com/wpc/uploads/line-dancer.png
ORGANIZER;CN="Lorrie & Steve Gregory":MAILTO:winddancerlg@aol.com
END:VEVENT
BEGIN:VEVENT
DTSTART;TZID=America/New_York:20250413T100000
DTEND;TZID=America/New_York:20250413T150000
DTSTAMP:20260422T153740
CREATED:20250226T151132Z
LAST-MODIFIED:20250226T151132Z
UID:10015233-1744538400-1744556400@brunswickforest.com
SUMMARY:Spring Craft Fair
DESCRIPTION:2nd Annual’Leland Room \n2 days- different vendors each day!
URL:https://brunswickforest.com/events/spring-craft-fair/2025-04-13/
LOCATION:The Leland Room
CATEGORIES:Fitness and Wellness,Resident Activities
ATTACH;FMTTYPE=image/png:https://brunswickforest.com/wpc/uploads/Spring-Craft.png
ORGANIZER;CN="Jan Fear":MAILTO:fearknot10@gmail.com
END:VEVENT
BEGIN:VEVENT
DTSTART;TZID=America/New_York:20250410T111500
DTEND;TZID=America/New_York:20250410T121500
DTSTAMP:20260422T153740
CREATED:20231012T152457Z
LAST-MODIFIED:20231012T152457Z
UID:10012057-1744283700-1744287300@brunswickforest.com
SUMMARY:Beginner 2 Line Dance
DESCRIPTION:The Leland Room @11:15 \nContact: Lorrie & Steve Gregory \nwinddancerlg@aol.com
URL:https://brunswickforest.com/events/beginner-2-line-dance-3/2025-04-10/
LOCATION:The Leland Room
CATEGORIES:Resident Activities
ATTACH;FMTTYPE=image/png:https://brunswickforest.com/wpc/uploads/line-dancer.png
ORGANIZER;CN="Lorrie & Steve Gregory":MAILTO:winddancerlg@aol.com
END:VEVENT
BEGIN:VEVENT
DTSTART;TZID=America/New_York:20250409T110000
DTEND;TZID=America/New_York:20250409T121500
DTSTAMP:20260422T153740
CREATED:20250207T140916Z
LAST-MODIFIED:20250207T140951Z
UID:10014972-1744196400-1744200900@brunswickforest.com
SUMMARY:Zumba
DESCRIPTION:Join us for Latin-based dancing creating a dynamic workout routine!
URL:https://brunswickforest.com/events/zumba/2025-04-09/
LOCATION:The Leland Room
CATEGORIES:Fitness and Wellness
ATTACH;FMTTYPE=image/png:https://brunswickforest.com/wpc/uploads/ZUMBA-1.png
END:VEVENT
BEGIN:VEVENT
DTSTART;TZID=America/New_York:20250408T141500
DTEND;TZID=America/New_York:20250408T151500
DTSTAMP:20260422T153740
CREATED:20231012T123630Z
LAST-MODIFIED:20231012T123630Z
UID:10008325-1744121700-1744125300@brunswickforest.com
SUMMARY:Intermediate Line Dancing with the Gregorys
DESCRIPTION:The Leland Room @ 2:15pm \nContact: Lorrie & Steve Gregory \nwinddancerlg@aol.com
URL:https://brunswickforest.com/events/intermediate-line-dancing-with-the-gregorys-3/2025-04-08/
LOCATION:The Leland Room
CATEGORIES:Resident Activities
ATTACH;FMTTYPE=image/png:https://brunswickforest.com/wpc/uploads/line-dancer.png
ORGANIZER;CN="Lorrie & Steve Gregory":MAILTO:winddancerlg@aol.com
END:VEVENT
BEGIN:VEVENT
DTSTART;TZID=America/New_York:20250406T100000
DTEND;TZID=America/New_York:20250406T150000
DTSTAMP:20260422T153740
CREATED:20250226T151132Z
LAST-MODIFIED:20250226T151132Z
UID:10015232-1743933600-1743951600@brunswickforest.com
SUMMARY:Spring Craft Fair
DESCRIPTION:2nd Annual’Leland Room \n2 days- different vendors each day!
URL:https://brunswickforest.com/events/spring-craft-fair/2025-04-06/
LOCATION:The Leland Room
CATEGORIES:Fitness and Wellness,Resident Activities
ATTACH;FMTTYPE=image/png:https://brunswickforest.com/wpc/uploads/Spring-Craft.png
ORGANIZER;CN="Jan Fear":MAILTO:fearknot10@gmail.com
END:VEVENT
BEGIN:VEVENT
DTSTART;TZID=America/New_York:20250403T111500
DTEND;TZID=America/New_York:20250403T121500
DTSTAMP:20260422T153740
CREATED:20231012T152457Z
LAST-MODIFIED:20231012T152457Z
UID:10012056-1743678900-1743682500@brunswickforest.com
SUMMARY:Beginner 2 Line Dance
DESCRIPTION:The Leland Room @11:15 \nContact: Lorrie & Steve Gregory \nwinddancerlg@aol.com
URL:https://brunswickforest.com/events/beginner-2-line-dance-3/2025-04-03/
LOCATION:The Leland Room
CATEGORIES:Resident Activities
ATTACH;FMTTYPE=image/png:https://brunswickforest.com/wpc/uploads/line-dancer.png
ORGANIZER;CN="Lorrie & Steve Gregory":MAILTO:winddancerlg@aol.com
END:VEVENT
BEGIN:VEVENT
DTSTART;TZID=America/New_York:20250402T110000
DTEND;TZID=America/New_York:20250402T121500
DTSTAMP:20260422T153740
CREATED:20250207T140916Z
LAST-MODIFIED:20250207T140951Z
UID:10014971-1743591600-1743596100@brunswickforest.com
SUMMARY:Zumba
DESCRIPTION:Join us for Latin-based dancing creating a dynamic workout routine!
URL:https://brunswickforest.com/events/zumba/2025-04-02/
LOCATION:The Leland Room
CATEGORIES:Fitness and Wellness
ATTACH;FMTTYPE=image/png:https://brunswickforest.com/wpc/uploads/ZUMBA-1.png
END:VEVENT
BEGIN:VEVENT
DTSTART;TZID=America/New_York:20250401T141500
DTEND;TZID=America/New_York:20250401T151500
DTSTAMP:20260422T153740
CREATED:20231012T123630Z
LAST-MODIFIED:20231012T123630Z
UID:10008324-1743516900-1743520500@brunswickforest.com
SUMMARY:Intermediate Line Dancing with the Gregorys
DESCRIPTION:The Leland Room @ 2:15pm \nContact: Lorrie & Steve Gregory \nwinddancerlg@aol.com
URL:https://brunswickforest.com/events/intermediate-line-dancing-with-the-gregorys-3/2025-04-01/
LOCATION:The Leland Room
CATEGORIES:Resident Activities
ATTACH;FMTTYPE=image/png:https://brunswickforest.com/wpc/uploads/line-dancer.png
ORGANIZER;CN="Lorrie & Steve Gregory":MAILTO:winddancerlg@aol.com
END:VEVENT
BEGIN:VEVENT
DTSTART;TZID=America/New_York:20250327T111500
DTEND;TZID=America/New_York:20250327T121500
DTSTAMP:20260422T153740
CREATED:20231012T152457Z
LAST-MODIFIED:20231012T152457Z
UID:10012055-1743074100-1743077700@brunswickforest.com
SUMMARY:Beginner 2 Line Dance
DESCRIPTION:The Leland Room @11:15 \nContact: Lorrie & Steve Gregory \nwinddancerlg@aol.com
URL:https://brunswickforest.com/events/beginner-2-line-dance-3/2025-03-27/
LOCATION:The Leland Room
CATEGORIES:Resident Activities
ATTACH;FMTTYPE=image/png:https://brunswickforest.com/wpc/uploads/line-dancer.png
ORGANIZER;CN="Lorrie & Steve Gregory":MAILTO:winddancerlg@aol.com
END:VEVENT
BEGIN:VEVENT
DTSTART;TZID=America/New_York:20250326T110000
DTEND;TZID=America/New_York:20250326T121500
DTSTAMP:20260422T153740
CREATED:20250207T140916Z
LAST-MODIFIED:20250207T140951Z
UID:10014970-1742986800-1742991300@brunswickforest.com
SUMMARY:Zumba
DESCRIPTION:Join us for Latin-based dancing creating a dynamic workout routine!
URL:https://brunswickforest.com/events/zumba/2025-03-26/
LOCATION:The Leland Room
CATEGORIES:Fitness and Wellness
ATTACH;FMTTYPE=image/png:https://brunswickforest.com/wpc/uploads/ZUMBA-1.png
END:VEVENT
BEGIN:VEVENT
DTSTART;TZID=America/New_York:20250325T141500
DTEND;TZID=America/New_York:20250325T151500
DTSTAMP:20260422T153740
CREATED:20231012T123630Z
LAST-MODIFIED:20231012T123630Z
UID:10008323-1742912100-1742915700@brunswickforest.com
SUMMARY:Intermediate Line Dancing with the Gregorys
DESCRIPTION:The Leland Room @ 2:15pm \nContact: Lorrie & Steve Gregory \nwinddancerlg@aol.com
URL:https://brunswickforest.com/events/intermediate-line-dancing-with-the-gregorys-3/2025-03-25/
LOCATION:The Leland Room
CATEGORIES:Resident Activities
ATTACH;FMTTYPE=image/png:https://brunswickforest.com/wpc/uploads/line-dancer.png
ORGANIZER;CN="Lorrie & Steve Gregory":MAILTO:winddancerlg@aol.com
END:VEVENT
BEGIN:VEVENT
DTSTART;TZID=America/New_York:20250320T111500
DTEND;TZID=America/New_York:20250320T121500
DTSTAMP:20260422T153740
CREATED:20231012T152457Z
LAST-MODIFIED:20231012T152457Z
UID:10012054-1742469300-1742472900@brunswickforest.com
SUMMARY:Beginner 2 Line Dance
DESCRIPTION:The Leland Room @11:15 \nContact: Lorrie & Steve Gregory \nwinddancerlg@aol.com
URL:https://brunswickforest.com/events/beginner-2-line-dance-3/2025-03-20/
LOCATION:The Leland Room
CATEGORIES:Resident Activities
ATTACH;FMTTYPE=image/png:https://brunswickforest.com/wpc/uploads/line-dancer.png
ORGANIZER;CN="Lorrie & Steve Gregory":MAILTO:winddancerlg@aol.com
END:VEVENT
BEGIN:VEVENT
DTSTART;TZID=America/New_York:20250319T110000
DTEND;TZID=America/New_York:20250319T121500
DTSTAMP:20260422T153740
CREATED:20250207T140916Z
LAST-MODIFIED:20250207T140951Z
UID:10014969-1742382000-1742386500@brunswickforest.com
SUMMARY:Zumba
DESCRIPTION:Join us for Latin-based dancing creating a dynamic workout routine!
URL:https://brunswickforest.com/events/zumba/2025-03-19/
LOCATION:The Leland Room
CATEGORIES:Fitness and Wellness
ATTACH;FMTTYPE=image/png:https://brunswickforest.com/wpc/uploads/ZUMBA-1.png
END:VEVENT
BEGIN:VEVENT
DTSTART;TZID=America/New_York:20250318T141500
DTEND;TZID=America/New_York:20250318T151500
DTSTAMP:20260422T153740
CREATED:20231012T123630Z
LAST-MODIFIED:20231012T123630Z
UID:10008322-1742307300-1742310900@brunswickforest.com
SUMMARY:Intermediate Line Dancing with the Gregorys
DESCRIPTION:The Leland Room @ 2:15pm \nContact: Lorrie & Steve Gregory \nwinddancerlg@aol.com
URL:https://brunswickforest.com/events/intermediate-line-dancing-with-the-gregorys-3/2025-03-18/
LOCATION:The Leland Room
CATEGORIES:Resident Activities
ATTACH;FMTTYPE=image/png:https://brunswickforest.com/wpc/uploads/line-dancer.png
ORGANIZER;CN="Lorrie & Steve Gregory":MAILTO:winddancerlg@aol.com
END:VEVENT
END:VCALENDAR