BEGIN:VCALENDAR
VERSION:2.0
PRODID:-//Brunswick Forest - ECPv6.15.20//NONSGML v1.0//EN
CALSCALE:GREGORIAN
METHOD:PUBLISH
X-WR-CALNAME:Brunswick Forest
X-ORIGINAL-URL:https://brunswickforest.com
X-WR-CALDESC:Events for Brunswick Forest
REFRESH-INTERVAL;VALUE=DURATION:PT1H
X-Robots-Tag:noindex
X-PUBLISHED-TTL:PT1H
BEGIN:VTIMEZONE
TZID:America/New_York
BEGIN:DAYLIGHT
TZOFFSETFROM:-0500
TZOFFSETTO:-0400
TZNAME:EDT
DTSTART:20240310T070000
END:DAYLIGHT
BEGIN:STANDARD
TZOFFSETFROM:-0400
TZOFFSETTO:-0500
TZNAME:EST
DTSTART:20241103T060000
END:STANDARD
BEGIN:DAYLIGHT
TZOFFSETFROM:-0500
TZOFFSETTO:-0400
TZNAME:EDT
DTSTART:20250309T070000
END:DAYLIGHT
BEGIN:STANDARD
TZOFFSETFROM:-0400
TZOFFSETTO:-0500
TZNAME:EST
DTSTART:20251102T060000
END:STANDARD
BEGIN:DAYLIGHT
TZOFFSETFROM:-0500
TZOFFSETTO:-0400
TZNAME:EDT
DTSTART:20260308T070000
END:DAYLIGHT
BEGIN:STANDARD
TZOFFSETFROM:-0400
TZOFFSETTO:-0500
TZNAME:EST
DTSTART:20261101T060000
END:STANDARD
END:VTIMEZONE
BEGIN:VEVENT
DTSTART;TZID=America/New_York:20251001T110000
DTEND;TZID=America/New_York:20251001T121500
DTSTAMP:20260419T182512
CREATED:20250207T140916Z
LAST-MODIFIED:20250207T140951Z
UID:10014997-1759316400-1759320900@brunswickforest.com
SUMMARY:Zumba
DESCRIPTION:Join us for Latin-based dancing creating a dynamic workout routine!
URL:https://brunswickforest.com/events/zumba/2025-10-01/
LOCATION:The Leland Room
CATEGORIES:Fitness and Wellness
ATTACH;FMTTYPE=image/png:https://brunswickforest.com/wpc/uploads/ZUMBA-1.png
END:VEVENT
BEGIN:VEVENT
DTSTART;TZID=America/New_York:20250930T141500
DTEND;TZID=America/New_York:20250930T151500
DTSTAMP:20260419T182512
CREATED:20231012T123630Z
LAST-MODIFIED:20231012T123630Z
UID:10008350-1759241700-1759245300@brunswickforest.com
SUMMARY:Intermediate Line Dancing with the Gregorys
DESCRIPTION:The Leland Room @ 2:15pm \nContact: Lorrie & Steve Gregory \nwinddancerlg@aol.com
URL:https://brunswickforest.com/events/intermediate-line-dancing-with-the-gregorys-3/2025-09-30/
LOCATION:The Leland Room
CATEGORIES:Resident Activities
ATTACH;FMTTYPE=image/png:https://brunswickforest.com/wpc/uploads/line-dancer.png
ORGANIZER;CN="Lorrie & Steve Gregory":MAILTO:winddancerlg@aol.com
END:VEVENT
BEGIN:VEVENT
DTSTART;TZID=America/New_York:20250925T111500
DTEND;TZID=America/New_York:20250925T121500
DTSTAMP:20260419T182512
CREATED:20231012T152457Z
LAST-MODIFIED:20231012T152457Z
UID:10012081-1758798900-1758802500@brunswickforest.com
SUMMARY:Beginner 2 Line Dance
DESCRIPTION:The Leland Room @11:15 \nContact: Lorrie & Steve Gregory \nwinddancerlg@aol.com
URL:https://brunswickforest.com/events/beginner-2-line-dance-3/2025-09-25/
LOCATION:The Leland Room
CATEGORIES:Resident Activities
ATTACH;FMTTYPE=image/png:https://brunswickforest.com/wpc/uploads/line-dancer.png
ORGANIZER;CN="Lorrie & Steve Gregory":MAILTO:winddancerlg@aol.com
END:VEVENT
BEGIN:VEVENT
DTSTART;TZID=America/New_York:20250924T110000
DTEND;TZID=America/New_York:20250924T121500
DTSTAMP:20260419T182512
CREATED:20250207T140916Z
LAST-MODIFIED:20250207T140951Z
UID:10014996-1758711600-1758716100@brunswickforest.com
SUMMARY:Zumba
DESCRIPTION:Join us for Latin-based dancing creating a dynamic workout routine!
URL:https://brunswickforest.com/events/zumba/2025-09-24/
LOCATION:The Leland Room
CATEGORIES:Fitness and Wellness
ATTACH;FMTTYPE=image/png:https://brunswickforest.com/wpc/uploads/ZUMBA-1.png
END:VEVENT
BEGIN:VEVENT
DTSTART;TZID=America/New_York:20250923T141500
DTEND;TZID=America/New_York:20250923T151500
DTSTAMP:20260419T182512
CREATED:20231012T123630Z
LAST-MODIFIED:20231012T123630Z
UID:10008349-1758636900-1758640500@brunswickforest.com
SUMMARY:Intermediate Line Dancing with the Gregorys
DESCRIPTION:The Leland Room @ 2:15pm \nContact: Lorrie & Steve Gregory \nwinddancerlg@aol.com
URL:https://brunswickforest.com/events/intermediate-line-dancing-with-the-gregorys-3/2025-09-23/
LOCATION:The Leland Room
CATEGORIES:Resident Activities
ATTACH;FMTTYPE=image/png:https://brunswickforest.com/wpc/uploads/line-dancer.png
ORGANIZER;CN="Lorrie & Steve Gregory":MAILTO:winddancerlg@aol.com
END:VEVENT
BEGIN:VEVENT
DTSTART;TZID=America/New_York:20250918T111500
DTEND;TZID=America/New_York:20250918T121500
DTSTAMP:20260419T182512
CREATED:20231012T152457Z
LAST-MODIFIED:20231012T152457Z
UID:10012080-1758194100-1758197700@brunswickforest.com
SUMMARY:Beginner 2 Line Dance
DESCRIPTION:The Leland Room @11:15 \nContact: Lorrie & Steve Gregory \nwinddancerlg@aol.com
URL:https://brunswickforest.com/events/beginner-2-line-dance-3/2025-09-18/
LOCATION:The Leland Room
CATEGORIES:Resident Activities
ATTACH;FMTTYPE=image/png:https://brunswickforest.com/wpc/uploads/line-dancer.png
ORGANIZER;CN="Lorrie & Steve Gregory":MAILTO:winddancerlg@aol.com
END:VEVENT
BEGIN:VEVENT
DTSTART;TZID=America/New_York:20250917T110000
DTEND;TZID=America/New_York:20250917T121500
DTSTAMP:20260419T182512
CREATED:20250207T140916Z
LAST-MODIFIED:20250207T140951Z
UID:10014995-1758106800-1758111300@brunswickforest.com
SUMMARY:Zumba
DESCRIPTION:Join us for Latin-based dancing creating a dynamic workout routine!
URL:https://brunswickforest.com/events/zumba/2025-09-17/
LOCATION:The Leland Room
CATEGORIES:Fitness and Wellness
ATTACH;FMTTYPE=image/png:https://brunswickforest.com/wpc/uploads/ZUMBA-1.png
END:VEVENT
BEGIN:VEVENT
DTSTART;TZID=America/New_York:20250916T141500
DTEND;TZID=America/New_York:20250916T151500
DTSTAMP:20260419T182512
CREATED:20231012T123630Z
LAST-MODIFIED:20231012T123630Z
UID:10008348-1758032100-1758035700@brunswickforest.com
SUMMARY:Intermediate Line Dancing with the Gregorys
DESCRIPTION:The Leland Room @ 2:15pm \nContact: Lorrie & Steve Gregory \nwinddancerlg@aol.com
URL:https://brunswickforest.com/events/intermediate-line-dancing-with-the-gregorys-3/2025-09-16/
LOCATION:The Leland Room
CATEGORIES:Resident Activities
ATTACH;FMTTYPE=image/png:https://brunswickforest.com/wpc/uploads/line-dancer.png
ORGANIZER;CN="Lorrie & Steve Gregory":MAILTO:winddancerlg@aol.com
END:VEVENT
BEGIN:VEVENT
DTSTART;TZID=America/New_York:20250911T111500
DTEND;TZID=America/New_York:20250911T121500
DTSTAMP:20260419T182512
CREATED:20231012T152457Z
LAST-MODIFIED:20231012T152457Z
UID:10012079-1757589300-1757592900@brunswickforest.com
SUMMARY:Beginner 2 Line Dance
DESCRIPTION:The Leland Room @11:15 \nContact: Lorrie & Steve Gregory \nwinddancerlg@aol.com
URL:https://brunswickforest.com/events/beginner-2-line-dance-3/2025-09-11/
LOCATION:The Leland Room
CATEGORIES:Resident Activities
ATTACH;FMTTYPE=image/png:https://brunswickforest.com/wpc/uploads/line-dancer.png
ORGANIZER;CN="Lorrie & Steve Gregory":MAILTO:winddancerlg@aol.com
END:VEVENT
BEGIN:VEVENT
DTSTART;TZID=America/New_York:20250910T110000
DTEND;TZID=America/New_York:20250910T121500
DTSTAMP:20260419T182512
CREATED:20250207T140916Z
LAST-MODIFIED:20250207T140951Z
UID:10014994-1757502000-1757506500@brunswickforest.com
SUMMARY:Zumba
DESCRIPTION:Join us for Latin-based dancing creating a dynamic workout routine!
URL:https://brunswickforest.com/events/zumba/2025-09-10/
LOCATION:The Leland Room
CATEGORIES:Fitness and Wellness
ATTACH;FMTTYPE=image/png:https://brunswickforest.com/wpc/uploads/ZUMBA-1.png
END:VEVENT
BEGIN:VEVENT
DTSTART;TZID=America/New_York:20250909T141500
DTEND;TZID=America/New_York:20250909T151500
DTSTAMP:20260419T182512
CREATED:20231012T123630Z
LAST-MODIFIED:20231012T123630Z
UID:10008347-1757427300-1757430900@brunswickforest.com
SUMMARY:Intermediate Line Dancing with the Gregorys
DESCRIPTION:The Leland Room @ 2:15pm \nContact: Lorrie & Steve Gregory \nwinddancerlg@aol.com
URL:https://brunswickforest.com/events/intermediate-line-dancing-with-the-gregorys-3/2025-09-09/
LOCATION:The Leland Room
CATEGORIES:Resident Activities
ATTACH;FMTTYPE=image/png:https://brunswickforest.com/wpc/uploads/line-dancer.png
ORGANIZER;CN="Lorrie & Steve Gregory":MAILTO:winddancerlg@aol.com
END:VEVENT
BEGIN:VEVENT
DTSTART;TZID=America/New_York:20250904T111500
DTEND;TZID=America/New_York:20250904T121500
DTSTAMP:20260419T182512
CREATED:20231012T152457Z
LAST-MODIFIED:20231012T152457Z
UID:10012078-1756984500-1756988100@brunswickforest.com
SUMMARY:Beginner 2 Line Dance
DESCRIPTION:The Leland Room @11:15 \nContact: Lorrie & Steve Gregory \nwinddancerlg@aol.com
URL:https://brunswickforest.com/events/beginner-2-line-dance-3/2025-09-04/
LOCATION:The Leland Room
CATEGORIES:Resident Activities
ATTACH;FMTTYPE=image/png:https://brunswickforest.com/wpc/uploads/line-dancer.png
ORGANIZER;CN="Lorrie & Steve Gregory":MAILTO:winddancerlg@aol.com
END:VEVENT
BEGIN:VEVENT
DTSTART;TZID=America/New_York:20250903T110000
DTEND;TZID=America/New_York:20250903T121500
DTSTAMP:20260419T182512
CREATED:20250207T140916Z
LAST-MODIFIED:20250207T140951Z
UID:10014993-1756897200-1756901700@brunswickforest.com
SUMMARY:Zumba
DESCRIPTION:Join us for Latin-based dancing creating a dynamic workout routine!
URL:https://brunswickforest.com/events/zumba/2025-09-03/
LOCATION:The Leland Room
CATEGORIES:Fitness and Wellness
ATTACH;FMTTYPE=image/png:https://brunswickforest.com/wpc/uploads/ZUMBA-1.png
END:VEVENT
BEGIN:VEVENT
DTSTART;TZID=America/New_York:20250902T141500
DTEND;TZID=America/New_York:20250902T151500
DTSTAMP:20260419T182512
CREATED:20231012T123630Z
LAST-MODIFIED:20231012T123630Z
UID:10008346-1756822500-1756826100@brunswickforest.com
SUMMARY:Intermediate Line Dancing with the Gregorys
DESCRIPTION:The Leland Room @ 2:15pm \nContact: Lorrie & Steve Gregory \nwinddancerlg@aol.com
URL:https://brunswickforest.com/events/intermediate-line-dancing-with-the-gregorys-3/2025-09-02/
LOCATION:The Leland Room
CATEGORIES:Resident Activities
ATTACH;FMTTYPE=image/png:https://brunswickforest.com/wpc/uploads/line-dancer.png
ORGANIZER;CN="Lorrie & Steve Gregory":MAILTO:winddancerlg@aol.com
END:VEVENT
BEGIN:VEVENT
DTSTART;TZID=America/New_York:20250828T111500
DTEND;TZID=America/New_York:20250828T121500
DTSTAMP:20260419T182512
CREATED:20231012T152457Z
LAST-MODIFIED:20231012T152457Z
UID:10012077-1756379700-1756383300@brunswickforest.com
SUMMARY:Beginner 2 Line Dance
DESCRIPTION:The Leland Room @11:15 \nContact: Lorrie & Steve Gregory \nwinddancerlg@aol.com
URL:https://brunswickforest.com/events/beginner-2-line-dance-3/2025-08-28/
LOCATION:The Leland Room
CATEGORIES:Resident Activities
ATTACH;FMTTYPE=image/png:https://brunswickforest.com/wpc/uploads/line-dancer.png
ORGANIZER;CN="Lorrie & Steve Gregory":MAILTO:winddancerlg@aol.com
END:VEVENT
BEGIN:VEVENT
DTSTART;TZID=America/New_York:20250827T110000
DTEND;TZID=America/New_York:20250827T121500
DTSTAMP:20260419T182512
CREATED:20250207T140916Z
LAST-MODIFIED:20250207T140951Z
UID:10014992-1756292400-1756296900@brunswickforest.com
SUMMARY:Zumba
DESCRIPTION:Join us for Latin-based dancing creating a dynamic workout routine!
URL:https://brunswickforest.com/events/zumba/2025-08-27/
LOCATION:The Leland Room
CATEGORIES:Fitness and Wellness
ATTACH;FMTTYPE=image/png:https://brunswickforest.com/wpc/uploads/ZUMBA-1.png
END:VEVENT
BEGIN:VEVENT
DTSTART;TZID=America/New_York:20250826T141500
DTEND;TZID=America/New_York:20250826T151500
DTSTAMP:20260419T182512
CREATED:20231012T123630Z
LAST-MODIFIED:20231012T123630Z
UID:10008345-1756217700-1756221300@brunswickforest.com
SUMMARY:Intermediate Line Dancing with the Gregorys
DESCRIPTION:The Leland Room @ 2:15pm \nContact: Lorrie & Steve Gregory \nwinddancerlg@aol.com
URL:https://brunswickforest.com/events/intermediate-line-dancing-with-the-gregorys-3/2025-08-26/
LOCATION:The Leland Room
CATEGORIES:Resident Activities
ATTACH;FMTTYPE=image/png:https://brunswickforest.com/wpc/uploads/line-dancer.png
ORGANIZER;CN="Lorrie & Steve Gregory":MAILTO:winddancerlg@aol.com
END:VEVENT
BEGIN:VEVENT
DTSTART;TZID=America/New_York:20250821T111500
DTEND;TZID=America/New_York:20250821T121500
DTSTAMP:20260419T182512
CREATED:20231012T152457Z
LAST-MODIFIED:20231012T152457Z
UID:10012076-1755774900-1755778500@brunswickforest.com
SUMMARY:Beginner 2 Line Dance
DESCRIPTION:The Leland Room @11:15 \nContact: Lorrie & Steve Gregory \nwinddancerlg@aol.com
URL:https://brunswickforest.com/events/beginner-2-line-dance-3/2025-08-21/
LOCATION:The Leland Room
CATEGORIES:Resident Activities
ATTACH;FMTTYPE=image/png:https://brunswickforest.com/wpc/uploads/line-dancer.png
ORGANIZER;CN="Lorrie & Steve Gregory":MAILTO:winddancerlg@aol.com
END:VEVENT
BEGIN:VEVENT
DTSTART;TZID=America/New_York:20250820T110000
DTEND;TZID=America/New_York:20250820T121500
DTSTAMP:20260419T182512
CREATED:20250207T140916Z
LAST-MODIFIED:20250207T140951Z
UID:10014991-1755687600-1755692100@brunswickforest.com
SUMMARY:Zumba
DESCRIPTION:Join us for Latin-based dancing creating a dynamic workout routine!
URL:https://brunswickforest.com/events/zumba/2025-08-20/
LOCATION:The Leland Room
CATEGORIES:Fitness and Wellness
ATTACH;FMTTYPE=image/png:https://brunswickforest.com/wpc/uploads/ZUMBA-1.png
END:VEVENT
BEGIN:VEVENT
DTSTART;TZID=America/New_York:20250819T141500
DTEND;TZID=America/New_York:20250819T151500
DTSTAMP:20260419T182512
CREATED:20231012T123630Z
LAST-MODIFIED:20231012T123630Z
UID:10008344-1755612900-1755616500@brunswickforest.com
SUMMARY:Intermediate Line Dancing with the Gregorys
DESCRIPTION:The Leland Room @ 2:15pm \nContact: Lorrie & Steve Gregory \nwinddancerlg@aol.com
URL:https://brunswickforest.com/events/intermediate-line-dancing-with-the-gregorys-3/2025-08-19/
LOCATION:The Leland Room
CATEGORIES:Resident Activities
ATTACH;FMTTYPE=image/png:https://brunswickforest.com/wpc/uploads/line-dancer.png
ORGANIZER;CN="Lorrie & Steve Gregory":MAILTO:winddancerlg@aol.com
END:VEVENT
BEGIN:VEVENT
DTSTART;TZID=America/New_York:20250814T111500
DTEND;TZID=America/New_York:20250814T121500
DTSTAMP:20260419T182512
CREATED:20231012T152457Z
LAST-MODIFIED:20231012T152457Z
UID:10012075-1755170100-1755173700@brunswickforest.com
SUMMARY:Beginner 2 Line Dance
DESCRIPTION:The Leland Room @11:15 \nContact: Lorrie & Steve Gregory \nwinddancerlg@aol.com
URL:https://brunswickforest.com/events/beginner-2-line-dance-3/2025-08-14/
LOCATION:The Leland Room
CATEGORIES:Resident Activities
ATTACH;FMTTYPE=image/png:https://brunswickforest.com/wpc/uploads/line-dancer.png
ORGANIZER;CN="Lorrie & Steve Gregory":MAILTO:winddancerlg@aol.com
END:VEVENT
BEGIN:VEVENT
DTSTART;TZID=America/New_York:20250813T110000
DTEND;TZID=America/New_York:20250813T121500
DTSTAMP:20260419T182512
CREATED:20250207T140916Z
LAST-MODIFIED:20250207T140951Z
UID:10014990-1755082800-1755087300@brunswickforest.com
SUMMARY:Zumba
DESCRIPTION:Join us for Latin-based dancing creating a dynamic workout routine!
URL:https://brunswickforest.com/events/zumba/2025-08-13/
LOCATION:The Leland Room
CATEGORIES:Fitness and Wellness
ATTACH;FMTTYPE=image/png:https://brunswickforest.com/wpc/uploads/ZUMBA-1.png
END:VEVENT
BEGIN:VEVENT
DTSTART;TZID=America/New_York:20250812T141500
DTEND;TZID=America/New_York:20250812T151500
DTSTAMP:20260419T182512
CREATED:20231012T123630Z
LAST-MODIFIED:20231012T123630Z
UID:10008343-1755008100-1755011700@brunswickforest.com
SUMMARY:Intermediate Line Dancing with the Gregorys
DESCRIPTION:The Leland Room @ 2:15pm \nContact: Lorrie & Steve Gregory \nwinddancerlg@aol.com
URL:https://brunswickforest.com/events/intermediate-line-dancing-with-the-gregorys-3/2025-08-12/
LOCATION:The Leland Room
CATEGORIES:Resident Activities
ATTACH;FMTTYPE=image/png:https://brunswickforest.com/wpc/uploads/line-dancer.png
ORGANIZER;CN="Lorrie & Steve Gregory":MAILTO:winddancerlg@aol.com
END:VEVENT
BEGIN:VEVENT
DTSTART;TZID=America/New_York:20250807T111500
DTEND;TZID=America/New_York:20250807T121500
DTSTAMP:20260419T182512
CREATED:20231012T152457Z
LAST-MODIFIED:20231012T152457Z
UID:10012074-1754565300-1754568900@brunswickforest.com
SUMMARY:Beginner 2 Line Dance
DESCRIPTION:The Leland Room @11:15 \nContact: Lorrie & Steve Gregory \nwinddancerlg@aol.com
URL:https://brunswickforest.com/events/beginner-2-line-dance-3/2025-08-07/
LOCATION:The Leland Room
CATEGORIES:Resident Activities
ATTACH;FMTTYPE=image/png:https://brunswickforest.com/wpc/uploads/line-dancer.png
ORGANIZER;CN="Lorrie & Steve Gregory":MAILTO:winddancerlg@aol.com
END:VEVENT
BEGIN:VEVENT
DTSTART;TZID=America/New_York:20250806T110000
DTEND;TZID=America/New_York:20250806T121500
DTSTAMP:20260419T182512
CREATED:20250207T140916Z
LAST-MODIFIED:20250207T140951Z
UID:10014989-1754478000-1754482500@brunswickforest.com
SUMMARY:Zumba
DESCRIPTION:Join us for Latin-based dancing creating a dynamic workout routine!
URL:https://brunswickforest.com/events/zumba/2025-08-06/
LOCATION:The Leland Room
CATEGORIES:Fitness and Wellness
ATTACH;FMTTYPE=image/png:https://brunswickforest.com/wpc/uploads/ZUMBA-1.png
END:VEVENT
BEGIN:VEVENT
DTSTART;TZID=America/New_York:20250805T141500
DTEND;TZID=America/New_York:20250805T151500
DTSTAMP:20260419T182512
CREATED:20231012T123630Z
LAST-MODIFIED:20231012T123630Z
UID:10008342-1754403300-1754406900@brunswickforest.com
SUMMARY:Intermediate Line Dancing with the Gregorys
DESCRIPTION:The Leland Room @ 2:15pm \nContact: Lorrie & Steve Gregory \nwinddancerlg@aol.com
URL:https://brunswickforest.com/events/intermediate-line-dancing-with-the-gregorys-3/2025-08-05/
LOCATION:The Leland Room
CATEGORIES:Resident Activities
ATTACH;FMTTYPE=image/png:https://brunswickforest.com/wpc/uploads/line-dancer.png
ORGANIZER;CN="Lorrie & Steve Gregory":MAILTO:winddancerlg@aol.com
END:VEVENT
BEGIN:VEVENT
DTSTART;TZID=America/New_York:20250731T111500
DTEND;TZID=America/New_York:20250731T121500
DTSTAMP:20260419T182512
CREATED:20231012T152457Z
LAST-MODIFIED:20231012T152457Z
UID:10012073-1753960500-1753964100@brunswickforest.com
SUMMARY:Beginner 2 Line Dance
DESCRIPTION:The Leland Room @11:15 \nContact: Lorrie & Steve Gregory \nwinddancerlg@aol.com
URL:https://brunswickforest.com/events/beginner-2-line-dance-3/2025-07-31/
LOCATION:The Leland Room
CATEGORIES:Resident Activities
ATTACH;FMTTYPE=image/png:https://brunswickforest.com/wpc/uploads/line-dancer.png
ORGANIZER;CN="Lorrie & Steve Gregory":MAILTO:winddancerlg@aol.com
END:VEVENT
BEGIN:VEVENT
DTSTART;TZID=America/New_York:20250730T110000
DTEND;TZID=America/New_York:20250730T121500
DTSTAMP:20260419T182512
CREATED:20250207T140916Z
LAST-MODIFIED:20250207T140951Z
UID:10014988-1753873200-1753877700@brunswickforest.com
SUMMARY:Zumba
DESCRIPTION:Join us for Latin-based dancing creating a dynamic workout routine!
URL:https://brunswickforest.com/events/zumba/2025-07-30/
LOCATION:The Leland Room
CATEGORIES:Fitness and Wellness
ATTACH;FMTTYPE=image/png:https://brunswickforest.com/wpc/uploads/ZUMBA-1.png
END:VEVENT
BEGIN:VEVENT
DTSTART;TZID=America/New_York:20250729T141500
DTEND;TZID=America/New_York:20250729T151500
DTSTAMP:20260419T182512
CREATED:20231012T123630Z
LAST-MODIFIED:20231012T123630Z
UID:10008341-1753798500-1753802100@brunswickforest.com
SUMMARY:Intermediate Line Dancing with the Gregorys
DESCRIPTION:The Leland Room @ 2:15pm \nContact: Lorrie & Steve Gregory \nwinddancerlg@aol.com
URL:https://brunswickforest.com/events/intermediate-line-dancing-with-the-gregorys-3/2025-07-29/
LOCATION:The Leland Room
CATEGORIES:Resident Activities
ATTACH;FMTTYPE=image/png:https://brunswickforest.com/wpc/uploads/line-dancer.png
ORGANIZER;CN="Lorrie & Steve Gregory":MAILTO:winddancerlg@aol.com
END:VEVENT
BEGIN:VEVENT
DTSTART;TZID=America/New_York:20250724T111500
DTEND;TZID=America/New_York:20250724T121500
DTSTAMP:20260419T182512
CREATED:20231012T152457Z
LAST-MODIFIED:20231012T152457Z
UID:10012072-1753355700-1753359300@brunswickforest.com
SUMMARY:Beginner 2 Line Dance
DESCRIPTION:The Leland Room @11:15 \nContact: Lorrie & Steve Gregory \nwinddancerlg@aol.com
URL:https://brunswickforest.com/events/beginner-2-line-dance-3/2025-07-24/
LOCATION:The Leland Room
CATEGORIES:Resident Activities
ATTACH;FMTTYPE=image/png:https://brunswickforest.com/wpc/uploads/line-dancer.png
ORGANIZER;CN="Lorrie & Steve Gregory":MAILTO:winddancerlg@aol.com
END:VEVENT
END:VCALENDAR