BEGIN:VCALENDAR
VERSION:2.0
PRODID:-//Brunswick Forest - ECPv6.15.20//NONSGML v1.0//EN
CALSCALE:GREGORIAN
METHOD:PUBLISH
X-WR-CALNAME:Brunswick Forest
X-ORIGINAL-URL:https://brunswickforest.com
X-WR-CALDESC:Events for Brunswick Forest
REFRESH-INTERVAL;VALUE=DURATION:PT1H
X-Robots-Tag:noindex
X-PUBLISHED-TTL:PT1H
BEGIN:VTIMEZONE
TZID:America/New_York
BEGIN:DAYLIGHT
TZOFFSETFROM:-0500
TZOFFSETTO:-0400
TZNAME:EDT
DTSTART:20250309T070000
END:DAYLIGHT
BEGIN:STANDARD
TZOFFSETFROM:-0400
TZOFFSETTO:-0500
TZNAME:EST
DTSTART:20251102T060000
END:STANDARD
BEGIN:DAYLIGHT
TZOFFSETFROM:-0500
TZOFFSETTO:-0400
TZNAME:EDT
DTSTART:20260308T070000
END:DAYLIGHT
BEGIN:STANDARD
TZOFFSETFROM:-0400
TZOFFSETTO:-0500
TZNAME:EST
DTSTART:20261101T060000
END:STANDARD
BEGIN:DAYLIGHT
TZOFFSETFROM:-0500
TZOFFSETTO:-0400
TZNAME:EDT
DTSTART:20270314T070000
END:DAYLIGHT
BEGIN:STANDARD
TZOFFSETFROM:-0400
TZOFFSETTO:-0500
TZNAME:EST
DTSTART:20271107T060000
END:STANDARD
END:VTIMEZONE
BEGIN:VEVENT
DTSTART;TZID=America/New_York:20260924T111500
DTEND;TZID=America/New_York:20260924T121500
DTSTAMP:20260424T002629
CREATED:20231012T152457Z
LAST-MODIFIED:20231012T152457Z
UID:10012133-1790248500-1790252100@brunswickforest.com
SUMMARY:Beginner 2 Line Dance
DESCRIPTION:The Leland Room @11:15 \nContact: Lorrie & Steve Gregory \nwinddancerlg@aol.com
URL:https://brunswickforest.com/events/beginner-2-line-dance-3/2026-09-24/
LOCATION:The Leland Room
CATEGORIES:Resident Activities
ATTACH;FMTTYPE=image/png:https://brunswickforest.com/wpc/uploads/line-dancer.png
ORGANIZER;CN="Lorrie & Steve Gregory":MAILTO:winddancerlg@aol.com
END:VEVENT
BEGIN:VEVENT
DTSTART;TZID=America/New_York:20260929T141500
DTEND;TZID=America/New_York:20260929T151500
DTSTAMP:20260424T002629
CREATED:20231012T123630Z
LAST-MODIFIED:20231012T123630Z
UID:10008402-1790691300-1790694900@brunswickforest.com
SUMMARY:Intermediate Line Dancing with the Gregorys
DESCRIPTION:The Leland Room @ 2:15pm \nContact: Lorrie & Steve Gregory \nwinddancerlg@aol.com
URL:https://brunswickforest.com/events/intermediate-line-dancing-with-the-gregorys-3/2026-09-29/
LOCATION:The Leland Room
CATEGORIES:Resident Activities
ATTACH;FMTTYPE=image/png:https://brunswickforest.com/wpc/uploads/line-dancer.png
ORGANIZER;CN="Lorrie & Steve Gregory":MAILTO:winddancerlg@aol.com
END:VEVENT
BEGIN:VEVENT
DTSTART;TZID=America/New_York:20260930T110000
DTEND;TZID=America/New_York:20260930T121500
DTSTAMP:20260424T002629
CREATED:20250207T140916Z
LAST-MODIFIED:20250207T140951Z
UID:10015049-1790766000-1790770500@brunswickforest.com
SUMMARY:Zumba
DESCRIPTION:Join us for Latin-based dancing creating a dynamic workout routine!
URL:https://brunswickforest.com/events/zumba/2026-09-30/
LOCATION:The Leland Room
CATEGORIES:Fitness and Wellness
ATTACH;FMTTYPE=image/png:https://brunswickforest.com/wpc/uploads/ZUMBA-1.png
END:VEVENT
BEGIN:VEVENT
DTSTART;TZID=America/New_York:20261001T111500
DTEND;TZID=America/New_York:20261001T121500
DTSTAMP:20260424T002629
CREATED:20231012T152457Z
LAST-MODIFIED:20231012T152457Z
UID:10012134-1790853300-1790856900@brunswickforest.com
SUMMARY:Beginner 2 Line Dance
DESCRIPTION:The Leland Room @11:15 \nContact: Lorrie & Steve Gregory \nwinddancerlg@aol.com
URL:https://brunswickforest.com/events/beginner-2-line-dance-3/2026-10-01/
LOCATION:The Leland Room
CATEGORIES:Resident Activities
ATTACH;FMTTYPE=image/png:https://brunswickforest.com/wpc/uploads/line-dancer.png
ORGANIZER;CN="Lorrie & Steve Gregory":MAILTO:winddancerlg@aol.com
END:VEVENT
BEGIN:VEVENT
DTSTART;TZID=America/New_York:20261006T141500
DTEND;TZID=America/New_York:20261006T151500
DTSTAMP:20260424T002629
CREATED:20231012T123630Z
LAST-MODIFIED:20231012T123630Z
UID:10008403-1791296100-1791299700@brunswickforest.com
SUMMARY:Intermediate Line Dancing with the Gregorys
DESCRIPTION:The Leland Room @ 2:15pm \nContact: Lorrie & Steve Gregory \nwinddancerlg@aol.com
URL:https://brunswickforest.com/events/intermediate-line-dancing-with-the-gregorys-3/2026-10-06/
LOCATION:The Leland Room
CATEGORIES:Resident Activities
ATTACH;FMTTYPE=image/png:https://brunswickforest.com/wpc/uploads/line-dancer.png
ORGANIZER;CN="Lorrie & Steve Gregory":MAILTO:winddancerlg@aol.com
END:VEVENT
BEGIN:VEVENT
DTSTART;TZID=America/New_York:20261007T110000
DTEND;TZID=America/New_York:20261007T121500
DTSTAMP:20260424T002629
CREATED:20250207T140916Z
LAST-MODIFIED:20250207T140951Z
UID:10015050-1791370800-1791375300@brunswickforest.com
SUMMARY:Zumba
DESCRIPTION:Join us for Latin-based dancing creating a dynamic workout routine!
URL:https://brunswickforest.com/events/zumba/2026-10-07/
LOCATION:The Leland Room
CATEGORIES:Fitness and Wellness
ATTACH;FMTTYPE=image/png:https://brunswickforest.com/wpc/uploads/ZUMBA-1.png
END:VEVENT
BEGIN:VEVENT
DTSTART;TZID=America/New_York:20261008T111500
DTEND;TZID=America/New_York:20261008T121500
DTSTAMP:20260424T002629
CREATED:20231012T152457Z
LAST-MODIFIED:20231012T152457Z
UID:10012135-1791458100-1791461700@brunswickforest.com
SUMMARY:Beginner 2 Line Dance
DESCRIPTION:The Leland Room @11:15 \nContact: Lorrie & Steve Gregory \nwinddancerlg@aol.com
URL:https://brunswickforest.com/events/beginner-2-line-dance-3/2026-10-08/
LOCATION:The Leland Room
CATEGORIES:Resident Activities
ATTACH;FMTTYPE=image/png:https://brunswickforest.com/wpc/uploads/line-dancer.png
ORGANIZER;CN="Lorrie & Steve Gregory":MAILTO:winddancerlg@aol.com
END:VEVENT
BEGIN:VEVENT
DTSTART;TZID=America/New_York:20261013T141500
DTEND;TZID=America/New_York:20261013T151500
DTSTAMP:20260424T002629
CREATED:20231012T123630Z
LAST-MODIFIED:20231012T123630Z
UID:10008404-1791900900-1791904500@brunswickforest.com
SUMMARY:Intermediate Line Dancing with the Gregorys
DESCRIPTION:The Leland Room @ 2:15pm \nContact: Lorrie & Steve Gregory \nwinddancerlg@aol.com
URL:https://brunswickforest.com/events/intermediate-line-dancing-with-the-gregorys-3/2026-10-13/
LOCATION:The Leland Room
CATEGORIES:Resident Activities
ATTACH;FMTTYPE=image/png:https://brunswickforest.com/wpc/uploads/line-dancer.png
ORGANIZER;CN="Lorrie & Steve Gregory":MAILTO:winddancerlg@aol.com
END:VEVENT
BEGIN:VEVENT
DTSTART;TZID=America/New_York:20261014T110000
DTEND;TZID=America/New_York:20261014T121500
DTSTAMP:20260424T002629
CREATED:20250207T140916Z
LAST-MODIFIED:20250207T140951Z
UID:10015051-1791975600-1791980100@brunswickforest.com
SUMMARY:Zumba
DESCRIPTION:Join us for Latin-based dancing creating a dynamic workout routine!
URL:https://brunswickforest.com/events/zumba/2026-10-14/
LOCATION:The Leland Room
CATEGORIES:Fitness and Wellness
ATTACH;FMTTYPE=image/png:https://brunswickforest.com/wpc/uploads/ZUMBA-1.png
END:VEVENT
BEGIN:VEVENT
DTSTART;TZID=America/New_York:20261015T111500
DTEND;TZID=America/New_York:20261015T121500
DTSTAMP:20260424T002629
CREATED:20231012T152457Z
LAST-MODIFIED:20231012T152457Z
UID:10012136-1792062900-1792066500@brunswickforest.com
SUMMARY:Beginner 2 Line Dance
DESCRIPTION:The Leland Room @11:15 \nContact: Lorrie & Steve Gregory \nwinddancerlg@aol.com
URL:https://brunswickforest.com/events/beginner-2-line-dance-3/2026-10-15/
LOCATION:The Leland Room
CATEGORIES:Resident Activities
ATTACH;FMTTYPE=image/png:https://brunswickforest.com/wpc/uploads/line-dancer.png
ORGANIZER;CN="Lorrie & Steve Gregory":MAILTO:winddancerlg@aol.com
END:VEVENT
BEGIN:VEVENT
DTSTART;TZID=America/New_York:20261020T141500
DTEND;TZID=America/New_York:20261020T151500
DTSTAMP:20260424T002629
CREATED:20231012T123630Z
LAST-MODIFIED:20231012T123630Z
UID:10008405-1792505700-1792509300@brunswickforest.com
SUMMARY:Intermediate Line Dancing with the Gregorys
DESCRIPTION:The Leland Room @ 2:15pm \nContact: Lorrie & Steve Gregory \nwinddancerlg@aol.com
URL:https://brunswickforest.com/events/intermediate-line-dancing-with-the-gregorys-3/2026-10-20/
LOCATION:The Leland Room
CATEGORIES:Resident Activities
ATTACH;FMTTYPE=image/png:https://brunswickforest.com/wpc/uploads/line-dancer.png
ORGANIZER;CN="Lorrie & Steve Gregory":MAILTO:winddancerlg@aol.com
END:VEVENT
BEGIN:VEVENT
DTSTART;TZID=America/New_York:20261021T110000
DTEND;TZID=America/New_York:20261021T121500
DTSTAMP:20260424T002629
CREATED:20250207T140916Z
LAST-MODIFIED:20250207T140951Z
UID:10015052-1792580400-1792584900@brunswickforest.com
SUMMARY:Zumba
DESCRIPTION:Join us for Latin-based dancing creating a dynamic workout routine!
URL:https://brunswickforest.com/events/zumba/2026-10-21/
LOCATION:The Leland Room
CATEGORIES:Fitness and Wellness
ATTACH;FMTTYPE=image/png:https://brunswickforest.com/wpc/uploads/ZUMBA-1.png
END:VEVENT
BEGIN:VEVENT
DTSTART;TZID=America/New_York:20261022T111500
DTEND;TZID=America/New_York:20261022T121500
DTSTAMP:20260424T002629
CREATED:20231012T152457Z
LAST-MODIFIED:20231012T152457Z
UID:10012137-1792667700-1792671300@brunswickforest.com
SUMMARY:Beginner 2 Line Dance
DESCRIPTION:The Leland Room @11:15 \nContact: Lorrie & Steve Gregory \nwinddancerlg@aol.com
URL:https://brunswickforest.com/events/beginner-2-line-dance-3/2026-10-22/
LOCATION:The Leland Room
CATEGORIES:Resident Activities
ATTACH;FMTTYPE=image/png:https://brunswickforest.com/wpc/uploads/line-dancer.png
ORGANIZER;CN="Lorrie & Steve Gregory":MAILTO:winddancerlg@aol.com
END:VEVENT
BEGIN:VEVENT
DTSTART;TZID=America/New_York:20261027T141500
DTEND;TZID=America/New_York:20261027T151500
DTSTAMP:20260424T002629
CREATED:20231012T123630Z
LAST-MODIFIED:20231012T123630Z
UID:10008406-1793110500-1793114100@brunswickforest.com
SUMMARY:Intermediate Line Dancing with the Gregorys
DESCRIPTION:The Leland Room @ 2:15pm \nContact: Lorrie & Steve Gregory \nwinddancerlg@aol.com
URL:https://brunswickforest.com/events/intermediate-line-dancing-with-the-gregorys-3/2026-10-27/
LOCATION:The Leland Room
CATEGORIES:Resident Activities
ATTACH;FMTTYPE=image/png:https://brunswickforest.com/wpc/uploads/line-dancer.png
ORGANIZER;CN="Lorrie & Steve Gregory":MAILTO:winddancerlg@aol.com
END:VEVENT
BEGIN:VEVENT
DTSTART;TZID=America/New_York:20261028T110000
DTEND;TZID=America/New_York:20261028T121500
DTSTAMP:20260424T002629
CREATED:20250207T140916Z
LAST-MODIFIED:20250207T140951Z
UID:10015053-1793185200-1793189700@brunswickforest.com
SUMMARY:Zumba
DESCRIPTION:Join us for Latin-based dancing creating a dynamic workout routine!
URL:https://brunswickforest.com/events/zumba/2026-10-28/
LOCATION:The Leland Room
CATEGORIES:Fitness and Wellness
ATTACH;FMTTYPE=image/png:https://brunswickforest.com/wpc/uploads/ZUMBA-1.png
END:VEVENT
BEGIN:VEVENT
DTSTART;TZID=America/New_York:20261029T111500
DTEND;TZID=America/New_York:20261029T121500
DTSTAMP:20260424T002629
CREATED:20231012T152457Z
LAST-MODIFIED:20231012T152457Z
UID:10012138-1793272500-1793276100@brunswickforest.com
SUMMARY:Beginner 2 Line Dance
DESCRIPTION:The Leland Room @11:15 \nContact: Lorrie & Steve Gregory \nwinddancerlg@aol.com
URL:https://brunswickforest.com/events/beginner-2-line-dance-3/2026-10-29/
LOCATION:The Leland Room
CATEGORIES:Resident Activities
ATTACH;FMTTYPE=image/png:https://brunswickforest.com/wpc/uploads/line-dancer.png
ORGANIZER;CN="Lorrie & Steve Gregory":MAILTO:winddancerlg@aol.com
END:VEVENT
BEGIN:VEVENT
DTSTART;TZID=America/New_York:20261103T141500
DTEND;TZID=America/New_York:20261103T151500
DTSTAMP:20260424T002629
CREATED:20231012T123630Z
LAST-MODIFIED:20231012T123630Z
UID:10008407-1793715300-1793718900@brunswickforest.com
SUMMARY:Intermediate Line Dancing with the Gregorys
DESCRIPTION:The Leland Room @ 2:15pm \nContact: Lorrie & Steve Gregory \nwinddancerlg@aol.com
URL:https://brunswickforest.com/events/intermediate-line-dancing-with-the-gregorys-3/2026-11-03/
LOCATION:The Leland Room
CATEGORIES:Resident Activities
ATTACH;FMTTYPE=image/png:https://brunswickforest.com/wpc/uploads/line-dancer.png
ORGANIZER;CN="Lorrie & Steve Gregory":MAILTO:winddancerlg@aol.com
END:VEVENT
BEGIN:VEVENT
DTSTART;TZID=America/New_York:20261104T110000
DTEND;TZID=America/New_York:20261104T121500
DTSTAMP:20260424T002629
CREATED:20250207T140916Z
LAST-MODIFIED:20250207T140951Z
UID:10015054-1793790000-1793794500@brunswickforest.com
SUMMARY:Zumba
DESCRIPTION:Join us for Latin-based dancing creating a dynamic workout routine!
URL:https://brunswickforest.com/events/zumba/2026-11-04/
LOCATION:The Leland Room
CATEGORIES:Fitness and Wellness
ATTACH;FMTTYPE=image/png:https://brunswickforest.com/wpc/uploads/ZUMBA-1.png
END:VEVENT
BEGIN:VEVENT
DTSTART;TZID=America/New_York:20261105T111500
DTEND;TZID=America/New_York:20261105T121500
DTSTAMP:20260424T002629
CREATED:20231012T152457Z
LAST-MODIFIED:20231012T152457Z
UID:10012139-1793877300-1793880900@brunswickforest.com
SUMMARY:Beginner 2 Line Dance
DESCRIPTION:The Leland Room @11:15 \nContact: Lorrie & Steve Gregory \nwinddancerlg@aol.com
URL:https://brunswickforest.com/events/beginner-2-line-dance-3/2026-11-05/
LOCATION:The Leland Room
CATEGORIES:Resident Activities
ATTACH;FMTTYPE=image/png:https://brunswickforest.com/wpc/uploads/line-dancer.png
ORGANIZER;CN="Lorrie & Steve Gregory":MAILTO:winddancerlg@aol.com
END:VEVENT
BEGIN:VEVENT
DTSTART;TZID=America/New_York:20261110T141500
DTEND;TZID=America/New_York:20261110T151500
DTSTAMP:20260424T002629
CREATED:20231012T123630Z
LAST-MODIFIED:20231012T123630Z
UID:10008408-1794320100-1794323700@brunswickforest.com
SUMMARY:Intermediate Line Dancing with the Gregorys
DESCRIPTION:The Leland Room @ 2:15pm \nContact: Lorrie & Steve Gregory \nwinddancerlg@aol.com
URL:https://brunswickforest.com/events/intermediate-line-dancing-with-the-gregorys-3/2026-11-10/
LOCATION:The Leland Room
CATEGORIES:Resident Activities
ATTACH;FMTTYPE=image/png:https://brunswickforest.com/wpc/uploads/line-dancer.png
ORGANIZER;CN="Lorrie & Steve Gregory":MAILTO:winddancerlg@aol.com
END:VEVENT
BEGIN:VEVENT
DTSTART;TZID=America/New_York:20261111T110000
DTEND;TZID=America/New_York:20261111T121500
DTSTAMP:20260424T002629
CREATED:20250207T140916Z
LAST-MODIFIED:20250207T140951Z
UID:10015055-1794394800-1794399300@brunswickforest.com
SUMMARY:Zumba
DESCRIPTION:Join us for Latin-based dancing creating a dynamic workout routine!
URL:https://brunswickforest.com/events/zumba/2026-11-11/
LOCATION:The Leland Room
CATEGORIES:Fitness and Wellness
ATTACH;FMTTYPE=image/png:https://brunswickforest.com/wpc/uploads/ZUMBA-1.png
END:VEVENT
BEGIN:VEVENT
DTSTART;TZID=America/New_York:20261112T111500
DTEND;TZID=America/New_York:20261112T121500
DTSTAMP:20260424T002629
CREATED:20231012T152457Z
LAST-MODIFIED:20231012T152457Z
UID:10012140-1794482100-1794485700@brunswickforest.com
SUMMARY:Beginner 2 Line Dance
DESCRIPTION:The Leland Room @11:15 \nContact: Lorrie & Steve Gregory \nwinddancerlg@aol.com
URL:https://brunswickforest.com/events/beginner-2-line-dance-3/2026-11-12/
LOCATION:The Leland Room
CATEGORIES:Resident Activities
ATTACH;FMTTYPE=image/png:https://brunswickforest.com/wpc/uploads/line-dancer.png
ORGANIZER;CN="Lorrie & Steve Gregory":MAILTO:winddancerlg@aol.com
END:VEVENT
BEGIN:VEVENT
DTSTART;TZID=America/New_York:20261117T141500
DTEND;TZID=America/New_York:20261117T151500
DTSTAMP:20260424T002629
CREATED:20231012T123630Z
LAST-MODIFIED:20231012T123630Z
UID:10008409-1794924900-1794928500@brunswickforest.com
SUMMARY:Intermediate Line Dancing with the Gregorys
DESCRIPTION:The Leland Room @ 2:15pm \nContact: Lorrie & Steve Gregory \nwinddancerlg@aol.com
URL:https://brunswickforest.com/events/intermediate-line-dancing-with-the-gregorys-3/2026-11-17/
LOCATION:The Leland Room
CATEGORIES:Resident Activities
ATTACH;FMTTYPE=image/png:https://brunswickforest.com/wpc/uploads/line-dancer.png
ORGANIZER;CN="Lorrie & Steve Gregory":MAILTO:winddancerlg@aol.com
END:VEVENT
BEGIN:VEVENT
DTSTART;TZID=America/New_York:20261118T110000
DTEND;TZID=America/New_York:20261118T121500
DTSTAMP:20260424T002629
CREATED:20250207T140916Z
LAST-MODIFIED:20250207T140951Z
UID:10015056-1794999600-1795004100@brunswickforest.com
SUMMARY:Zumba
DESCRIPTION:Join us for Latin-based dancing creating a dynamic workout routine!
URL:https://brunswickforest.com/events/zumba/2026-11-18/
LOCATION:The Leland Room
CATEGORIES:Fitness and Wellness
ATTACH;FMTTYPE=image/png:https://brunswickforest.com/wpc/uploads/ZUMBA-1.png
END:VEVENT
BEGIN:VEVENT
DTSTART;TZID=America/New_York:20261119T111500
DTEND;TZID=America/New_York:20261119T121500
DTSTAMP:20260424T002629
CREATED:20231012T152457Z
LAST-MODIFIED:20231012T152457Z
UID:10012141-1795086900-1795090500@brunswickforest.com
SUMMARY:Beginner 2 Line Dance
DESCRIPTION:The Leland Room @11:15 \nContact: Lorrie & Steve Gregory \nwinddancerlg@aol.com
URL:https://brunswickforest.com/events/beginner-2-line-dance-3/2026-11-19/
LOCATION:The Leland Room
CATEGORIES:Resident Activities
ATTACH;FMTTYPE=image/png:https://brunswickforest.com/wpc/uploads/line-dancer.png
ORGANIZER;CN="Lorrie & Steve Gregory":MAILTO:winddancerlg@aol.com
END:VEVENT
BEGIN:VEVENT
DTSTART;TZID=America/New_York:20261124T141500
DTEND;TZID=America/New_York:20261124T151500
DTSTAMP:20260424T002629
CREATED:20231012T123630Z
LAST-MODIFIED:20231012T123630Z
UID:10008410-1795529700-1795533300@brunswickforest.com
SUMMARY:Intermediate Line Dancing with the Gregorys
DESCRIPTION:The Leland Room @ 2:15pm \nContact: Lorrie & Steve Gregory \nwinddancerlg@aol.com
URL:https://brunswickforest.com/events/intermediate-line-dancing-with-the-gregorys-3/2026-11-24/
LOCATION:The Leland Room
CATEGORIES:Resident Activities
ATTACH;FMTTYPE=image/png:https://brunswickforest.com/wpc/uploads/line-dancer.png
ORGANIZER;CN="Lorrie & Steve Gregory":MAILTO:winddancerlg@aol.com
END:VEVENT
BEGIN:VEVENT
DTSTART;TZID=America/New_York:20261125T110000
DTEND;TZID=America/New_York:20261125T121500
DTSTAMP:20260424T002629
CREATED:20250207T140916Z
LAST-MODIFIED:20250207T140951Z
UID:10015057-1795604400-1795608900@brunswickforest.com
SUMMARY:Zumba
DESCRIPTION:Join us for Latin-based dancing creating a dynamic workout routine!
URL:https://brunswickforest.com/events/zumba/2026-11-25/
LOCATION:The Leland Room
CATEGORIES:Fitness and Wellness
ATTACH;FMTTYPE=image/png:https://brunswickforest.com/wpc/uploads/ZUMBA-1.png
END:VEVENT
BEGIN:VEVENT
DTSTART;TZID=America/New_York:20261126T111500
DTEND;TZID=America/New_York:20261126T121500
DTSTAMP:20260424T002629
CREATED:20231012T152457Z
LAST-MODIFIED:20231012T152457Z
UID:10012142-1795691700-1795695300@brunswickforest.com
SUMMARY:Beginner 2 Line Dance
DESCRIPTION:The Leland Room @11:15 \nContact: Lorrie & Steve Gregory \nwinddancerlg@aol.com
URL:https://brunswickforest.com/events/beginner-2-line-dance-3/2026-11-26/
LOCATION:The Leland Room
CATEGORIES:Resident Activities
ATTACH;FMTTYPE=image/png:https://brunswickforest.com/wpc/uploads/line-dancer.png
ORGANIZER;CN="Lorrie & Steve Gregory":MAILTO:winddancerlg@aol.com
END:VEVENT
BEGIN:VEVENT
DTSTART;TZID=America/New_York:20261201T141500
DTEND;TZID=America/New_York:20261201T151500
DTSTAMP:20260424T002629
CREATED:20231012T123630Z
LAST-MODIFIED:20231012T123630Z
UID:10008411-1796134500-1796138100@brunswickforest.com
SUMMARY:Intermediate Line Dancing with the Gregorys
DESCRIPTION:The Leland Room @ 2:15pm \nContact: Lorrie & Steve Gregory \nwinddancerlg@aol.com
URL:https://brunswickforest.com/events/intermediate-line-dancing-with-the-gregorys-3/2026-12-01/
LOCATION:The Leland Room
CATEGORIES:Resident Activities
ATTACH;FMTTYPE=image/png:https://brunswickforest.com/wpc/uploads/line-dancer.png
ORGANIZER;CN="Lorrie & Steve Gregory":MAILTO:winddancerlg@aol.com
END:VEVENT
BEGIN:VEVENT
DTSTART;TZID=America/New_York:20261202T110000
DTEND;TZID=America/New_York:20261202T121500
DTSTAMP:20260424T002629
CREATED:20250207T140916Z
LAST-MODIFIED:20250207T140951Z
UID:10015058-1796209200-1796213700@brunswickforest.com
SUMMARY:Zumba
DESCRIPTION:Join us for Latin-based dancing creating a dynamic workout routine!
URL:https://brunswickforest.com/events/zumba/2026-12-02/
LOCATION:The Leland Room
CATEGORIES:Fitness and Wellness
ATTACH;FMTTYPE=image/png:https://brunswickforest.com/wpc/uploads/ZUMBA-1.png
END:VEVENT
END:VCALENDAR