BEGIN:VCALENDAR
VERSION:2.0
PRODID:-//Brunswick Forest - ECPv6.15.20//NONSGML v1.0//EN
CALSCALE:GREGORIAN
METHOD:PUBLISH
X-ORIGINAL-URL:https://brunswickforest.com
X-WR-CALDESC:Events for Brunswick Forest
REFRESH-INTERVAL;VALUE=DURATION:PT1H
X-Robots-Tag:noindex
X-PUBLISHED-TTL:PT1H
BEGIN:VTIMEZONE
TZID:America/New_York
BEGIN:DAYLIGHT
TZOFFSETFROM:-0500
TZOFFSETTO:-0400
TZNAME:EDT
DTSTART:20250309T070000
END:DAYLIGHT
BEGIN:STANDARD
TZOFFSETFROM:-0400
TZOFFSETTO:-0500
TZNAME:EST
DTSTART:20251102T060000
END:STANDARD
BEGIN:DAYLIGHT
TZOFFSETFROM:-0500
TZOFFSETTO:-0400
TZNAME:EDT
DTSTART:20260308T070000
END:DAYLIGHT
BEGIN:STANDARD
TZOFFSETFROM:-0400
TZOFFSETTO:-0500
TZNAME:EST
DTSTART:20261101T060000
END:STANDARD
BEGIN:DAYLIGHT
TZOFFSETFROM:-0500
TZOFFSETTO:-0400
TZNAME:EDT
DTSTART:20270314T070000
END:DAYLIGHT
BEGIN:STANDARD
TZOFFSETFROM:-0400
TZOFFSETTO:-0500
TZNAME:EST
DTSTART:20271107T060000
END:STANDARD
END:VTIMEZONE
BEGIN:VEVENT
DTSTART;TZID=America/New_York:20260811T141500
DTEND;TZID=America/New_York:20260811T151500
DTSTAMP:20260423T163948
CREATED:20231012T123630Z
LAST-MODIFIED:20231012T123630Z
UID:10008395-1786457700-1786461300@brunswickforest.com
SUMMARY:Intermediate Line Dancing with the Gregorys
DESCRIPTION:The Leland Room @ 2:15pm \nContact: Lorrie & Steve Gregory \nwinddancerlg@aol.com
URL:https://brunswickforest.com/events/intermediate-line-dancing-with-the-gregorys-3/2026-08-11/
LOCATION:The Leland Room
CATEGORIES:Resident Activities
ATTACH;FMTTYPE=image/png:https://brunswickforest.com/wpc/uploads/line-dancer.png
ORGANIZER;CN="Lorrie & Steve Gregory":MAILTO:winddancerlg@aol.com
END:VEVENT
BEGIN:VEVENT
DTSTART;TZID=America/New_York:20260812T110000
DTEND;TZID=America/New_York:20260812T121500
DTSTAMP:20260423T163948
CREATED:20250207T140916Z
LAST-MODIFIED:20250207T140951Z
UID:10015042-1786532400-1786536900@brunswickforest.com
SUMMARY:Zumba
DESCRIPTION:Join us for Latin-based dancing creating a dynamic workout routine!
URL:https://brunswickforest.com/events/zumba/2026-08-12/
LOCATION:The Leland Room
CATEGORIES:Fitness and Wellness
ATTACH;FMTTYPE=image/png:https://brunswickforest.com/wpc/uploads/ZUMBA-1.png
END:VEVENT
BEGIN:VEVENT
DTSTART;TZID=America/New_York:20260813T111500
DTEND;TZID=America/New_York:20260813T121500
DTSTAMP:20260423T163948
CREATED:20231012T152457Z
LAST-MODIFIED:20231012T152457Z
UID:10012127-1786619700-1786623300@brunswickforest.com
SUMMARY:Beginner 2 Line Dance
DESCRIPTION:The Leland Room @11:15 \nContact: Lorrie & Steve Gregory \nwinddancerlg@aol.com
URL:https://brunswickforest.com/events/beginner-2-line-dance-3/2026-08-13/
LOCATION:The Leland Room
CATEGORIES:Resident Activities
ATTACH;FMTTYPE=image/png:https://brunswickforest.com/wpc/uploads/line-dancer.png
ORGANIZER;CN="Lorrie & Steve Gregory":MAILTO:winddancerlg@aol.com
END:VEVENT
BEGIN:VEVENT
DTSTART;TZID=America/New_York:20260818T141500
DTEND;TZID=America/New_York:20260818T151500
DTSTAMP:20260423T163948
CREATED:20231012T123630Z
LAST-MODIFIED:20231012T123630Z
UID:10008396-1787062500-1787066100@brunswickforest.com
SUMMARY:Intermediate Line Dancing with the Gregorys
DESCRIPTION:The Leland Room @ 2:15pm \nContact: Lorrie & Steve Gregory \nwinddancerlg@aol.com
URL:https://brunswickforest.com/events/intermediate-line-dancing-with-the-gregorys-3/2026-08-18/
LOCATION:The Leland Room
CATEGORIES:Resident Activities
ATTACH;FMTTYPE=image/png:https://brunswickforest.com/wpc/uploads/line-dancer.png
ORGANIZER;CN="Lorrie & Steve Gregory":MAILTO:winddancerlg@aol.com
END:VEVENT
BEGIN:VEVENT
DTSTART;TZID=America/New_York:20260819T110000
DTEND;TZID=America/New_York:20260819T121500
DTSTAMP:20260423T163948
CREATED:20250207T140916Z
LAST-MODIFIED:20250207T140951Z
UID:10015043-1787137200-1787141700@brunswickforest.com
SUMMARY:Zumba
DESCRIPTION:Join us for Latin-based dancing creating a dynamic workout routine!
URL:https://brunswickforest.com/events/zumba/2026-08-19/
LOCATION:The Leland Room
CATEGORIES:Fitness and Wellness
ATTACH;FMTTYPE=image/png:https://brunswickforest.com/wpc/uploads/ZUMBA-1.png
END:VEVENT
BEGIN:VEVENT
DTSTART;TZID=America/New_York:20260820T111500
DTEND;TZID=America/New_York:20260820T121500
DTSTAMP:20260423T163948
CREATED:20231012T152457Z
LAST-MODIFIED:20231012T152457Z
UID:10012128-1787224500-1787228100@brunswickforest.com
SUMMARY:Beginner 2 Line Dance
DESCRIPTION:The Leland Room @11:15 \nContact: Lorrie & Steve Gregory \nwinddancerlg@aol.com
URL:https://brunswickforest.com/events/beginner-2-line-dance-3/2026-08-20/
LOCATION:The Leland Room
CATEGORIES:Resident Activities
ATTACH;FMTTYPE=image/png:https://brunswickforest.com/wpc/uploads/line-dancer.png
ORGANIZER;CN="Lorrie & Steve Gregory":MAILTO:winddancerlg@aol.com
END:VEVENT
BEGIN:VEVENT
DTSTART;TZID=America/New_York:20260825T141500
DTEND;TZID=America/New_York:20260825T151500
DTSTAMP:20260423T163948
CREATED:20231012T123630Z
LAST-MODIFIED:20231012T123630Z
UID:10008397-1787667300-1787670900@brunswickforest.com
SUMMARY:Intermediate Line Dancing with the Gregorys
DESCRIPTION:The Leland Room @ 2:15pm \nContact: Lorrie & Steve Gregory \nwinddancerlg@aol.com
URL:https://brunswickforest.com/events/intermediate-line-dancing-with-the-gregorys-3/2026-08-25/
LOCATION:The Leland Room
CATEGORIES:Resident Activities
ATTACH;FMTTYPE=image/png:https://brunswickforest.com/wpc/uploads/line-dancer.png
ORGANIZER;CN="Lorrie & Steve Gregory":MAILTO:winddancerlg@aol.com
END:VEVENT
BEGIN:VEVENT
DTSTART;TZID=America/New_York:20260826T110000
DTEND;TZID=America/New_York:20260826T121500
DTSTAMP:20260423T163948
CREATED:20250207T140916Z
LAST-MODIFIED:20250207T140951Z
UID:10015044-1787742000-1787746500@brunswickforest.com
SUMMARY:Zumba
DESCRIPTION:Join us for Latin-based dancing creating a dynamic workout routine!
URL:https://brunswickforest.com/events/zumba/2026-08-26/
LOCATION:The Leland Room
CATEGORIES:Fitness and Wellness
ATTACH;FMTTYPE=image/png:https://brunswickforest.com/wpc/uploads/ZUMBA-1.png
END:VEVENT
BEGIN:VEVENT
DTSTART;TZID=America/New_York:20260827T111500
DTEND;TZID=America/New_York:20260827T121500
DTSTAMP:20260423T163948
CREATED:20231012T152457Z
LAST-MODIFIED:20231012T152457Z
UID:10012129-1787829300-1787832900@brunswickforest.com
SUMMARY:Beginner 2 Line Dance
DESCRIPTION:The Leland Room @11:15 \nContact: Lorrie & Steve Gregory \nwinddancerlg@aol.com
URL:https://brunswickforest.com/events/beginner-2-line-dance-3/2026-08-27/
LOCATION:The Leland Room
CATEGORIES:Resident Activities
ATTACH;FMTTYPE=image/png:https://brunswickforest.com/wpc/uploads/line-dancer.png
ORGANIZER;CN="Lorrie & Steve Gregory":MAILTO:winddancerlg@aol.com
END:VEVENT
BEGIN:VEVENT
DTSTART;TZID=America/New_York:20260901T141500
DTEND;TZID=America/New_York:20260901T151500
DTSTAMP:20260423T163948
CREATED:20231012T123630Z
LAST-MODIFIED:20231012T123630Z
UID:10008398-1788272100-1788275700@brunswickforest.com
SUMMARY:Intermediate Line Dancing with the Gregorys
DESCRIPTION:The Leland Room @ 2:15pm \nContact: Lorrie & Steve Gregory \nwinddancerlg@aol.com
URL:https://brunswickforest.com/events/intermediate-line-dancing-with-the-gregorys-3/2026-09-01/
LOCATION:The Leland Room
CATEGORIES:Resident Activities
ATTACH;FMTTYPE=image/png:https://brunswickforest.com/wpc/uploads/line-dancer.png
ORGANIZER;CN="Lorrie & Steve Gregory":MAILTO:winddancerlg@aol.com
END:VEVENT
BEGIN:VEVENT
DTSTART;TZID=America/New_York:20260902T110000
DTEND;TZID=America/New_York:20260902T121500
DTSTAMP:20260423T163948
CREATED:20250207T140916Z
LAST-MODIFIED:20250207T140951Z
UID:10015045-1788346800-1788351300@brunswickforest.com
SUMMARY:Zumba
DESCRIPTION:Join us for Latin-based dancing creating a dynamic workout routine!
URL:https://brunswickforest.com/events/zumba/2026-09-02/
LOCATION:The Leland Room
CATEGORIES:Fitness and Wellness
ATTACH;FMTTYPE=image/png:https://brunswickforest.com/wpc/uploads/ZUMBA-1.png
END:VEVENT
BEGIN:VEVENT
DTSTART;TZID=America/New_York:20260903T111500
DTEND;TZID=America/New_York:20260903T121500
DTSTAMP:20260423T163948
CREATED:20231012T152457Z
LAST-MODIFIED:20231012T152457Z
UID:10012130-1788434100-1788437700@brunswickforest.com
SUMMARY:Beginner 2 Line Dance
DESCRIPTION:The Leland Room @11:15 \nContact: Lorrie & Steve Gregory \nwinddancerlg@aol.com
URL:https://brunswickforest.com/events/beginner-2-line-dance-3/2026-09-03/
LOCATION:The Leland Room
CATEGORIES:Resident Activities
ATTACH;FMTTYPE=image/png:https://brunswickforest.com/wpc/uploads/line-dancer.png
ORGANIZER;CN="Lorrie & Steve Gregory":MAILTO:winddancerlg@aol.com
END:VEVENT
BEGIN:VEVENT
DTSTART;TZID=America/New_York:20260908T141500
DTEND;TZID=America/New_York:20260908T151500
DTSTAMP:20260423T163948
CREATED:20231012T123630Z
LAST-MODIFIED:20231012T123630Z
UID:10008399-1788876900-1788880500@brunswickforest.com
SUMMARY:Intermediate Line Dancing with the Gregorys
DESCRIPTION:The Leland Room @ 2:15pm \nContact: Lorrie & Steve Gregory \nwinddancerlg@aol.com
URL:https://brunswickforest.com/events/intermediate-line-dancing-with-the-gregorys-3/2026-09-08/
LOCATION:The Leland Room
CATEGORIES:Resident Activities
ATTACH;FMTTYPE=image/png:https://brunswickforest.com/wpc/uploads/line-dancer.png
ORGANIZER;CN="Lorrie & Steve Gregory":MAILTO:winddancerlg@aol.com
END:VEVENT
BEGIN:VEVENT
DTSTART;TZID=America/New_York:20260909T110000
DTEND;TZID=America/New_York:20260909T121500
DTSTAMP:20260423T163948
CREATED:20250207T140916Z
LAST-MODIFIED:20250207T140951Z
UID:10015046-1788951600-1788956100@brunswickforest.com
SUMMARY:Zumba
DESCRIPTION:Join us for Latin-based dancing creating a dynamic workout routine!
URL:https://brunswickforest.com/events/zumba/2026-09-09/
LOCATION:The Leland Room
CATEGORIES:Fitness and Wellness
ATTACH;FMTTYPE=image/png:https://brunswickforest.com/wpc/uploads/ZUMBA-1.png
END:VEVENT
BEGIN:VEVENT
DTSTART;TZID=America/New_York:20260910T111500
DTEND;TZID=America/New_York:20260910T121500
DTSTAMP:20260423T163948
CREATED:20231012T152457Z
LAST-MODIFIED:20231012T152457Z
UID:10012131-1789038900-1789042500@brunswickforest.com
SUMMARY:Beginner 2 Line Dance
DESCRIPTION:The Leland Room @11:15 \nContact: Lorrie & Steve Gregory \nwinddancerlg@aol.com
URL:https://brunswickforest.com/events/beginner-2-line-dance-3/2026-09-10/
LOCATION:The Leland Room
CATEGORIES:Resident Activities
ATTACH;FMTTYPE=image/png:https://brunswickforest.com/wpc/uploads/line-dancer.png
ORGANIZER;CN="Lorrie & Steve Gregory":MAILTO:winddancerlg@aol.com
END:VEVENT
BEGIN:VEVENT
DTSTART;TZID=America/New_York:20260915T141500
DTEND;TZID=America/New_York:20260915T151500
DTSTAMP:20260423T163948
CREATED:20231012T123630Z
LAST-MODIFIED:20231012T123630Z
UID:10008400-1789481700-1789485300@brunswickforest.com
SUMMARY:Intermediate Line Dancing with the Gregorys
DESCRIPTION:The Leland Room @ 2:15pm \nContact: Lorrie & Steve Gregory \nwinddancerlg@aol.com
URL:https://brunswickforest.com/events/intermediate-line-dancing-with-the-gregorys-3/2026-09-15/
LOCATION:The Leland Room
CATEGORIES:Resident Activities
ATTACH;FMTTYPE=image/png:https://brunswickforest.com/wpc/uploads/line-dancer.png
ORGANIZER;CN="Lorrie & Steve Gregory":MAILTO:winddancerlg@aol.com
END:VEVENT
BEGIN:VEVENT
DTSTART;TZID=America/New_York:20260916T110000
DTEND;TZID=America/New_York:20260916T121500
DTSTAMP:20260423T163948
CREATED:20250207T140916Z
LAST-MODIFIED:20250207T140951Z
UID:10015047-1789556400-1789560900@brunswickforest.com
SUMMARY:Zumba
DESCRIPTION:Join us for Latin-based dancing creating a dynamic workout routine!
URL:https://brunswickforest.com/events/zumba/2026-09-16/
LOCATION:The Leland Room
CATEGORIES:Fitness and Wellness
ATTACH;FMTTYPE=image/png:https://brunswickforest.com/wpc/uploads/ZUMBA-1.png
END:VEVENT
BEGIN:VEVENT
DTSTART;TZID=America/New_York:20260917T111500
DTEND;TZID=America/New_York:20260917T121500
DTSTAMP:20260423T163948
CREATED:20231012T152457Z
LAST-MODIFIED:20231012T152457Z
UID:10012132-1789643700-1789647300@brunswickforest.com
SUMMARY:Beginner 2 Line Dance
DESCRIPTION:The Leland Room @11:15 \nContact: Lorrie & Steve Gregory \nwinddancerlg@aol.com
URL:https://brunswickforest.com/events/beginner-2-line-dance-3/2026-09-17/
LOCATION:The Leland Room
CATEGORIES:Resident Activities
ATTACH;FMTTYPE=image/png:https://brunswickforest.com/wpc/uploads/line-dancer.png
ORGANIZER;CN="Lorrie & Steve Gregory":MAILTO:winddancerlg@aol.com
END:VEVENT
BEGIN:VEVENT
DTSTART;TZID=America/New_York:20260922T141500
DTEND;TZID=America/New_York:20260922T151500
DTSTAMP:20260423T163948
CREATED:20231012T123630Z
LAST-MODIFIED:20231012T123630Z
UID:10008401-1790086500-1790090100@brunswickforest.com
SUMMARY:Intermediate Line Dancing with the Gregorys
DESCRIPTION:The Leland Room @ 2:15pm \nContact: Lorrie & Steve Gregory \nwinddancerlg@aol.com
URL:https://brunswickforest.com/events/intermediate-line-dancing-with-the-gregorys-3/2026-09-22/
LOCATION:The Leland Room
CATEGORIES:Resident Activities
ATTACH;FMTTYPE=image/png:https://brunswickforest.com/wpc/uploads/line-dancer.png
ORGANIZER;CN="Lorrie & Steve Gregory":MAILTO:winddancerlg@aol.com
END:VEVENT
BEGIN:VEVENT
DTSTART;TZID=America/New_York:20260923T110000
DTEND;TZID=America/New_York:20260923T121500
DTSTAMP:20260423T163948
CREATED:20250207T140916Z
LAST-MODIFIED:20250207T140951Z
UID:10015048-1790161200-1790165700@brunswickforest.com
SUMMARY:Zumba
DESCRIPTION:Join us for Latin-based dancing creating a dynamic workout routine!
URL:https://brunswickforest.com/events/zumba/2026-09-23/
LOCATION:The Leland Room
CATEGORIES:Fitness and Wellness
ATTACH;FMTTYPE=image/png:https://brunswickforest.com/wpc/uploads/ZUMBA-1.png
END:VEVENT
BEGIN:VEVENT
DTSTART;TZID=America/New_York:20260924T111500
DTEND;TZID=America/New_York:20260924T121500
DTSTAMP:20260423T163948
CREATED:20231012T152457Z
LAST-MODIFIED:20231012T152457Z
UID:10012133-1790248500-1790252100@brunswickforest.com
SUMMARY:Beginner 2 Line Dance
DESCRIPTION:The Leland Room @11:15 \nContact: Lorrie & Steve Gregory \nwinddancerlg@aol.com
URL:https://brunswickforest.com/events/beginner-2-line-dance-3/2026-09-24/
LOCATION:The Leland Room
CATEGORIES:Resident Activities
ATTACH;FMTTYPE=image/png:https://brunswickforest.com/wpc/uploads/line-dancer.png
ORGANIZER;CN="Lorrie & Steve Gregory":MAILTO:winddancerlg@aol.com
END:VEVENT
BEGIN:VEVENT
DTSTART;TZID=America/New_York:20260929T141500
DTEND;TZID=America/New_York:20260929T151500
DTSTAMP:20260423T163948
CREATED:20231012T123630Z
LAST-MODIFIED:20231012T123630Z
UID:10008402-1790691300-1790694900@brunswickforest.com
SUMMARY:Intermediate Line Dancing with the Gregorys
DESCRIPTION:The Leland Room @ 2:15pm \nContact: Lorrie & Steve Gregory \nwinddancerlg@aol.com
URL:https://brunswickforest.com/events/intermediate-line-dancing-with-the-gregorys-3/2026-09-29/
LOCATION:The Leland Room
CATEGORIES:Resident Activities
ATTACH;FMTTYPE=image/png:https://brunswickforest.com/wpc/uploads/line-dancer.png
ORGANIZER;CN="Lorrie & Steve Gregory":MAILTO:winddancerlg@aol.com
END:VEVENT
BEGIN:VEVENT
DTSTART;TZID=America/New_York:20260930T110000
DTEND;TZID=America/New_York:20260930T121500
DTSTAMP:20260423T163948
CREATED:20250207T140916Z
LAST-MODIFIED:20250207T140951Z
UID:10015049-1790766000-1790770500@brunswickforest.com
SUMMARY:Zumba
DESCRIPTION:Join us for Latin-based dancing creating a dynamic workout routine!
URL:https://brunswickforest.com/events/zumba/2026-09-30/
LOCATION:The Leland Room
CATEGORIES:Fitness and Wellness
ATTACH;FMTTYPE=image/png:https://brunswickforest.com/wpc/uploads/ZUMBA-1.png
END:VEVENT
BEGIN:VEVENT
DTSTART;TZID=America/New_York:20261001T111500
DTEND;TZID=America/New_York:20261001T121500
DTSTAMP:20260423T163948
CREATED:20231012T152457Z
LAST-MODIFIED:20231012T152457Z
UID:10012134-1790853300-1790856900@brunswickforest.com
SUMMARY:Beginner 2 Line Dance
DESCRIPTION:The Leland Room @11:15 \nContact: Lorrie & Steve Gregory \nwinddancerlg@aol.com
URL:https://brunswickforest.com/events/beginner-2-line-dance-3/2026-10-01/
LOCATION:The Leland Room
CATEGORIES:Resident Activities
ATTACH;FMTTYPE=image/png:https://brunswickforest.com/wpc/uploads/line-dancer.png
ORGANIZER;CN="Lorrie & Steve Gregory":MAILTO:winddancerlg@aol.com
END:VEVENT
BEGIN:VEVENT
DTSTART;TZID=America/New_York:20261006T141500
DTEND;TZID=America/New_York:20261006T151500
DTSTAMP:20260423T163948
CREATED:20231012T123630Z
LAST-MODIFIED:20231012T123630Z
UID:10008403-1791296100-1791299700@brunswickforest.com
SUMMARY:Intermediate Line Dancing with the Gregorys
DESCRIPTION:The Leland Room @ 2:15pm \nContact: Lorrie & Steve Gregory \nwinddancerlg@aol.com
URL:https://brunswickforest.com/events/intermediate-line-dancing-with-the-gregorys-3/2026-10-06/
LOCATION:The Leland Room
CATEGORIES:Resident Activities
ATTACH;FMTTYPE=image/png:https://brunswickforest.com/wpc/uploads/line-dancer.png
ORGANIZER;CN="Lorrie & Steve Gregory":MAILTO:winddancerlg@aol.com
END:VEVENT
BEGIN:VEVENT
DTSTART;TZID=America/New_York:20261007T110000
DTEND;TZID=America/New_York:20261007T121500
DTSTAMP:20260423T163948
CREATED:20250207T140916Z
LAST-MODIFIED:20250207T140951Z
UID:10015050-1791370800-1791375300@brunswickforest.com
SUMMARY:Zumba
DESCRIPTION:Join us for Latin-based dancing creating a dynamic workout routine!
URL:https://brunswickforest.com/events/zumba/2026-10-07/
LOCATION:The Leland Room
CATEGORIES:Fitness and Wellness
ATTACH;FMTTYPE=image/png:https://brunswickforest.com/wpc/uploads/ZUMBA-1.png
END:VEVENT
BEGIN:VEVENT
DTSTART;TZID=America/New_York:20261008T111500
DTEND;TZID=America/New_York:20261008T121500
DTSTAMP:20260423T163948
CREATED:20231012T152457Z
LAST-MODIFIED:20231012T152457Z
UID:10012135-1791458100-1791461700@brunswickforest.com
SUMMARY:Beginner 2 Line Dance
DESCRIPTION:The Leland Room @11:15 \nContact: Lorrie & Steve Gregory \nwinddancerlg@aol.com
URL:https://brunswickforest.com/events/beginner-2-line-dance-3/2026-10-08/
LOCATION:The Leland Room
CATEGORIES:Resident Activities
ATTACH;FMTTYPE=image/png:https://brunswickforest.com/wpc/uploads/line-dancer.png
ORGANIZER;CN="Lorrie & Steve Gregory":MAILTO:winddancerlg@aol.com
END:VEVENT
BEGIN:VEVENT
DTSTART;TZID=America/New_York:20261013T141500
DTEND;TZID=America/New_York:20261013T151500
DTSTAMP:20260423T163948
CREATED:20231012T123630Z
LAST-MODIFIED:20231012T123630Z
UID:10008404-1791900900-1791904500@brunswickforest.com
SUMMARY:Intermediate Line Dancing with the Gregorys
DESCRIPTION:The Leland Room @ 2:15pm \nContact: Lorrie & Steve Gregory \nwinddancerlg@aol.com
URL:https://brunswickforest.com/events/intermediate-line-dancing-with-the-gregorys-3/2026-10-13/
LOCATION:The Leland Room
CATEGORIES:Resident Activities
ATTACH;FMTTYPE=image/png:https://brunswickforest.com/wpc/uploads/line-dancer.png
ORGANIZER;CN="Lorrie & Steve Gregory":MAILTO:winddancerlg@aol.com
END:VEVENT
BEGIN:VEVENT
DTSTART;TZID=America/New_York:20261014T110000
DTEND;TZID=America/New_York:20261014T121500
DTSTAMP:20260423T163948
CREATED:20250207T140916Z
LAST-MODIFIED:20250207T140951Z
UID:10015051-1791975600-1791980100@brunswickforest.com
SUMMARY:Zumba
DESCRIPTION:Join us for Latin-based dancing creating a dynamic workout routine!
URL:https://brunswickforest.com/events/zumba/2026-10-14/
LOCATION:The Leland Room
CATEGORIES:Fitness and Wellness
ATTACH;FMTTYPE=image/png:https://brunswickforest.com/wpc/uploads/ZUMBA-1.png
END:VEVENT
BEGIN:VEVENT
DTSTART;TZID=America/New_York:20261015T111500
DTEND;TZID=America/New_York:20261015T121500
DTSTAMP:20260423T163948
CREATED:20231012T152457Z
LAST-MODIFIED:20231012T152457Z
UID:10012136-1792062900-1792066500@brunswickforest.com
SUMMARY:Beginner 2 Line Dance
DESCRIPTION:The Leland Room @11:15 \nContact: Lorrie & Steve Gregory \nwinddancerlg@aol.com
URL:https://brunswickforest.com/events/beginner-2-line-dance-3/2026-10-15/
LOCATION:The Leland Room
CATEGORIES:Resident Activities
ATTACH;FMTTYPE=image/png:https://brunswickforest.com/wpc/uploads/line-dancer.png
ORGANIZER;CN="Lorrie & Steve Gregory":MAILTO:winddancerlg@aol.com
END:VEVENT
END:VCALENDAR