BEGIN:VCALENDAR
VERSION:2.0
PRODID:-//Brunswick Forest - ECPv6.15.20//NONSGML v1.0//EN
CALSCALE:GREGORIAN
METHOD:PUBLISH
X-WR-CALNAME:Brunswick Forest
X-ORIGINAL-URL:https://brunswickforest.com
X-WR-CALDESC:Events for Brunswick Forest
REFRESH-INTERVAL;VALUE=DURATION:PT1H
X-Robots-Tag:noindex
X-PUBLISHED-TTL:PT1H
BEGIN:VTIMEZONE
TZID:America/New_York
BEGIN:DAYLIGHT
TZOFFSETFROM:-0500
TZOFFSETTO:-0400
TZNAME:EDT
DTSTART:20260308T070000
END:DAYLIGHT
BEGIN:STANDARD
TZOFFSETFROM:-0400
TZOFFSETTO:-0500
TZNAME:EST
DTSTART:20261101T060000
END:STANDARD
BEGIN:DAYLIGHT
TZOFFSETFROM:-0500
TZOFFSETTO:-0400
TZNAME:EDT
DTSTART:20270314T070000
END:DAYLIGHT
BEGIN:STANDARD
TZOFFSETFROM:-0400
TZOFFSETTO:-0500
TZNAME:EST
DTSTART:20271107T060000
END:STANDARD
BEGIN:DAYLIGHT
TZOFFSETFROM:-0500
TZOFFSETTO:-0400
TZNAME:EDT
DTSTART:20280312T070000
END:DAYLIGHT
BEGIN:STANDARD
TZOFFSETFROM:-0400
TZOFFSETTO:-0500
TZNAME:EST
DTSTART:20281105T060000
END:STANDARD
END:VTIMEZONE
BEGIN:VEVENT
DTSTART;TZID=America/New_York:20270427T190000
DTEND;TZID=America/New_York:20270427T200000
DTSTAMP:20260424T211756
CREATED:20231012T132501Z
LAST-MODIFIED:20231012T132501Z
UID:10010028-1808852400-1808856000@brunswickforest.com
SUMMARY:Bourbon Lovers
DESCRIPTION:*Email For Location* \n@7pm \nContact: Mary Milliner \nmmilliner@aol.com.com
URL:https://brunswickforest.com/events/bourbon-lovers-3/2027-04-27/
LOCATION:TBA
CATEGORIES:Resident Activities
ATTACH;FMTTYPE=image/png:https://brunswickforest.com/wpc/uploads/Bourbon.png
ORGANIZER;CN="Mary Milliner":MAILTO:mmilliner@aol.com
END:VEVENT
BEGIN:VEVENT
DTSTART;TZID=America/New_York:20270428T100000
DTEND;TZID=America/New_York:20270428T120000
DTSTAMP:20260424T211756
CREATED:20231012T145046Z
LAST-MODIFIED:20231012T145046Z
UID:10010826-1808906400-1808913600@brunswickforest.com
SUMMARY:Chess Club
DESCRIPTION:*Email For Location* \n@10am \nContact: Lee Lowery \neleelowery@gmail.com
URL:https://brunswickforest.com/events/chess-club-4/2027-04-28/
LOCATION:TBA
CATEGORIES:Resident Activities
ATTACH;FMTTYPE=image/png:https://brunswickforest.com/wpc/uploads/2022/06/chess-club.png
ORGANIZER;CN="Lee Lowery":MAILTO:eleelowery@gmail.com
END:VEVENT
BEGIN:VEVENT
DTSTART;TZID=America/New_York:20270428T130000
DTEND;TZID=America/New_York:20270428T140000
DTSTAMP:20260424T211756
CREATED:20231012T145004Z
LAST-MODIFIED:20231012T145004Z
UID:10010559-1808917200-1808920800@brunswickforest.com
SUMMARY:Experienced Mahjong
DESCRIPTION:Call for details\, Wednesdays \n@11am \nContact: Kim Sevier \nksevier0407@gmail.com
URL:https://brunswickforest.com/events/experienced-mahjong-3/2027-04-28/
LOCATION:TBA
CATEGORIES:Resident Activities
ATTACH;FMTTYPE=image/png:https://brunswickforest.com/wpc/uploads/2022/06/mahjong.png
ORGANIZER;CN="Renee Lempert":MAILTO:reneelempert@gmail.com
END:VEVENT
BEGIN:VEVENT
DTSTART;TZID=America/New_York:20270502T000000
DTEND;TZID=America/New_York:20270502T000000
DTSTAMP:20260424T211756
CREATED:20230616T132518Z
LAST-MODIFIED:20230616T132518Z
UID:10006533-1809216000-1809216000@brunswickforest.com
SUMMARY:Bike Riding
DESCRIPTION:Email for times and dates \nContact: Sandy Morrison \nsandymoisalliknow@gmail.com
URL:https://brunswickforest.com/events/bike-riding/2027-05-02/
LOCATION:TBA
CATEGORIES:Resident Activities
ATTACH;FMTTYPE=image/png:https://brunswickforest.com/wpc/uploads/Biking.png
END:VEVENT
BEGIN:VEVENT
DTSTART;VALUE=DATE:20270503
DTEND;VALUE=DATE:20270504
DTSTAMP:20260424T211756
CREATED:20231012T122340Z
LAST-MODIFIED:20231012T122340Z
UID:10007106-1809302400-1809388799@brunswickforest.com
SUMMARY:Investors Club
DESCRIPTION:Email For Details \nContact: Patrick Loyd \npatrickaloyd@kw.com
URL:https://brunswickforest.com/events/investors-club-3/2027-05-03/
LOCATION:TBA
CATEGORIES:Resident Activities
ATTACH;FMTTYPE=image/png:https://brunswickforest.com/wpc/uploads/investment-club.png
ORGANIZER;CN="Patrick Loyd":MAILTO:patrickloyd@kw.com
END:VEVENT
BEGIN:VEVENT
DTSTART;TZID=America/New_York:20270504T000000
DTEND;TZID=America/New_York:20270504T000000
DTSTAMP:20260424T211756
CREATED:20231012T132129Z
LAST-MODIFIED:20231012T132129Z
UID:10009231-1809388800-1809388800@brunswickforest.com
SUMMARY:Pinochle
DESCRIPTION:*Email For Location* Tuesdays \n@10:30am \nContact: Carl Fazio \nRetiredme57@gmail.com
URL:https://brunswickforest.com/events/pinochle-3/2027-05-04/
LOCATION:TBA
CATEGORIES:Resident Activities
ATTACH;FMTTYPE=image/png:https://brunswickforest.com/wpc/uploads/pinochle.png
ORGANIZER;CN="Carl Fazio":MAILTO:retiredme57@gmail.com
END:VEVENT
BEGIN:VEVENT
DTSTART;TZID=America/New_York:20270504T190000
DTEND;TZID=America/New_York:20270504T200000
DTSTAMP:20260424T211756
CREATED:20231012T132501Z
LAST-MODIFIED:20231012T132501Z
UID:10010029-1809457200-1809460800@brunswickforest.com
SUMMARY:Bourbon Lovers
DESCRIPTION:*Email For Location* \n@7pm \nContact: Mary Milliner \nmmilliner@aol.com.com
URL:https://brunswickforest.com/events/bourbon-lovers-3/2027-05-04/
LOCATION:TBA
CATEGORIES:Resident Activities
ATTACH;FMTTYPE=image/png:https://brunswickforest.com/wpc/uploads/Bourbon.png
ORGANIZER;CN="Mary Milliner":MAILTO:mmilliner@aol.com
END:VEVENT
BEGIN:VEVENT
DTSTART;TZID=America/New_York:20270505T100000
DTEND;TZID=America/New_York:20270505T120000
DTSTAMP:20260424T211756
CREATED:20231012T145046Z
LAST-MODIFIED:20231012T145046Z
UID:10010827-1809511200-1809518400@brunswickforest.com
SUMMARY:Chess Club
DESCRIPTION:*Email For Location* \n@10am \nContact: Lee Lowery \neleelowery@gmail.com
URL:https://brunswickforest.com/events/chess-club-4/2027-05-05/
LOCATION:TBA
CATEGORIES:Resident Activities
ATTACH;FMTTYPE=image/png:https://brunswickforest.com/wpc/uploads/2022/06/chess-club.png
ORGANIZER;CN="Lee Lowery":MAILTO:eleelowery@gmail.com
END:VEVENT
BEGIN:VEVENT
DTSTART;TZID=America/New_York:20270505T130000
DTEND;TZID=America/New_York:20270505T140000
DTSTAMP:20260424T211756
CREATED:20231012T145004Z
LAST-MODIFIED:20231012T145004Z
UID:10010560-1809522000-1809525600@brunswickforest.com
SUMMARY:Experienced Mahjong
DESCRIPTION:Call for details\, Wednesdays \n@11am \nContact: Kim Sevier \nksevier0407@gmail.com
URL:https://brunswickforest.com/events/experienced-mahjong-3/2027-05-05/
LOCATION:TBA
CATEGORIES:Resident Activities
ATTACH;FMTTYPE=image/png:https://brunswickforest.com/wpc/uploads/2022/06/mahjong.png
ORGANIZER;CN="Renee Lempert":MAILTO:reneelempert@gmail.com
END:VEVENT
BEGIN:VEVENT
DTSTART;TZID=America/New_York:20270509T000000
DTEND;TZID=America/New_York:20270509T000000
DTSTAMP:20260424T211756
CREATED:20230616T132518Z
LAST-MODIFIED:20230616T132518Z
UID:10006534-1809820800-1809820800@brunswickforest.com
SUMMARY:Bike Riding
DESCRIPTION:Email for times and dates \nContact: Sandy Morrison \nsandymoisalliknow@gmail.com
URL:https://brunswickforest.com/events/bike-riding/2027-05-09/
LOCATION:TBA
CATEGORIES:Resident Activities
ATTACH;FMTTYPE=image/png:https://brunswickforest.com/wpc/uploads/Biking.png
END:VEVENT
BEGIN:VEVENT
DTSTART;VALUE=DATE:20270510
DTEND;VALUE=DATE:20270511
DTSTAMP:20260424T211756
CREATED:20231012T122340Z
LAST-MODIFIED:20231012T122340Z
UID:10007107-1809907200-1809993599@brunswickforest.com
SUMMARY:Investors Club
DESCRIPTION:Email For Details \nContact: Patrick Loyd \npatrickaloyd@kw.com
URL:https://brunswickforest.com/events/investors-club-3/2027-05-10/
LOCATION:TBA
CATEGORIES:Resident Activities
ATTACH;FMTTYPE=image/png:https://brunswickforest.com/wpc/uploads/investment-club.png
ORGANIZER;CN="Patrick Loyd":MAILTO:patrickloyd@kw.com
END:VEVENT
BEGIN:VEVENT
DTSTART;TZID=America/New_York:20270511T000000
DTEND;TZID=America/New_York:20270511T000000
DTSTAMP:20260424T211756
CREATED:20231012T132129Z
LAST-MODIFIED:20231012T132129Z
UID:10009232-1809993600-1809993600@brunswickforest.com
SUMMARY:Pinochle
DESCRIPTION:*Email For Location* Tuesdays \n@10:30am \nContact: Carl Fazio \nRetiredme57@gmail.com
URL:https://brunswickforest.com/events/pinochle-3/2027-05-11/
LOCATION:TBA
CATEGORIES:Resident Activities
ATTACH;FMTTYPE=image/png:https://brunswickforest.com/wpc/uploads/pinochle.png
ORGANIZER;CN="Carl Fazio":MAILTO:retiredme57@gmail.com
END:VEVENT
BEGIN:VEVENT
DTSTART;TZID=America/New_York:20270511T190000
DTEND;TZID=America/New_York:20270511T200000
DTSTAMP:20260424T211756
CREATED:20231012T132501Z
LAST-MODIFIED:20231012T132501Z
UID:10010030-1810062000-1810065600@brunswickforest.com
SUMMARY:Bourbon Lovers
DESCRIPTION:*Email For Location* \n@7pm \nContact: Mary Milliner \nmmilliner@aol.com.com
URL:https://brunswickforest.com/events/bourbon-lovers-3/2027-05-11/
LOCATION:TBA
CATEGORIES:Resident Activities
ATTACH;FMTTYPE=image/png:https://brunswickforest.com/wpc/uploads/Bourbon.png
ORGANIZER;CN="Mary Milliner":MAILTO:mmilliner@aol.com
END:VEVENT
BEGIN:VEVENT
DTSTART;TZID=America/New_York:20270512T100000
DTEND;TZID=America/New_York:20270512T120000
DTSTAMP:20260424T211756
CREATED:20231012T145046Z
LAST-MODIFIED:20231012T145046Z
UID:10010828-1810116000-1810123200@brunswickforest.com
SUMMARY:Chess Club
DESCRIPTION:*Email For Location* \n@10am \nContact: Lee Lowery \neleelowery@gmail.com
URL:https://brunswickforest.com/events/chess-club-4/2027-05-12/
LOCATION:TBA
CATEGORIES:Resident Activities
ATTACH;FMTTYPE=image/png:https://brunswickforest.com/wpc/uploads/2022/06/chess-club.png
ORGANIZER;CN="Lee Lowery":MAILTO:eleelowery@gmail.com
END:VEVENT
BEGIN:VEVENT
DTSTART;TZID=America/New_York:20270512T130000
DTEND;TZID=America/New_York:20270512T140000
DTSTAMP:20260424T211756
CREATED:20231012T145004Z
LAST-MODIFIED:20231012T145004Z
UID:10010561-1810126800-1810130400@brunswickforest.com
SUMMARY:Experienced Mahjong
DESCRIPTION:Call for details\, Wednesdays \n@11am \nContact: Kim Sevier \nksevier0407@gmail.com
URL:https://brunswickforest.com/events/experienced-mahjong-3/2027-05-12/
LOCATION:TBA
CATEGORIES:Resident Activities
ATTACH;FMTTYPE=image/png:https://brunswickforest.com/wpc/uploads/2022/06/mahjong.png
ORGANIZER;CN="Renee Lempert":MAILTO:reneelempert@gmail.com
END:VEVENT
BEGIN:VEVENT
DTSTART;TZID=America/New_York:20270516T000000
DTEND;TZID=America/New_York:20270516T000000
DTSTAMP:20260424T211756
CREATED:20230616T132518Z
LAST-MODIFIED:20230616T132518Z
UID:10006535-1810425600-1810425600@brunswickforest.com
SUMMARY:Bike Riding
DESCRIPTION:Email for times and dates \nContact: Sandy Morrison \nsandymoisalliknow@gmail.com
URL:https://brunswickforest.com/events/bike-riding/2027-05-16/
LOCATION:TBA
CATEGORIES:Resident Activities
ATTACH;FMTTYPE=image/png:https://brunswickforest.com/wpc/uploads/Biking.png
END:VEVENT
BEGIN:VEVENT
DTSTART;VALUE=DATE:20270517
DTEND;VALUE=DATE:20270518
DTSTAMP:20260424T211756
CREATED:20231012T122340Z
LAST-MODIFIED:20231012T122340Z
UID:10007108-1810512000-1810598399@brunswickforest.com
SUMMARY:Investors Club
DESCRIPTION:Email For Details \nContact: Patrick Loyd \npatrickaloyd@kw.com
URL:https://brunswickforest.com/events/investors-club-3/2027-05-17/
LOCATION:TBA
CATEGORIES:Resident Activities
ATTACH;FMTTYPE=image/png:https://brunswickforest.com/wpc/uploads/investment-club.png
ORGANIZER;CN="Patrick Loyd":MAILTO:patrickloyd@kw.com
END:VEVENT
BEGIN:VEVENT
DTSTART;TZID=America/New_York:20270518T000000
DTEND;TZID=America/New_York:20270518T000000
DTSTAMP:20260424T211756
CREATED:20231012T132129Z
LAST-MODIFIED:20231012T132129Z
UID:10009233-1810598400-1810598400@brunswickforest.com
SUMMARY:Pinochle
DESCRIPTION:*Email For Location* Tuesdays \n@10:30am \nContact: Carl Fazio \nRetiredme57@gmail.com
URL:https://brunswickforest.com/events/pinochle-3/2027-05-18/
LOCATION:TBA
CATEGORIES:Resident Activities
ATTACH;FMTTYPE=image/png:https://brunswickforest.com/wpc/uploads/pinochle.png
ORGANIZER;CN="Carl Fazio":MAILTO:retiredme57@gmail.com
END:VEVENT
BEGIN:VEVENT
DTSTART;TZID=America/New_York:20270518T190000
DTEND;TZID=America/New_York:20270518T200000
DTSTAMP:20260424T211756
CREATED:20231012T132501Z
LAST-MODIFIED:20231012T132501Z
UID:10010031-1810666800-1810670400@brunswickforest.com
SUMMARY:Bourbon Lovers
DESCRIPTION:*Email For Location* \n@7pm \nContact: Mary Milliner \nmmilliner@aol.com.com
URL:https://brunswickforest.com/events/bourbon-lovers-3/2027-05-18/
LOCATION:TBA
CATEGORIES:Resident Activities
ATTACH;FMTTYPE=image/png:https://brunswickforest.com/wpc/uploads/Bourbon.png
ORGANIZER;CN="Mary Milliner":MAILTO:mmilliner@aol.com
END:VEVENT
BEGIN:VEVENT
DTSTART;TZID=America/New_York:20270519T100000
DTEND;TZID=America/New_York:20270519T120000
DTSTAMP:20260424T211756
CREATED:20231012T145046Z
LAST-MODIFIED:20231012T145046Z
UID:10010829-1810720800-1810728000@brunswickforest.com
SUMMARY:Chess Club
DESCRIPTION:*Email For Location* \n@10am \nContact: Lee Lowery \neleelowery@gmail.com
URL:https://brunswickforest.com/events/chess-club-4/2027-05-19/
LOCATION:TBA
CATEGORIES:Resident Activities
ATTACH;FMTTYPE=image/png:https://brunswickforest.com/wpc/uploads/2022/06/chess-club.png
ORGANIZER;CN="Lee Lowery":MAILTO:eleelowery@gmail.com
END:VEVENT
BEGIN:VEVENT
DTSTART;TZID=America/New_York:20270519T130000
DTEND;TZID=America/New_York:20270519T140000
DTSTAMP:20260424T211756
CREATED:20231012T145004Z
LAST-MODIFIED:20231012T145004Z
UID:10010562-1810731600-1810735200@brunswickforest.com
SUMMARY:Experienced Mahjong
DESCRIPTION:Call for details\, Wednesdays \n@11am \nContact: Kim Sevier \nksevier0407@gmail.com
URL:https://brunswickforest.com/events/experienced-mahjong-3/2027-05-19/
LOCATION:TBA
CATEGORIES:Resident Activities
ATTACH;FMTTYPE=image/png:https://brunswickforest.com/wpc/uploads/2022/06/mahjong.png
ORGANIZER;CN="Renee Lempert":MAILTO:reneelempert@gmail.com
END:VEVENT
BEGIN:VEVENT
DTSTART;TZID=America/New_York:20270523T000000
DTEND;TZID=America/New_York:20270523T000000
DTSTAMP:20260424T211756
CREATED:20230616T132518Z
LAST-MODIFIED:20230616T132518Z
UID:10006536-1811030400-1811030400@brunswickforest.com
SUMMARY:Bike Riding
DESCRIPTION:Email for times and dates \nContact: Sandy Morrison \nsandymoisalliknow@gmail.com
URL:https://brunswickforest.com/events/bike-riding/2027-05-23/
LOCATION:TBA
CATEGORIES:Resident Activities
ATTACH;FMTTYPE=image/png:https://brunswickforest.com/wpc/uploads/Biking.png
END:VEVENT
BEGIN:VEVENT
DTSTART;VALUE=DATE:20270524
DTEND;VALUE=DATE:20270525
DTSTAMP:20260424T211756
CREATED:20231012T122340Z
LAST-MODIFIED:20231012T122340Z
UID:10007109-1811116800-1811203199@brunswickforest.com
SUMMARY:Investors Club
DESCRIPTION:Email For Details \nContact: Patrick Loyd \npatrickaloyd@kw.com
URL:https://brunswickforest.com/events/investors-club-3/2027-05-24/
LOCATION:TBA
CATEGORIES:Resident Activities
ATTACH;FMTTYPE=image/png:https://brunswickforest.com/wpc/uploads/investment-club.png
ORGANIZER;CN="Patrick Loyd":MAILTO:patrickloyd@kw.com
END:VEVENT
BEGIN:VEVENT
DTSTART;TZID=America/New_York:20270525T000000
DTEND;TZID=America/New_York:20270525T000000
DTSTAMP:20260424T211756
CREATED:20231012T132129Z
LAST-MODIFIED:20231012T132129Z
UID:10009234-1811203200-1811203200@brunswickforest.com
SUMMARY:Pinochle
DESCRIPTION:*Email For Location* Tuesdays \n@10:30am \nContact: Carl Fazio \nRetiredme57@gmail.com
URL:https://brunswickforest.com/events/pinochle-3/2027-05-25/
LOCATION:TBA
CATEGORIES:Resident Activities
ATTACH;FMTTYPE=image/png:https://brunswickforest.com/wpc/uploads/pinochle.png
ORGANIZER;CN="Carl Fazio":MAILTO:retiredme57@gmail.com
END:VEVENT
BEGIN:VEVENT
DTSTART;TZID=America/New_York:20270525T190000
DTEND;TZID=America/New_York:20270525T200000
DTSTAMP:20260424T211756
CREATED:20231012T132501Z
LAST-MODIFIED:20231012T132501Z
UID:10010032-1811271600-1811275200@brunswickforest.com
SUMMARY:Bourbon Lovers
DESCRIPTION:*Email For Location* \n@7pm \nContact: Mary Milliner \nmmilliner@aol.com.com
URL:https://brunswickforest.com/events/bourbon-lovers-3/2027-05-25/
LOCATION:TBA
CATEGORIES:Resident Activities
ATTACH;FMTTYPE=image/png:https://brunswickforest.com/wpc/uploads/Bourbon.png
ORGANIZER;CN="Mary Milliner":MAILTO:mmilliner@aol.com
END:VEVENT
BEGIN:VEVENT
DTSTART;TZID=America/New_York:20270526T100000
DTEND;TZID=America/New_York:20270526T120000
DTSTAMP:20260424T211756
CREATED:20231012T145046Z
LAST-MODIFIED:20231012T145046Z
UID:10010830-1811325600-1811332800@brunswickforest.com
SUMMARY:Chess Club
DESCRIPTION:*Email For Location* \n@10am \nContact: Lee Lowery \neleelowery@gmail.com
URL:https://brunswickforest.com/events/chess-club-4/2027-05-26/
LOCATION:TBA
CATEGORIES:Resident Activities
ATTACH;FMTTYPE=image/png:https://brunswickforest.com/wpc/uploads/2022/06/chess-club.png
ORGANIZER;CN="Lee Lowery":MAILTO:eleelowery@gmail.com
END:VEVENT
BEGIN:VEVENT
DTSTART;TZID=America/New_York:20270526T130000
DTEND;TZID=America/New_York:20270526T140000
DTSTAMP:20260424T211756
CREATED:20231012T145004Z
LAST-MODIFIED:20231012T145004Z
UID:10010563-1811336400-1811340000@brunswickforest.com
SUMMARY:Experienced Mahjong
DESCRIPTION:Call for details\, Wednesdays \n@11am \nContact: Kim Sevier \nksevier0407@gmail.com
URL:https://brunswickforest.com/events/experienced-mahjong-3/2027-05-26/
LOCATION:TBA
CATEGORIES:Resident Activities
ATTACH;FMTTYPE=image/png:https://brunswickforest.com/wpc/uploads/2022/06/mahjong.png
ORGANIZER;CN="Renee Lempert":MAILTO:reneelempert@gmail.com
END:VEVENT
BEGIN:VEVENT
DTSTART;TZID=America/New_York:20270530T000000
DTEND;TZID=America/New_York:20270530T000000
DTSTAMP:20260424T211756
CREATED:20230616T132518Z
LAST-MODIFIED:20230616T132518Z
UID:10006537-1811635200-1811635200@brunswickforest.com
SUMMARY:Bike Riding
DESCRIPTION:Email for times and dates \nContact: Sandy Morrison \nsandymoisalliknow@gmail.com
URL:https://brunswickforest.com/events/bike-riding/2027-05-30/
LOCATION:TBA
CATEGORIES:Resident Activities
ATTACH;FMTTYPE=image/png:https://brunswickforest.com/wpc/uploads/Biking.png
END:VEVENT
BEGIN:VEVENT
DTSTART;VALUE=DATE:20270531
DTEND;VALUE=DATE:20270601
DTSTAMP:20260424T211756
CREATED:20231012T122340Z
LAST-MODIFIED:20231012T122340Z
UID:10007110-1811721600-1811807999@brunswickforest.com
SUMMARY:Investors Club
DESCRIPTION:Email For Details \nContact: Patrick Loyd \npatrickaloyd@kw.com
URL:https://brunswickforest.com/events/investors-club-3/2027-05-31/
LOCATION:TBA
CATEGORIES:Resident Activities
ATTACH;FMTTYPE=image/png:https://brunswickforest.com/wpc/uploads/investment-club.png
ORGANIZER;CN="Patrick Loyd":MAILTO:patrickloyd@kw.com
END:VEVENT
BEGIN:VEVENT
DTSTART;TZID=America/New_York:20270601T000000
DTEND;TZID=America/New_York:20270601T000000
DTSTAMP:20260424T211756
CREATED:20231012T132129Z
LAST-MODIFIED:20231012T132129Z
UID:10009235-1811808000-1811808000@brunswickforest.com
SUMMARY:Pinochle
DESCRIPTION:*Email For Location* Tuesdays \n@10:30am \nContact: Carl Fazio \nRetiredme57@gmail.com
URL:https://brunswickforest.com/events/pinochle-3/2027-06-01/
LOCATION:TBA
CATEGORIES:Resident Activities
ATTACH;FMTTYPE=image/png:https://brunswickforest.com/wpc/uploads/pinochle.png
ORGANIZER;CN="Carl Fazio":MAILTO:retiredme57@gmail.com
END:VEVENT
END:VCALENDAR