BEGIN:VCALENDAR
VERSION:2.0
PRODID:-//Brunswick Forest - ECPv6.15.20//NONSGML v1.0//EN
CALSCALE:GREGORIAN
METHOD:PUBLISH
X-WR-CALNAME:Brunswick Forest
X-ORIGINAL-URL:https://brunswickforest.com
X-WR-CALDESC:Events for Brunswick Forest
REFRESH-INTERVAL;VALUE=DURATION:PT1H
X-Robots-Tag:noindex
X-PUBLISHED-TTL:PT1H
BEGIN:VTIMEZONE
TZID:America/New_York
BEGIN:DAYLIGHT
TZOFFSETFROM:-0500
TZOFFSETTO:-0400
TZNAME:EDT
DTSTART:20240310T070000
END:DAYLIGHT
BEGIN:STANDARD
TZOFFSETFROM:-0400
TZOFFSETTO:-0500
TZNAME:EST
DTSTART:20241103T060000
END:STANDARD
BEGIN:DAYLIGHT
TZOFFSETFROM:-0500
TZOFFSETTO:-0400
TZNAME:EDT
DTSTART:20250309T070000
END:DAYLIGHT
BEGIN:STANDARD
TZOFFSETFROM:-0400
TZOFFSETTO:-0500
TZNAME:EST
DTSTART:20251102T060000
END:STANDARD
BEGIN:DAYLIGHT
TZOFFSETFROM:-0500
TZOFFSETTO:-0400
TZNAME:EDT
DTSTART:20260308T070000
END:DAYLIGHT
BEGIN:STANDARD
TZOFFSETFROM:-0400
TZOFFSETTO:-0500
TZNAME:EST
DTSTART:20261101T060000
END:STANDARD
END:VTIMEZONE
BEGIN:VEVENT
DTSTART;TZID=America/New_York:20250608T000000
DTEND;TZID=America/New_York:20250608T000000
DTSTAMP:20260424T080112
CREATED:20230616T132518Z
LAST-MODIFIED:20230616T132518Z
UID:10006434-1749340800-1749340800@brunswickforest.com
SUMMARY:Bike Riding
DESCRIPTION:Email for times and dates \nContact: Sandy Morrison \nsandymoisalliknow@gmail.com
URL:https://brunswickforest.com/events/bike-riding/2025-06-08/
LOCATION:TBA
CATEGORIES:Resident Activities
ATTACH;FMTTYPE=image/png:https://brunswickforest.com/wpc/uploads/Biking.png
END:VEVENT
BEGIN:VEVENT
DTSTART;TZID=America/New_York:20250604T130000
DTEND;TZID=America/New_York:20250604T140000
DTSTAMP:20260424T080112
CREATED:20231012T145004Z
LAST-MODIFIED:20231012T145004Z
UID:10010460-1749042000-1749045600@brunswickforest.com
SUMMARY:Experienced Mahjong
DESCRIPTION:Call for details\, Wednesdays \n@11am \nContact: Kim Sevier \nksevier0407@gmail.com
URL:https://brunswickforest.com/events/experienced-mahjong-3/2025-06-04/
LOCATION:TBA
CATEGORIES:Resident Activities
ATTACH;FMTTYPE=image/png:https://brunswickforest.com/wpc/uploads/2022/06/mahjong.png
ORGANIZER;CN="Renee Lempert":MAILTO:reneelempert@gmail.com
END:VEVENT
BEGIN:VEVENT
DTSTART;TZID=America/New_York:20250604T100000
DTEND;TZID=America/New_York:20250604T120000
DTSTAMP:20260424T080112
CREATED:20231012T145046Z
LAST-MODIFIED:20231012T145046Z
UID:10010727-1749031200-1749038400@brunswickforest.com
SUMMARY:Chess Club
DESCRIPTION:*Email For Location* \n@10am \nContact: Lee Lowery \neleelowery@gmail.com
URL:https://brunswickforest.com/events/chess-club-4/2025-06-04/
LOCATION:TBA
CATEGORIES:Resident Activities
ATTACH;FMTTYPE=image/png:https://brunswickforest.com/wpc/uploads/2022/06/chess-club.png
ORGANIZER;CN="Lee Lowery":MAILTO:eleelowery@gmail.com
END:VEVENT
BEGIN:VEVENT
DTSTART;TZID=America/New_York:20250603T190000
DTEND;TZID=America/New_York:20250603T200000
DTSTAMP:20260424T080112
CREATED:20231012T132501Z
LAST-MODIFIED:20231012T132501Z
UID:10009929-1748977200-1748980800@brunswickforest.com
SUMMARY:Bourbon Lovers
DESCRIPTION:*Email For Location* \n@7pm \nContact: Mary Milliner \nmmilliner@aol.com.com
URL:https://brunswickforest.com/events/bourbon-lovers-3/2025-06-03/
LOCATION:TBA
CATEGORIES:Resident Activities
ATTACH;FMTTYPE=image/png:https://brunswickforest.com/wpc/uploads/Bourbon.png
ORGANIZER;CN="Mary Milliner":MAILTO:mmilliner@aol.com
END:VEVENT
BEGIN:VEVENT
DTSTART;TZID=America/New_York:20250603T000000
DTEND;TZID=America/New_York:20250603T000000
DTSTAMP:20260424T080112
CREATED:20231012T132129Z
LAST-MODIFIED:20231012T132129Z
UID:10009131-1748908800-1748908800@brunswickforest.com
SUMMARY:Pinochle
DESCRIPTION:*Email For Location* Tuesdays \n@10:30am \nContact: Carl Fazio \nRetiredme57@gmail.com
URL:https://brunswickforest.com/events/pinochle-3/2025-06-03/
LOCATION:TBA
CATEGORIES:Resident Activities
ATTACH;FMTTYPE=image/png:https://brunswickforest.com/wpc/uploads/pinochle.png
ORGANIZER;CN="Carl Fazio":MAILTO:retiredme57@gmail.com
END:VEVENT
BEGIN:VEVENT
DTSTART;VALUE=DATE:20250602
DTEND;VALUE=DATE:20250603
DTSTAMP:20260424T080112
CREATED:20231012T122340Z
LAST-MODIFIED:20231012T122340Z
UID:10007006-1748822400-1748908799@brunswickforest.com
SUMMARY:Investors Club
DESCRIPTION:Email For Details \nContact: Patrick Loyd \npatrickaloyd@kw.com
URL:https://brunswickforest.com/events/investors-club-3/2025-06-02/
LOCATION:TBA
CATEGORIES:Resident Activities
ATTACH;FMTTYPE=image/png:https://brunswickforest.com/wpc/uploads/investment-club.png
ORGANIZER;CN="Patrick Loyd":MAILTO:patrickloyd@kw.com
END:VEVENT
BEGIN:VEVENT
DTSTART;TZID=America/New_York:20250601T000000
DTEND;TZID=America/New_York:20250601T000000
DTSTAMP:20260424T080112
CREATED:20230616T132518Z
LAST-MODIFIED:20230616T132518Z
UID:10006433-1748736000-1748736000@brunswickforest.com
SUMMARY:Bike Riding
DESCRIPTION:Email for times and dates \nContact: Sandy Morrison \nsandymoisalliknow@gmail.com
URL:https://brunswickforest.com/events/bike-riding/2025-06-01/
LOCATION:TBA
CATEGORIES:Resident Activities
ATTACH;FMTTYPE=image/png:https://brunswickforest.com/wpc/uploads/Biking.png
END:VEVENT
BEGIN:VEVENT
DTSTART;TZID=America/New_York:20250528T130000
DTEND;TZID=America/New_York:20250528T140000
DTSTAMP:20260424T080112
CREATED:20231012T145004Z
LAST-MODIFIED:20231012T145004Z
UID:10010459-1748437200-1748440800@brunswickforest.com
SUMMARY:Experienced Mahjong
DESCRIPTION:Call for details\, Wednesdays \n@11am \nContact: Kim Sevier \nksevier0407@gmail.com
URL:https://brunswickforest.com/events/experienced-mahjong-3/2025-05-28/
LOCATION:TBA
CATEGORIES:Resident Activities
ATTACH;FMTTYPE=image/png:https://brunswickforest.com/wpc/uploads/2022/06/mahjong.png
ORGANIZER;CN="Renee Lempert":MAILTO:reneelempert@gmail.com
END:VEVENT
BEGIN:VEVENT
DTSTART;TZID=America/New_York:20250528T100000
DTEND;TZID=America/New_York:20250528T120000
DTSTAMP:20260424T080112
CREATED:20231012T145046Z
LAST-MODIFIED:20231012T145046Z
UID:10010726-1748426400-1748433600@brunswickforest.com
SUMMARY:Chess Club
DESCRIPTION:*Email For Location* \n@10am \nContact: Lee Lowery \neleelowery@gmail.com
URL:https://brunswickforest.com/events/chess-club-4/2025-05-28/
LOCATION:TBA
CATEGORIES:Resident Activities
ATTACH;FMTTYPE=image/png:https://brunswickforest.com/wpc/uploads/2022/06/chess-club.png
ORGANIZER;CN="Lee Lowery":MAILTO:eleelowery@gmail.com
END:VEVENT
BEGIN:VEVENT
DTSTART;TZID=America/New_York:20250527T190000
DTEND;TZID=America/New_York:20250527T200000
DTSTAMP:20260424T080112
CREATED:20231012T132501Z
LAST-MODIFIED:20231012T132501Z
UID:10009928-1748372400-1748376000@brunswickforest.com
SUMMARY:Bourbon Lovers
DESCRIPTION:*Email For Location* \n@7pm \nContact: Mary Milliner \nmmilliner@aol.com.com
URL:https://brunswickforest.com/events/bourbon-lovers-3/2025-05-27/
LOCATION:TBA
CATEGORIES:Resident Activities
ATTACH;FMTTYPE=image/png:https://brunswickforest.com/wpc/uploads/Bourbon.png
ORGANIZER;CN="Mary Milliner":MAILTO:mmilliner@aol.com
END:VEVENT
BEGIN:VEVENT
DTSTART;TZID=America/New_York:20250527T000000
DTEND;TZID=America/New_York:20250527T000000
DTSTAMP:20260424T080112
CREATED:20231012T132129Z
LAST-MODIFIED:20231012T132129Z
UID:10009130-1748304000-1748304000@brunswickforest.com
SUMMARY:Pinochle
DESCRIPTION:*Email For Location* Tuesdays \n@10:30am \nContact: Carl Fazio \nRetiredme57@gmail.com
URL:https://brunswickforest.com/events/pinochle-3/2025-05-27/
LOCATION:TBA
CATEGORIES:Resident Activities
ATTACH;FMTTYPE=image/png:https://brunswickforest.com/wpc/uploads/pinochle.png
ORGANIZER;CN="Carl Fazio":MAILTO:retiredme57@gmail.com
END:VEVENT
BEGIN:VEVENT
DTSTART;VALUE=DATE:20250526
DTEND;VALUE=DATE:20250527
DTSTAMP:20260424T080112
CREATED:20231012T122340Z
LAST-MODIFIED:20231012T122340Z
UID:10007005-1748217600-1748303999@brunswickforest.com
SUMMARY:Investors Club
DESCRIPTION:Email For Details \nContact: Patrick Loyd \npatrickaloyd@kw.com
URL:https://brunswickforest.com/events/investors-club-3/2025-05-26/
LOCATION:TBA
CATEGORIES:Resident Activities
ATTACH;FMTTYPE=image/png:https://brunswickforest.com/wpc/uploads/investment-club.png
ORGANIZER;CN="Patrick Loyd":MAILTO:patrickloyd@kw.com
END:VEVENT
BEGIN:VEVENT
DTSTART;TZID=America/New_York:20250525T000000
DTEND;TZID=America/New_York:20250525T000000
DTSTAMP:20260424T080112
CREATED:20230616T132518Z
LAST-MODIFIED:20230616T132518Z
UID:10006432-1748131200-1748131200@brunswickforest.com
SUMMARY:Bike Riding
DESCRIPTION:Email for times and dates \nContact: Sandy Morrison \nsandymoisalliknow@gmail.com
URL:https://brunswickforest.com/events/bike-riding/2025-05-25/
LOCATION:TBA
CATEGORIES:Resident Activities
ATTACH;FMTTYPE=image/png:https://brunswickforest.com/wpc/uploads/Biking.png
END:VEVENT
BEGIN:VEVENT
DTSTART;TZID=America/New_York:20250521T130000
DTEND;TZID=America/New_York:20250521T140000
DTSTAMP:20260424T080112
CREATED:20231012T145004Z
LAST-MODIFIED:20231012T145004Z
UID:10010458-1747832400-1747836000@brunswickforest.com
SUMMARY:Experienced Mahjong
DESCRIPTION:Call for details\, Wednesdays \n@11am \nContact: Kim Sevier \nksevier0407@gmail.com
URL:https://brunswickforest.com/events/experienced-mahjong-3/2025-05-21/
LOCATION:TBA
CATEGORIES:Resident Activities
ATTACH;FMTTYPE=image/png:https://brunswickforest.com/wpc/uploads/2022/06/mahjong.png
ORGANIZER;CN="Renee Lempert":MAILTO:reneelempert@gmail.com
END:VEVENT
BEGIN:VEVENT
DTSTART;TZID=America/New_York:20250521T100000
DTEND;TZID=America/New_York:20250521T120000
DTSTAMP:20260424T080112
CREATED:20231012T145046Z
LAST-MODIFIED:20231012T145046Z
UID:10010725-1747821600-1747828800@brunswickforest.com
SUMMARY:Chess Club
DESCRIPTION:*Email For Location* \n@10am \nContact: Lee Lowery \neleelowery@gmail.com
URL:https://brunswickforest.com/events/chess-club-4/2025-05-21/
LOCATION:TBA
CATEGORIES:Resident Activities
ATTACH;FMTTYPE=image/png:https://brunswickforest.com/wpc/uploads/2022/06/chess-club.png
ORGANIZER;CN="Lee Lowery":MAILTO:eleelowery@gmail.com
END:VEVENT
BEGIN:VEVENT
DTSTART;TZID=America/New_York:20250520T190000
DTEND;TZID=America/New_York:20250520T200000
DTSTAMP:20260424T080112
CREATED:20231012T132501Z
LAST-MODIFIED:20231012T132501Z
UID:10009927-1747767600-1747771200@brunswickforest.com
SUMMARY:Bourbon Lovers
DESCRIPTION:*Email For Location* \n@7pm \nContact: Mary Milliner \nmmilliner@aol.com.com
URL:https://brunswickforest.com/events/bourbon-lovers-3/2025-05-20/
LOCATION:TBA
CATEGORIES:Resident Activities
ATTACH;FMTTYPE=image/png:https://brunswickforest.com/wpc/uploads/Bourbon.png
ORGANIZER;CN="Mary Milliner":MAILTO:mmilliner@aol.com
END:VEVENT
BEGIN:VEVENT
DTSTART;TZID=America/New_York:20250520T000000
DTEND;TZID=America/New_York:20250520T000000
DTSTAMP:20260424T080112
CREATED:20231012T132129Z
LAST-MODIFIED:20231012T132129Z
UID:10009129-1747699200-1747699200@brunswickforest.com
SUMMARY:Pinochle
DESCRIPTION:*Email For Location* Tuesdays \n@10:30am \nContact: Carl Fazio \nRetiredme57@gmail.com
URL:https://brunswickforest.com/events/pinochle-3/2025-05-20/
LOCATION:TBA
CATEGORIES:Resident Activities
ATTACH;FMTTYPE=image/png:https://brunswickforest.com/wpc/uploads/pinochle.png
ORGANIZER;CN="Carl Fazio":MAILTO:retiredme57@gmail.com
END:VEVENT
BEGIN:VEVENT
DTSTART;VALUE=DATE:20250519
DTEND;VALUE=DATE:20250520
DTSTAMP:20260424T080112
CREATED:20231012T122340Z
LAST-MODIFIED:20231012T122340Z
UID:10007004-1747612800-1747699199@brunswickforest.com
SUMMARY:Investors Club
DESCRIPTION:Email For Details \nContact: Patrick Loyd \npatrickaloyd@kw.com
URL:https://brunswickforest.com/events/investors-club-3/2025-05-19/
LOCATION:TBA
CATEGORIES:Resident Activities
ATTACH;FMTTYPE=image/png:https://brunswickforest.com/wpc/uploads/investment-club.png
ORGANIZER;CN="Patrick Loyd":MAILTO:patrickloyd@kw.com
END:VEVENT
BEGIN:VEVENT
DTSTART;TZID=America/New_York:20250518T000000
DTEND;TZID=America/New_York:20250518T000000
DTSTAMP:20260424T080112
CREATED:20230616T132518Z
LAST-MODIFIED:20230616T132518Z
UID:10006431-1747526400-1747526400@brunswickforest.com
SUMMARY:Bike Riding
DESCRIPTION:Email for times and dates \nContact: Sandy Morrison \nsandymoisalliknow@gmail.com
URL:https://brunswickforest.com/events/bike-riding/2025-05-18/
LOCATION:TBA
CATEGORIES:Resident Activities
ATTACH;FMTTYPE=image/png:https://brunswickforest.com/wpc/uploads/Biking.png
END:VEVENT
BEGIN:VEVENT
DTSTART;TZID=America/New_York:20250514T130000
DTEND;TZID=America/New_York:20250514T140000
DTSTAMP:20260424T080112
CREATED:20231012T145004Z
LAST-MODIFIED:20231012T145004Z
UID:10010457-1747227600-1747231200@brunswickforest.com
SUMMARY:Experienced Mahjong
DESCRIPTION:Call for details\, Wednesdays \n@11am \nContact: Kim Sevier \nksevier0407@gmail.com
URL:https://brunswickforest.com/events/experienced-mahjong-3/2025-05-14/
LOCATION:TBA
CATEGORIES:Resident Activities
ATTACH;FMTTYPE=image/png:https://brunswickforest.com/wpc/uploads/2022/06/mahjong.png
ORGANIZER;CN="Renee Lempert":MAILTO:reneelempert@gmail.com
END:VEVENT
BEGIN:VEVENT
DTSTART;TZID=America/New_York:20250514T100000
DTEND;TZID=America/New_York:20250514T120000
DTSTAMP:20260424T080112
CREATED:20231012T145046Z
LAST-MODIFIED:20231012T145046Z
UID:10010724-1747216800-1747224000@brunswickforest.com
SUMMARY:Chess Club
DESCRIPTION:*Email For Location* \n@10am \nContact: Lee Lowery \neleelowery@gmail.com
URL:https://brunswickforest.com/events/chess-club-4/2025-05-14/
LOCATION:TBA
CATEGORIES:Resident Activities
ATTACH;FMTTYPE=image/png:https://brunswickforest.com/wpc/uploads/2022/06/chess-club.png
ORGANIZER;CN="Lee Lowery":MAILTO:eleelowery@gmail.com
END:VEVENT
BEGIN:VEVENT
DTSTART;TZID=America/New_York:20250513T190000
DTEND;TZID=America/New_York:20250513T200000
DTSTAMP:20260424T080112
CREATED:20231012T132501Z
LAST-MODIFIED:20231012T132501Z
UID:10009926-1747162800-1747166400@brunswickforest.com
SUMMARY:Bourbon Lovers
DESCRIPTION:*Email For Location* \n@7pm \nContact: Mary Milliner \nmmilliner@aol.com.com
URL:https://brunswickforest.com/events/bourbon-lovers-3/2025-05-13/
LOCATION:TBA
CATEGORIES:Resident Activities
ATTACH;FMTTYPE=image/png:https://brunswickforest.com/wpc/uploads/Bourbon.png
ORGANIZER;CN="Mary Milliner":MAILTO:mmilliner@aol.com
END:VEVENT
BEGIN:VEVENT
DTSTART;TZID=America/New_York:20250513T000000
DTEND;TZID=America/New_York:20250513T000000
DTSTAMP:20260424T080112
CREATED:20231012T132129Z
LAST-MODIFIED:20231012T132129Z
UID:10009128-1747094400-1747094400@brunswickforest.com
SUMMARY:Pinochle
DESCRIPTION:*Email For Location* Tuesdays \n@10:30am \nContact: Carl Fazio \nRetiredme57@gmail.com
URL:https://brunswickforest.com/events/pinochle-3/2025-05-13/
LOCATION:TBA
CATEGORIES:Resident Activities
ATTACH;FMTTYPE=image/png:https://brunswickforest.com/wpc/uploads/pinochle.png
ORGANIZER;CN="Carl Fazio":MAILTO:retiredme57@gmail.com
END:VEVENT
BEGIN:VEVENT
DTSTART;VALUE=DATE:20250512
DTEND;VALUE=DATE:20250513
DTSTAMP:20260424T080112
CREATED:20231012T122340Z
LAST-MODIFIED:20231012T122340Z
UID:10007003-1747008000-1747094399@brunswickforest.com
SUMMARY:Investors Club
DESCRIPTION:Email For Details \nContact: Patrick Loyd \npatrickaloyd@kw.com
URL:https://brunswickforest.com/events/investors-club-3/2025-05-12/
LOCATION:TBA
CATEGORIES:Resident Activities
ATTACH;FMTTYPE=image/png:https://brunswickforest.com/wpc/uploads/investment-club.png
ORGANIZER;CN="Patrick Loyd":MAILTO:patrickloyd@kw.com
END:VEVENT
BEGIN:VEVENT
DTSTART;TZID=America/New_York:20250511T000000
DTEND;TZID=America/New_York:20250511T000000
DTSTAMP:20260424T080112
CREATED:20230616T132518Z
LAST-MODIFIED:20230616T132518Z
UID:10006430-1746921600-1746921600@brunswickforest.com
SUMMARY:Bike Riding
DESCRIPTION:Email for times and dates \nContact: Sandy Morrison \nsandymoisalliknow@gmail.com
URL:https://brunswickforest.com/events/bike-riding/2025-05-11/
LOCATION:TBA
CATEGORIES:Resident Activities
ATTACH;FMTTYPE=image/png:https://brunswickforest.com/wpc/uploads/Biking.png
END:VEVENT
BEGIN:VEVENT
DTSTART;TZID=America/New_York:20250507T130000
DTEND;TZID=America/New_York:20250507T140000
DTSTAMP:20260424T080112
CREATED:20231012T145004Z
LAST-MODIFIED:20231012T145004Z
UID:10010456-1746622800-1746626400@brunswickforest.com
SUMMARY:Experienced Mahjong
DESCRIPTION:Call for details\, Wednesdays \n@11am \nContact: Kim Sevier \nksevier0407@gmail.com
URL:https://brunswickforest.com/events/experienced-mahjong-3/2025-05-07/
LOCATION:TBA
CATEGORIES:Resident Activities
ATTACH;FMTTYPE=image/png:https://brunswickforest.com/wpc/uploads/2022/06/mahjong.png
ORGANIZER;CN="Renee Lempert":MAILTO:reneelempert@gmail.com
END:VEVENT
BEGIN:VEVENT
DTSTART;TZID=America/New_York:20250507T100000
DTEND;TZID=America/New_York:20250507T120000
DTSTAMP:20260424T080112
CREATED:20231012T145046Z
LAST-MODIFIED:20231012T145046Z
UID:10010723-1746612000-1746619200@brunswickforest.com
SUMMARY:Chess Club
DESCRIPTION:*Email For Location* \n@10am \nContact: Lee Lowery \neleelowery@gmail.com
URL:https://brunswickforest.com/events/chess-club-4/2025-05-07/
LOCATION:TBA
CATEGORIES:Resident Activities
ATTACH;FMTTYPE=image/png:https://brunswickforest.com/wpc/uploads/2022/06/chess-club.png
ORGANIZER;CN="Lee Lowery":MAILTO:eleelowery@gmail.com
END:VEVENT
BEGIN:VEVENT
DTSTART;TZID=America/New_York:20250506T190000
DTEND;TZID=America/New_York:20250506T200000
DTSTAMP:20260424T080112
CREATED:20231012T132501Z
LAST-MODIFIED:20231012T132501Z
UID:10009925-1746558000-1746561600@brunswickforest.com
SUMMARY:Bourbon Lovers
DESCRIPTION:*Email For Location* \n@7pm \nContact: Mary Milliner \nmmilliner@aol.com.com
URL:https://brunswickforest.com/events/bourbon-lovers-3/2025-05-06/
LOCATION:TBA
CATEGORIES:Resident Activities
ATTACH;FMTTYPE=image/png:https://brunswickforest.com/wpc/uploads/Bourbon.png
ORGANIZER;CN="Mary Milliner":MAILTO:mmilliner@aol.com
END:VEVENT
BEGIN:VEVENT
DTSTART;TZID=America/New_York:20250506T000000
DTEND;TZID=America/New_York:20250506T000000
DTSTAMP:20260424T080112
CREATED:20231012T132129Z
LAST-MODIFIED:20231012T132129Z
UID:10009127-1746489600-1746489600@brunswickforest.com
SUMMARY:Pinochle
DESCRIPTION:*Email For Location* Tuesdays \n@10:30am \nContact: Carl Fazio \nRetiredme57@gmail.com
URL:https://brunswickforest.com/events/pinochle-3/2025-05-06/
LOCATION:TBA
CATEGORIES:Resident Activities
ATTACH;FMTTYPE=image/png:https://brunswickforest.com/wpc/uploads/pinochle.png
ORGANIZER;CN="Carl Fazio":MAILTO:retiredme57@gmail.com
END:VEVENT
BEGIN:VEVENT
DTSTART;VALUE=DATE:20250505
DTEND;VALUE=DATE:20250506
DTSTAMP:20260424T080112
CREATED:20231012T122340Z
LAST-MODIFIED:20231012T122340Z
UID:10007002-1746403200-1746489599@brunswickforest.com
SUMMARY:Investors Club
DESCRIPTION:Email For Details \nContact: Patrick Loyd \npatrickaloyd@kw.com
URL:https://brunswickforest.com/events/investors-club-3/2025-05-05/
LOCATION:TBA
CATEGORIES:Resident Activities
ATTACH;FMTTYPE=image/png:https://brunswickforest.com/wpc/uploads/investment-club.png
ORGANIZER;CN="Patrick Loyd":MAILTO:patrickloyd@kw.com
END:VEVENT
END:VCALENDAR