BEGIN:VCALENDAR
VERSION:2.0
PRODID:-//Brunswick Forest - ECPv6.15.20//NONSGML v1.0//EN
CALSCALE:GREGORIAN
METHOD:PUBLISH
X-WR-CALNAME:Brunswick Forest
X-ORIGINAL-URL:https://brunswickforest.com
X-WR-CALDESC:Events for Brunswick Forest
REFRESH-INTERVAL;VALUE=DURATION:PT1H
X-Robots-Tag:noindex
X-PUBLISHED-TTL:PT1H
BEGIN:VTIMEZONE
TZID:America/New_York
BEGIN:DAYLIGHT
TZOFFSETFROM:-0500
TZOFFSETTO:-0400
TZNAME:EDT
DTSTART:20260308T070000
END:DAYLIGHT
BEGIN:STANDARD
TZOFFSETFROM:-0400
TZOFFSETTO:-0500
TZNAME:EST
DTSTART:20261101T060000
END:STANDARD
BEGIN:DAYLIGHT
TZOFFSETFROM:-0500
TZOFFSETTO:-0400
TZNAME:EDT
DTSTART:20270314T070000
END:DAYLIGHT
BEGIN:STANDARD
TZOFFSETFROM:-0400
TZOFFSETTO:-0500
TZNAME:EST
DTSTART:20271107T060000
END:STANDARD
BEGIN:DAYLIGHT
TZOFFSETFROM:-0500
TZOFFSETTO:-0400
TZNAME:EDT
DTSTART:20280312T070000
END:DAYLIGHT
BEGIN:STANDARD
TZOFFSETFROM:-0400
TZOFFSETTO:-0500
TZNAME:EST
DTSTART:20281105T060000
END:STANDARD
END:VTIMEZONE
BEGIN:VEVENT
DTSTART;TZID=America/New_York:20270119T000000
DTEND;TZID=America/New_York:20270119T000000
DTSTAMP:20260423T132358
CREATED:20231012T132129Z
LAST-MODIFIED:20231012T132129Z
UID:10009216-1800316800-1800316800@brunswickforest.com
SUMMARY:Pinochle
DESCRIPTION:*Email For Location* Tuesdays \n@10:30am \nContact: Carl Fazio \nRetiredme57@gmail.com
URL:https://brunswickforest.com/events/pinochle-3/2027-01-19/
LOCATION:TBA
CATEGORIES:Resident Activities
ATTACH;FMTTYPE=image/png:https://brunswickforest.com/wpc/uploads/pinochle.png
ORGANIZER;CN="Carl Fazio":MAILTO:retiredme57@gmail.com
END:VEVENT
BEGIN:VEVENT
DTSTART;TZID=America/New_York:20270119T190000
DTEND;TZID=America/New_York:20270119T200000
DTSTAMP:20260423T132358
CREATED:20231012T132501Z
LAST-MODIFIED:20231012T132501Z
UID:10010014-1800385200-1800388800@brunswickforest.com
SUMMARY:Bourbon Lovers
DESCRIPTION:*Email For Location* \n@7pm \nContact: Mary Milliner \nmmilliner@aol.com.com
URL:https://brunswickforest.com/events/bourbon-lovers-3/2027-01-19/
LOCATION:TBA
CATEGORIES:Resident Activities
ATTACH;FMTTYPE=image/png:https://brunswickforest.com/wpc/uploads/Bourbon.png
ORGANIZER;CN="Mary Milliner":MAILTO:mmilliner@aol.com
END:VEVENT
BEGIN:VEVENT
DTSTART;TZID=America/New_York:20270120T100000
DTEND;TZID=America/New_York:20270120T120000
DTSTAMP:20260423T132358
CREATED:20231012T145046Z
LAST-MODIFIED:20231012T145046Z
UID:10010812-1800439200-1800446400@brunswickforest.com
SUMMARY:Chess Club
DESCRIPTION:*Email For Location* \n@10am \nContact: Lee Lowery \neleelowery@gmail.com
URL:https://brunswickforest.com/events/chess-club-4/2027-01-20/
LOCATION:TBA
CATEGORIES:Resident Activities
ATTACH;FMTTYPE=image/png:https://brunswickforest.com/wpc/uploads/2022/06/chess-club.png
ORGANIZER;CN="Lee Lowery":MAILTO:eleelowery@gmail.com
END:VEVENT
BEGIN:VEVENT
DTSTART;TZID=America/New_York:20270120T130000
DTEND;TZID=America/New_York:20270120T140000
DTSTAMP:20260423T132358
CREATED:20231012T145004Z
LAST-MODIFIED:20231012T145004Z
UID:10010545-1800450000-1800453600@brunswickforest.com
SUMMARY:Experienced Mahjong
DESCRIPTION:Call for details\, Wednesdays \n@11am \nContact: Kim Sevier \nksevier0407@gmail.com
URL:https://brunswickforest.com/events/experienced-mahjong-3/2027-01-20/
LOCATION:TBA
CATEGORIES:Resident Activities
ATTACH;FMTTYPE=image/png:https://brunswickforest.com/wpc/uploads/2022/06/mahjong.png
ORGANIZER;CN="Renee Lempert":MAILTO:reneelempert@gmail.com
END:VEVENT
BEGIN:VEVENT
DTSTART;TZID=America/New_York:20270124T000000
DTEND;TZID=America/New_York:20270124T000000
DTSTAMP:20260423T132358
CREATED:20230616T132518Z
LAST-MODIFIED:20230616T132518Z
UID:10006519-1800748800-1800748800@brunswickforest.com
SUMMARY:Bike Riding
DESCRIPTION:Email for times and dates \nContact: Sandy Morrison \nsandymoisalliknow@gmail.com
URL:https://brunswickforest.com/events/bike-riding/2027-01-24/
LOCATION:TBA
CATEGORIES:Resident Activities
ATTACH;FMTTYPE=image/png:https://brunswickforest.com/wpc/uploads/Biking.png
END:VEVENT
BEGIN:VEVENT
DTSTART;VALUE=DATE:20270125
DTEND;VALUE=DATE:20270126
DTSTAMP:20260423T132358
CREATED:20231012T122340Z
LAST-MODIFIED:20231012T122340Z
UID:10007092-1800835200-1800921599@brunswickforest.com
SUMMARY:Investors Club
DESCRIPTION:Email For Details \nContact: Patrick Loyd \npatrickaloyd@kw.com
URL:https://brunswickforest.com/events/investors-club-3/2027-01-25/
LOCATION:TBA
CATEGORIES:Resident Activities
ATTACH;FMTTYPE=image/png:https://brunswickforest.com/wpc/uploads/investment-club.png
ORGANIZER;CN="Patrick Loyd":MAILTO:patrickloyd@kw.com
END:VEVENT
BEGIN:VEVENT
DTSTART;TZID=America/New_York:20270126T000000
DTEND;TZID=America/New_York:20270126T000000
DTSTAMP:20260423T132358
CREATED:20231012T132129Z
LAST-MODIFIED:20231012T132129Z
UID:10009217-1800921600-1800921600@brunswickforest.com
SUMMARY:Pinochle
DESCRIPTION:*Email For Location* Tuesdays \n@10:30am \nContact: Carl Fazio \nRetiredme57@gmail.com
URL:https://brunswickforest.com/events/pinochle-3/2027-01-26/
LOCATION:TBA
CATEGORIES:Resident Activities
ATTACH;FMTTYPE=image/png:https://brunswickforest.com/wpc/uploads/pinochle.png
ORGANIZER;CN="Carl Fazio":MAILTO:retiredme57@gmail.com
END:VEVENT
BEGIN:VEVENT
DTSTART;TZID=America/New_York:20270126T190000
DTEND;TZID=America/New_York:20270126T200000
DTSTAMP:20260423T132358
CREATED:20231012T132501Z
LAST-MODIFIED:20231012T132501Z
UID:10010015-1800990000-1800993600@brunswickforest.com
SUMMARY:Bourbon Lovers
DESCRIPTION:*Email For Location* \n@7pm \nContact: Mary Milliner \nmmilliner@aol.com.com
URL:https://brunswickforest.com/events/bourbon-lovers-3/2027-01-26/
LOCATION:TBA
CATEGORIES:Resident Activities
ATTACH;FMTTYPE=image/png:https://brunswickforest.com/wpc/uploads/Bourbon.png
ORGANIZER;CN="Mary Milliner":MAILTO:mmilliner@aol.com
END:VEVENT
BEGIN:VEVENT
DTSTART;TZID=America/New_York:20270127T100000
DTEND;TZID=America/New_York:20270127T120000
DTSTAMP:20260423T132358
CREATED:20231012T145046Z
LAST-MODIFIED:20231012T145046Z
UID:10010813-1801044000-1801051200@brunswickforest.com
SUMMARY:Chess Club
DESCRIPTION:*Email For Location* \n@10am \nContact: Lee Lowery \neleelowery@gmail.com
URL:https://brunswickforest.com/events/chess-club-4/2027-01-27/
LOCATION:TBA
CATEGORIES:Resident Activities
ATTACH;FMTTYPE=image/png:https://brunswickforest.com/wpc/uploads/2022/06/chess-club.png
ORGANIZER;CN="Lee Lowery":MAILTO:eleelowery@gmail.com
END:VEVENT
BEGIN:VEVENT
DTSTART;TZID=America/New_York:20270127T130000
DTEND;TZID=America/New_York:20270127T140000
DTSTAMP:20260423T132358
CREATED:20231012T145004Z
LAST-MODIFIED:20231012T145004Z
UID:10010546-1801054800-1801058400@brunswickforest.com
SUMMARY:Experienced Mahjong
DESCRIPTION:Call for details\, Wednesdays \n@11am \nContact: Kim Sevier \nksevier0407@gmail.com
URL:https://brunswickforest.com/events/experienced-mahjong-3/2027-01-27/
LOCATION:TBA
CATEGORIES:Resident Activities
ATTACH;FMTTYPE=image/png:https://brunswickforest.com/wpc/uploads/2022/06/mahjong.png
ORGANIZER;CN="Renee Lempert":MAILTO:reneelempert@gmail.com
END:VEVENT
BEGIN:VEVENT
DTSTART;TZID=America/New_York:20270131T000000
DTEND;TZID=America/New_York:20270131T000000
DTSTAMP:20260423T132358
CREATED:20230616T132518Z
LAST-MODIFIED:20230616T132518Z
UID:10006520-1801353600-1801353600@brunswickforest.com
SUMMARY:Bike Riding
DESCRIPTION:Email for times and dates \nContact: Sandy Morrison \nsandymoisalliknow@gmail.com
URL:https://brunswickforest.com/events/bike-riding/2027-01-31/
LOCATION:TBA
CATEGORIES:Resident Activities
ATTACH;FMTTYPE=image/png:https://brunswickforest.com/wpc/uploads/Biking.png
END:VEVENT
BEGIN:VEVENT
DTSTART;VALUE=DATE:20270201
DTEND;VALUE=DATE:20270202
DTSTAMP:20260423T132358
CREATED:20231012T122340Z
LAST-MODIFIED:20231012T122340Z
UID:10007093-1801440000-1801526399@brunswickforest.com
SUMMARY:Investors Club
DESCRIPTION:Email For Details \nContact: Patrick Loyd \npatrickaloyd@kw.com
URL:https://brunswickforest.com/events/investors-club-3/2027-02-01/
LOCATION:TBA
CATEGORIES:Resident Activities
ATTACH;FMTTYPE=image/png:https://brunswickforest.com/wpc/uploads/investment-club.png
ORGANIZER;CN="Patrick Loyd":MAILTO:patrickloyd@kw.com
END:VEVENT
BEGIN:VEVENT
DTSTART;TZID=America/New_York:20270202T000000
DTEND;TZID=America/New_York:20270202T000000
DTSTAMP:20260423T132358
CREATED:20231012T132129Z
LAST-MODIFIED:20231012T132129Z
UID:10009218-1801526400-1801526400@brunswickforest.com
SUMMARY:Pinochle
DESCRIPTION:*Email For Location* Tuesdays \n@10:30am \nContact: Carl Fazio \nRetiredme57@gmail.com
URL:https://brunswickforest.com/events/pinochle-3/2027-02-02/
LOCATION:TBA
CATEGORIES:Resident Activities
ATTACH;FMTTYPE=image/png:https://brunswickforest.com/wpc/uploads/pinochle.png
ORGANIZER;CN="Carl Fazio":MAILTO:retiredme57@gmail.com
END:VEVENT
BEGIN:VEVENT
DTSTART;TZID=America/New_York:20270202T190000
DTEND;TZID=America/New_York:20270202T200000
DTSTAMP:20260423T132358
CREATED:20231012T132501Z
LAST-MODIFIED:20231012T132501Z
UID:10010016-1801594800-1801598400@brunswickforest.com
SUMMARY:Bourbon Lovers
DESCRIPTION:*Email For Location* \n@7pm \nContact: Mary Milliner \nmmilliner@aol.com.com
URL:https://brunswickforest.com/events/bourbon-lovers-3/2027-02-02/
LOCATION:TBA
CATEGORIES:Resident Activities
ATTACH;FMTTYPE=image/png:https://brunswickforest.com/wpc/uploads/Bourbon.png
ORGANIZER;CN="Mary Milliner":MAILTO:mmilliner@aol.com
END:VEVENT
BEGIN:VEVENT
DTSTART;TZID=America/New_York:20270203T100000
DTEND;TZID=America/New_York:20270203T120000
DTSTAMP:20260423T132358
CREATED:20231012T145046Z
LAST-MODIFIED:20231012T145046Z
UID:10010814-1801648800-1801656000@brunswickforest.com
SUMMARY:Chess Club
DESCRIPTION:*Email For Location* \n@10am \nContact: Lee Lowery \neleelowery@gmail.com
URL:https://brunswickforest.com/events/chess-club-4/2027-02-03/
LOCATION:TBA
CATEGORIES:Resident Activities
ATTACH;FMTTYPE=image/png:https://brunswickforest.com/wpc/uploads/2022/06/chess-club.png
ORGANIZER;CN="Lee Lowery":MAILTO:eleelowery@gmail.com
END:VEVENT
BEGIN:VEVENT
DTSTART;TZID=America/New_York:20270203T130000
DTEND;TZID=America/New_York:20270203T140000
DTSTAMP:20260423T132358
CREATED:20231012T145004Z
LAST-MODIFIED:20231012T145004Z
UID:10010547-1801659600-1801663200@brunswickforest.com
SUMMARY:Experienced Mahjong
DESCRIPTION:Call for details\, Wednesdays \n@11am \nContact: Kim Sevier \nksevier0407@gmail.com
URL:https://brunswickforest.com/events/experienced-mahjong-3/2027-02-03/
LOCATION:TBA
CATEGORIES:Resident Activities
ATTACH;FMTTYPE=image/png:https://brunswickforest.com/wpc/uploads/2022/06/mahjong.png
ORGANIZER;CN="Renee Lempert":MAILTO:reneelempert@gmail.com
END:VEVENT
BEGIN:VEVENT
DTSTART;TZID=America/New_York:20270207T000000
DTEND;TZID=America/New_York:20270207T000000
DTSTAMP:20260423T132358
CREATED:20230616T132518Z
LAST-MODIFIED:20230616T132518Z
UID:10006521-1801958400-1801958400@brunswickforest.com
SUMMARY:Bike Riding
DESCRIPTION:Email for times and dates \nContact: Sandy Morrison \nsandymoisalliknow@gmail.com
URL:https://brunswickforest.com/events/bike-riding/2027-02-07/
LOCATION:TBA
CATEGORIES:Resident Activities
ATTACH;FMTTYPE=image/png:https://brunswickforest.com/wpc/uploads/Biking.png
END:VEVENT
BEGIN:VEVENT
DTSTART;VALUE=DATE:20270208
DTEND;VALUE=DATE:20270209
DTSTAMP:20260423T132358
CREATED:20231012T122340Z
LAST-MODIFIED:20231012T122340Z
UID:10007094-1802044800-1802131199@brunswickforest.com
SUMMARY:Investors Club
DESCRIPTION:Email For Details \nContact: Patrick Loyd \npatrickaloyd@kw.com
URL:https://brunswickforest.com/events/investors-club-3/2027-02-08/
LOCATION:TBA
CATEGORIES:Resident Activities
ATTACH;FMTTYPE=image/png:https://brunswickforest.com/wpc/uploads/investment-club.png
ORGANIZER;CN="Patrick Loyd":MAILTO:patrickloyd@kw.com
END:VEVENT
BEGIN:VEVENT
DTSTART;TZID=America/New_York:20270209T000000
DTEND;TZID=America/New_York:20270209T000000
DTSTAMP:20260423T132358
CREATED:20231012T132129Z
LAST-MODIFIED:20231012T132129Z
UID:10009219-1802131200-1802131200@brunswickforest.com
SUMMARY:Pinochle
DESCRIPTION:*Email For Location* Tuesdays \n@10:30am \nContact: Carl Fazio \nRetiredme57@gmail.com
URL:https://brunswickforest.com/events/pinochle-3/2027-02-09/
LOCATION:TBA
CATEGORIES:Resident Activities
ATTACH;FMTTYPE=image/png:https://brunswickforest.com/wpc/uploads/pinochle.png
ORGANIZER;CN="Carl Fazio":MAILTO:retiredme57@gmail.com
END:VEVENT
BEGIN:VEVENT
DTSTART;TZID=America/New_York:20270209T190000
DTEND;TZID=America/New_York:20270209T200000
DTSTAMP:20260423T132358
CREATED:20231012T132501Z
LAST-MODIFIED:20231012T132501Z
UID:10010017-1802199600-1802203200@brunswickforest.com
SUMMARY:Bourbon Lovers
DESCRIPTION:*Email For Location* \n@7pm \nContact: Mary Milliner \nmmilliner@aol.com.com
URL:https://brunswickforest.com/events/bourbon-lovers-3/2027-02-09/
LOCATION:TBA
CATEGORIES:Resident Activities
ATTACH;FMTTYPE=image/png:https://brunswickforest.com/wpc/uploads/Bourbon.png
ORGANIZER;CN="Mary Milliner":MAILTO:mmilliner@aol.com
END:VEVENT
BEGIN:VEVENT
DTSTART;TZID=America/New_York:20270210T100000
DTEND;TZID=America/New_York:20270210T120000
DTSTAMP:20260423T132358
CREATED:20231012T145046Z
LAST-MODIFIED:20231012T145046Z
UID:10010815-1802253600-1802260800@brunswickforest.com
SUMMARY:Chess Club
DESCRIPTION:*Email For Location* \n@10am \nContact: Lee Lowery \neleelowery@gmail.com
URL:https://brunswickforest.com/events/chess-club-4/2027-02-10/
LOCATION:TBA
CATEGORIES:Resident Activities
ATTACH;FMTTYPE=image/png:https://brunswickforest.com/wpc/uploads/2022/06/chess-club.png
ORGANIZER;CN="Lee Lowery":MAILTO:eleelowery@gmail.com
END:VEVENT
BEGIN:VEVENT
DTSTART;TZID=America/New_York:20270210T130000
DTEND;TZID=America/New_York:20270210T140000
DTSTAMP:20260423T132358
CREATED:20231012T145004Z
LAST-MODIFIED:20231012T145004Z
UID:10010548-1802264400-1802268000@brunswickforest.com
SUMMARY:Experienced Mahjong
DESCRIPTION:Call for details\, Wednesdays \n@11am \nContact: Kim Sevier \nksevier0407@gmail.com
URL:https://brunswickforest.com/events/experienced-mahjong-3/2027-02-10/
LOCATION:TBA
CATEGORIES:Resident Activities
ATTACH;FMTTYPE=image/png:https://brunswickforest.com/wpc/uploads/2022/06/mahjong.png
ORGANIZER;CN="Renee Lempert":MAILTO:reneelempert@gmail.com
END:VEVENT
BEGIN:VEVENT
DTSTART;TZID=America/New_York:20270214T000000
DTEND;TZID=America/New_York:20270214T000000
DTSTAMP:20260423T132358
CREATED:20230616T132518Z
LAST-MODIFIED:20230616T132518Z
UID:10006522-1802563200-1802563200@brunswickforest.com
SUMMARY:Bike Riding
DESCRIPTION:Email for times and dates \nContact: Sandy Morrison \nsandymoisalliknow@gmail.com
URL:https://brunswickforest.com/events/bike-riding/2027-02-14/
LOCATION:TBA
CATEGORIES:Resident Activities
ATTACH;FMTTYPE=image/png:https://brunswickforest.com/wpc/uploads/Biking.png
END:VEVENT
BEGIN:VEVENT
DTSTART;VALUE=DATE:20270215
DTEND;VALUE=DATE:20270216
DTSTAMP:20260423T132358
CREATED:20231012T122340Z
LAST-MODIFIED:20231012T122340Z
UID:10007095-1802649600-1802735999@brunswickforest.com
SUMMARY:Investors Club
DESCRIPTION:Email For Details \nContact: Patrick Loyd \npatrickaloyd@kw.com
URL:https://brunswickforest.com/events/investors-club-3/2027-02-15/
LOCATION:TBA
CATEGORIES:Resident Activities
ATTACH;FMTTYPE=image/png:https://brunswickforest.com/wpc/uploads/investment-club.png
ORGANIZER;CN="Patrick Loyd":MAILTO:patrickloyd@kw.com
END:VEVENT
BEGIN:VEVENT
DTSTART;TZID=America/New_York:20270216T000000
DTEND;TZID=America/New_York:20270216T000000
DTSTAMP:20260423T132358
CREATED:20231012T132129Z
LAST-MODIFIED:20231012T132129Z
UID:10009220-1802736000-1802736000@brunswickforest.com
SUMMARY:Pinochle
DESCRIPTION:*Email For Location* Tuesdays \n@10:30am \nContact: Carl Fazio \nRetiredme57@gmail.com
URL:https://brunswickforest.com/events/pinochle-3/2027-02-16/
LOCATION:TBA
CATEGORIES:Resident Activities
ATTACH;FMTTYPE=image/png:https://brunswickforest.com/wpc/uploads/pinochle.png
ORGANIZER;CN="Carl Fazio":MAILTO:retiredme57@gmail.com
END:VEVENT
BEGIN:VEVENT
DTSTART;TZID=America/New_York:20270216T190000
DTEND;TZID=America/New_York:20270216T200000
DTSTAMP:20260423T132358
CREATED:20231012T132501Z
LAST-MODIFIED:20231012T132501Z
UID:10010018-1802804400-1802808000@brunswickforest.com
SUMMARY:Bourbon Lovers
DESCRIPTION:*Email For Location* \n@7pm \nContact: Mary Milliner \nmmilliner@aol.com.com
URL:https://brunswickforest.com/events/bourbon-lovers-3/2027-02-16/
LOCATION:TBA
CATEGORIES:Resident Activities
ATTACH;FMTTYPE=image/png:https://brunswickforest.com/wpc/uploads/Bourbon.png
ORGANIZER;CN="Mary Milliner":MAILTO:mmilliner@aol.com
END:VEVENT
BEGIN:VEVENT
DTSTART;TZID=America/New_York:20270217T100000
DTEND;TZID=America/New_York:20270217T120000
DTSTAMP:20260423T132358
CREATED:20231012T145046Z
LAST-MODIFIED:20231012T145046Z
UID:10010816-1802858400-1802865600@brunswickforest.com
SUMMARY:Chess Club
DESCRIPTION:*Email For Location* \n@10am \nContact: Lee Lowery \neleelowery@gmail.com
URL:https://brunswickforest.com/events/chess-club-4/2027-02-17/
LOCATION:TBA
CATEGORIES:Resident Activities
ATTACH;FMTTYPE=image/png:https://brunswickforest.com/wpc/uploads/2022/06/chess-club.png
ORGANIZER;CN="Lee Lowery":MAILTO:eleelowery@gmail.com
END:VEVENT
BEGIN:VEVENT
DTSTART;TZID=America/New_York:20270217T130000
DTEND;TZID=America/New_York:20270217T140000
DTSTAMP:20260423T132358
CREATED:20231012T145004Z
LAST-MODIFIED:20231012T145004Z
UID:10010549-1802869200-1802872800@brunswickforest.com
SUMMARY:Experienced Mahjong
DESCRIPTION:Call for details\, Wednesdays \n@11am \nContact: Kim Sevier \nksevier0407@gmail.com
URL:https://brunswickforest.com/events/experienced-mahjong-3/2027-02-17/
LOCATION:TBA
CATEGORIES:Resident Activities
ATTACH;FMTTYPE=image/png:https://brunswickforest.com/wpc/uploads/2022/06/mahjong.png
ORGANIZER;CN="Renee Lempert":MAILTO:reneelempert@gmail.com
END:VEVENT
BEGIN:VEVENT
DTSTART;TZID=America/New_York:20270221T000000
DTEND;TZID=America/New_York:20270221T000000
DTSTAMP:20260423T132358
CREATED:20230616T132518Z
LAST-MODIFIED:20230616T132518Z
UID:10006523-1803168000-1803168000@brunswickforest.com
SUMMARY:Bike Riding
DESCRIPTION:Email for times and dates \nContact: Sandy Morrison \nsandymoisalliknow@gmail.com
URL:https://brunswickforest.com/events/bike-riding/2027-02-21/
LOCATION:TBA
CATEGORIES:Resident Activities
ATTACH;FMTTYPE=image/png:https://brunswickforest.com/wpc/uploads/Biking.png
END:VEVENT
BEGIN:VEVENT
DTSTART;VALUE=DATE:20270222
DTEND;VALUE=DATE:20270223
DTSTAMP:20260423T132358
CREATED:20231012T122340Z
LAST-MODIFIED:20231012T122340Z
UID:10007096-1803254400-1803340799@brunswickforest.com
SUMMARY:Investors Club
DESCRIPTION:Email For Details \nContact: Patrick Loyd \npatrickaloyd@kw.com
URL:https://brunswickforest.com/events/investors-club-3/2027-02-22/
LOCATION:TBA
CATEGORIES:Resident Activities
ATTACH;FMTTYPE=image/png:https://brunswickforest.com/wpc/uploads/investment-club.png
ORGANIZER;CN="Patrick Loyd":MAILTO:patrickloyd@kw.com
END:VEVENT
END:VCALENDAR