BEGIN:VCALENDAR
VERSION:2.0
PRODID:-//Brunswick Forest - ECPv6.15.20//NONSGML v1.0//EN
CALSCALE:GREGORIAN
METHOD:PUBLISH
X-WR-CALNAME:Brunswick Forest
X-ORIGINAL-URL:https://brunswickforest.com
X-WR-CALDESC:Events for Brunswick Forest
REFRESH-INTERVAL;VALUE=DURATION:PT1H
X-Robots-Tag:noindex
X-PUBLISHED-TTL:PT1H
BEGIN:VTIMEZONE
TZID:America/New_York
BEGIN:DAYLIGHT
TZOFFSETFROM:-0500
TZOFFSETTO:-0400
TZNAME:EDT
DTSTART:20240310T070000
END:DAYLIGHT
BEGIN:STANDARD
TZOFFSETFROM:-0400
TZOFFSETTO:-0500
TZNAME:EST
DTSTART:20241103T060000
END:STANDARD
BEGIN:DAYLIGHT
TZOFFSETFROM:-0500
TZOFFSETTO:-0400
TZNAME:EDT
DTSTART:20250309T070000
END:DAYLIGHT
BEGIN:STANDARD
TZOFFSETFROM:-0400
TZOFFSETTO:-0500
TZNAME:EST
DTSTART:20251102T060000
END:STANDARD
BEGIN:DAYLIGHT
TZOFFSETFROM:-0500
TZOFFSETTO:-0400
TZNAME:EDT
DTSTART:20260308T070000
END:DAYLIGHT
BEGIN:STANDARD
TZOFFSETFROM:-0400
TZOFFSETTO:-0500
TZNAME:EST
DTSTART:20261101T060000
END:STANDARD
END:VTIMEZONE
BEGIN:VEVENT
DTSTART;TZID=America/New_York:20250923T000000
DTEND;TZID=America/New_York:20250923T000000
DTSTAMP:20260421T011039
CREATED:20231012T132129Z
LAST-MODIFIED:20231012T132129Z
UID:10009147-1758585600-1758585600@brunswickforest.com
SUMMARY:Pinochle
DESCRIPTION:*Email For Location* Tuesdays \n@10:30am \nContact: Carl Fazio \nRetiredme57@gmail.com
URL:https://brunswickforest.com/events/pinochle-3/2025-09-23/
LOCATION:TBA
CATEGORIES:Resident Activities
ATTACH;FMTTYPE=image/png:https://brunswickforest.com/wpc/uploads/pinochle.png
ORGANIZER;CN="Carl Fazio":MAILTO:retiredme57@gmail.com
END:VEVENT
BEGIN:VEVENT
DTSTART;VALUE=DATE:20250922
DTEND;VALUE=DATE:20250923
DTSTAMP:20260421T011039
CREATED:20231012T122340Z
LAST-MODIFIED:20231012T122340Z
UID:10007022-1758499200-1758585599@brunswickforest.com
SUMMARY:Investors Club
DESCRIPTION:Email For Details \nContact: Patrick Loyd \npatrickaloyd@kw.com
URL:https://brunswickforest.com/events/investors-club-3/2025-09-22/
LOCATION:TBA
CATEGORIES:Resident Activities
ATTACH;FMTTYPE=image/png:https://brunswickforest.com/wpc/uploads/investment-club.png
ORGANIZER;CN="Patrick Loyd":MAILTO:patrickloyd@kw.com
END:VEVENT
BEGIN:VEVENT
DTSTART;TZID=America/New_York:20250921T000000
DTEND;TZID=America/New_York:20250921T000000
DTSTAMP:20260421T011039
CREATED:20230616T132518Z
LAST-MODIFIED:20230616T132518Z
UID:10006449-1758412800-1758412800@brunswickforest.com
SUMMARY:Bike Riding
DESCRIPTION:Email for times and dates \nContact: Sandy Morrison \nsandymoisalliknow@gmail.com
URL:https://brunswickforest.com/events/bike-riding/2025-09-21/
LOCATION:TBA
CATEGORIES:Resident Activities
ATTACH;FMTTYPE=image/png:https://brunswickforest.com/wpc/uploads/Biking.png
END:VEVENT
BEGIN:VEVENT
DTSTART;TZID=America/New_York:20250917T130000
DTEND;TZID=America/New_York:20250917T140000
DTSTAMP:20260421T011039
CREATED:20231012T145004Z
LAST-MODIFIED:20231012T145004Z
UID:10010475-1758114000-1758117600@brunswickforest.com
SUMMARY:Experienced Mahjong
DESCRIPTION:Call for details\, Wednesdays \n@11am \nContact: Kim Sevier \nksevier0407@gmail.com
URL:https://brunswickforest.com/events/experienced-mahjong-3/2025-09-17/
LOCATION:TBA
CATEGORIES:Resident Activities
ATTACH;FMTTYPE=image/png:https://brunswickforest.com/wpc/uploads/2022/06/mahjong.png
ORGANIZER;CN="Renee Lempert":MAILTO:reneelempert@gmail.com
END:VEVENT
BEGIN:VEVENT
DTSTART;TZID=America/New_York:20250917T100000
DTEND;TZID=America/New_York:20250917T120000
DTSTAMP:20260421T011039
CREATED:20231012T145046Z
LAST-MODIFIED:20231012T145046Z
UID:10010742-1758103200-1758110400@brunswickforest.com
SUMMARY:Chess Club
DESCRIPTION:*Email For Location* \n@10am \nContact: Lee Lowery \neleelowery@gmail.com
URL:https://brunswickforest.com/events/chess-club-4/2025-09-17/
LOCATION:TBA
CATEGORIES:Resident Activities
ATTACH;FMTTYPE=image/png:https://brunswickforest.com/wpc/uploads/2022/06/chess-club.png
ORGANIZER;CN="Lee Lowery":MAILTO:eleelowery@gmail.com
END:VEVENT
BEGIN:VEVENT
DTSTART;TZID=America/New_York:20250916T190000
DTEND;TZID=America/New_York:20250916T200000
DTSTAMP:20260421T011039
CREATED:20231012T132501Z
LAST-MODIFIED:20231012T132501Z
UID:10009944-1758049200-1758052800@brunswickforest.com
SUMMARY:Bourbon Lovers
DESCRIPTION:*Email For Location* \n@7pm \nContact: Mary Milliner \nmmilliner@aol.com.com
URL:https://brunswickforest.com/events/bourbon-lovers-3/2025-09-16/
LOCATION:TBA
CATEGORIES:Resident Activities
ATTACH;FMTTYPE=image/png:https://brunswickforest.com/wpc/uploads/Bourbon.png
ORGANIZER;CN="Mary Milliner":MAILTO:mmilliner@aol.com
END:VEVENT
BEGIN:VEVENT
DTSTART;TZID=America/New_York:20250916T000000
DTEND;TZID=America/New_York:20250916T000000
DTSTAMP:20260421T011039
CREATED:20231012T132129Z
LAST-MODIFIED:20231012T132129Z
UID:10009146-1757980800-1757980800@brunswickforest.com
SUMMARY:Pinochle
DESCRIPTION:*Email For Location* Tuesdays \n@10:30am \nContact: Carl Fazio \nRetiredme57@gmail.com
URL:https://brunswickforest.com/events/pinochle-3/2025-09-16/
LOCATION:TBA
CATEGORIES:Resident Activities
ATTACH;FMTTYPE=image/png:https://brunswickforest.com/wpc/uploads/pinochle.png
ORGANIZER;CN="Carl Fazio":MAILTO:retiredme57@gmail.com
END:VEVENT
BEGIN:VEVENT
DTSTART;VALUE=DATE:20250915
DTEND;VALUE=DATE:20250916
DTSTAMP:20260421T011039
CREATED:20231012T122340Z
LAST-MODIFIED:20231012T122340Z
UID:10007021-1757894400-1757980799@brunswickforest.com
SUMMARY:Investors Club
DESCRIPTION:Email For Details \nContact: Patrick Loyd \npatrickaloyd@kw.com
URL:https://brunswickforest.com/events/investors-club-3/2025-09-15/
LOCATION:TBA
CATEGORIES:Resident Activities
ATTACH;FMTTYPE=image/png:https://brunswickforest.com/wpc/uploads/investment-club.png
ORGANIZER;CN="Patrick Loyd":MAILTO:patrickloyd@kw.com
END:VEVENT
BEGIN:VEVENT
DTSTART;TZID=America/New_York:20250914T000000
DTEND;TZID=America/New_York:20250914T000000
DTSTAMP:20260421T011039
CREATED:20230616T132518Z
LAST-MODIFIED:20230616T132518Z
UID:10006448-1757808000-1757808000@brunswickforest.com
SUMMARY:Bike Riding
DESCRIPTION:Email for times and dates \nContact: Sandy Morrison \nsandymoisalliknow@gmail.com
URL:https://brunswickforest.com/events/bike-riding/2025-09-14/
LOCATION:TBA
CATEGORIES:Resident Activities
ATTACH;FMTTYPE=image/png:https://brunswickforest.com/wpc/uploads/Biking.png
END:VEVENT
BEGIN:VEVENT
DTSTART;TZID=America/New_York:20250910T130000
DTEND;TZID=America/New_York:20250910T140000
DTSTAMP:20260421T011039
CREATED:20231012T145004Z
LAST-MODIFIED:20231012T145004Z
UID:10010474-1757509200-1757512800@brunswickforest.com
SUMMARY:Experienced Mahjong
DESCRIPTION:Call for details\, Wednesdays \n@11am \nContact: Kim Sevier \nksevier0407@gmail.com
URL:https://brunswickforest.com/events/experienced-mahjong-3/2025-09-10/
LOCATION:TBA
CATEGORIES:Resident Activities
ATTACH;FMTTYPE=image/png:https://brunswickforest.com/wpc/uploads/2022/06/mahjong.png
ORGANIZER;CN="Renee Lempert":MAILTO:reneelempert@gmail.com
END:VEVENT
BEGIN:VEVENT
DTSTART;TZID=America/New_York:20250910T100000
DTEND;TZID=America/New_York:20250910T120000
DTSTAMP:20260421T011039
CREATED:20231012T145046Z
LAST-MODIFIED:20231012T145046Z
UID:10010741-1757498400-1757505600@brunswickforest.com
SUMMARY:Chess Club
DESCRIPTION:*Email For Location* \n@10am \nContact: Lee Lowery \neleelowery@gmail.com
URL:https://brunswickforest.com/events/chess-club-4/2025-09-10/
LOCATION:TBA
CATEGORIES:Resident Activities
ATTACH;FMTTYPE=image/png:https://brunswickforest.com/wpc/uploads/2022/06/chess-club.png
ORGANIZER;CN="Lee Lowery":MAILTO:eleelowery@gmail.com
END:VEVENT
BEGIN:VEVENT
DTSTART;TZID=America/New_York:20250909T190000
DTEND;TZID=America/New_York:20250909T200000
DTSTAMP:20260421T011039
CREATED:20231012T132501Z
LAST-MODIFIED:20231012T132501Z
UID:10009943-1757444400-1757448000@brunswickforest.com
SUMMARY:Bourbon Lovers
DESCRIPTION:*Email For Location* \n@7pm \nContact: Mary Milliner \nmmilliner@aol.com.com
URL:https://brunswickforest.com/events/bourbon-lovers-3/2025-09-09/
LOCATION:TBA
CATEGORIES:Resident Activities
ATTACH;FMTTYPE=image/png:https://brunswickforest.com/wpc/uploads/Bourbon.png
ORGANIZER;CN="Mary Milliner":MAILTO:mmilliner@aol.com
END:VEVENT
BEGIN:VEVENT
DTSTART;TZID=America/New_York:20250909T000000
DTEND;TZID=America/New_York:20250909T000000
DTSTAMP:20260421T011039
CREATED:20231012T132129Z
LAST-MODIFIED:20231012T132129Z
UID:10009145-1757376000-1757376000@brunswickforest.com
SUMMARY:Pinochle
DESCRIPTION:*Email For Location* Tuesdays \n@10:30am \nContact: Carl Fazio \nRetiredme57@gmail.com
URL:https://brunswickforest.com/events/pinochle-3/2025-09-09/
LOCATION:TBA
CATEGORIES:Resident Activities
ATTACH;FMTTYPE=image/png:https://brunswickforest.com/wpc/uploads/pinochle.png
ORGANIZER;CN="Carl Fazio":MAILTO:retiredme57@gmail.com
END:VEVENT
BEGIN:VEVENT
DTSTART;VALUE=DATE:20250908
DTEND;VALUE=DATE:20250909
DTSTAMP:20260421T011039
CREATED:20231012T122340Z
LAST-MODIFIED:20231012T122340Z
UID:10007020-1757289600-1757375999@brunswickforest.com
SUMMARY:Investors Club
DESCRIPTION:Email For Details \nContact: Patrick Loyd \npatrickaloyd@kw.com
URL:https://brunswickforest.com/events/investors-club-3/2025-09-08/
LOCATION:TBA
CATEGORIES:Resident Activities
ATTACH;FMTTYPE=image/png:https://brunswickforest.com/wpc/uploads/investment-club.png
ORGANIZER;CN="Patrick Loyd":MAILTO:patrickloyd@kw.com
END:VEVENT
BEGIN:VEVENT
DTSTART;TZID=America/New_York:20250907T000000
DTEND;TZID=America/New_York:20250907T000000
DTSTAMP:20260421T011039
CREATED:20230616T132518Z
LAST-MODIFIED:20230616T132518Z
UID:10006447-1757203200-1757203200@brunswickforest.com
SUMMARY:Bike Riding
DESCRIPTION:Email for times and dates \nContact: Sandy Morrison \nsandymoisalliknow@gmail.com
URL:https://brunswickforest.com/events/bike-riding/2025-09-07/
LOCATION:TBA
CATEGORIES:Resident Activities
ATTACH;FMTTYPE=image/png:https://brunswickforest.com/wpc/uploads/Biking.png
END:VEVENT
BEGIN:VEVENT
DTSTART;TZID=America/New_York:20250903T130000
DTEND;TZID=America/New_York:20250903T140000
DTSTAMP:20260421T011039
CREATED:20231012T145004Z
LAST-MODIFIED:20231012T145004Z
UID:10010473-1756904400-1756908000@brunswickforest.com
SUMMARY:Experienced Mahjong
DESCRIPTION:Call for details\, Wednesdays \n@11am \nContact: Kim Sevier \nksevier0407@gmail.com
URL:https://brunswickforest.com/events/experienced-mahjong-3/2025-09-03/
LOCATION:TBA
CATEGORIES:Resident Activities
ATTACH;FMTTYPE=image/png:https://brunswickforest.com/wpc/uploads/2022/06/mahjong.png
ORGANIZER;CN="Renee Lempert":MAILTO:reneelempert@gmail.com
END:VEVENT
BEGIN:VEVENT
DTSTART;TZID=America/New_York:20250903T100000
DTEND;TZID=America/New_York:20250903T120000
DTSTAMP:20260421T011039
CREATED:20231012T145046Z
LAST-MODIFIED:20231012T145046Z
UID:10010740-1756893600-1756900800@brunswickforest.com
SUMMARY:Chess Club
DESCRIPTION:*Email For Location* \n@10am \nContact: Lee Lowery \neleelowery@gmail.com
URL:https://brunswickforest.com/events/chess-club-4/2025-09-03/
LOCATION:TBA
CATEGORIES:Resident Activities
ATTACH;FMTTYPE=image/png:https://brunswickforest.com/wpc/uploads/2022/06/chess-club.png
ORGANIZER;CN="Lee Lowery":MAILTO:eleelowery@gmail.com
END:VEVENT
BEGIN:VEVENT
DTSTART;TZID=America/New_York:20250902T190000
DTEND;TZID=America/New_York:20250902T200000
DTSTAMP:20260421T011039
CREATED:20231012T132501Z
LAST-MODIFIED:20231012T132501Z
UID:10009942-1756839600-1756843200@brunswickforest.com
SUMMARY:Bourbon Lovers
DESCRIPTION:*Email For Location* \n@7pm \nContact: Mary Milliner \nmmilliner@aol.com.com
URL:https://brunswickforest.com/events/bourbon-lovers-3/2025-09-02/
LOCATION:TBA
CATEGORIES:Resident Activities
ATTACH;FMTTYPE=image/png:https://brunswickforest.com/wpc/uploads/Bourbon.png
ORGANIZER;CN="Mary Milliner":MAILTO:mmilliner@aol.com
END:VEVENT
BEGIN:VEVENT
DTSTART;TZID=America/New_York:20250902T000000
DTEND;TZID=America/New_York:20250902T000000
DTSTAMP:20260421T011039
CREATED:20231012T132129Z
LAST-MODIFIED:20231012T132129Z
UID:10009144-1756771200-1756771200@brunswickforest.com
SUMMARY:Pinochle
DESCRIPTION:*Email For Location* Tuesdays \n@10:30am \nContact: Carl Fazio \nRetiredme57@gmail.com
URL:https://brunswickforest.com/events/pinochle-3/2025-09-02/
LOCATION:TBA
CATEGORIES:Resident Activities
ATTACH;FMTTYPE=image/png:https://brunswickforest.com/wpc/uploads/pinochle.png
ORGANIZER;CN="Carl Fazio":MAILTO:retiredme57@gmail.com
END:VEVENT
BEGIN:VEVENT
DTSTART;VALUE=DATE:20250901
DTEND;VALUE=DATE:20250902
DTSTAMP:20260421T011039
CREATED:20231012T122340Z
LAST-MODIFIED:20231012T122340Z
UID:10007019-1756684800-1756771199@brunswickforest.com
SUMMARY:Investors Club
DESCRIPTION:Email For Details \nContact: Patrick Loyd \npatrickaloyd@kw.com
URL:https://brunswickforest.com/events/investors-club-3/2025-09-01/
LOCATION:TBA
CATEGORIES:Resident Activities
ATTACH;FMTTYPE=image/png:https://brunswickforest.com/wpc/uploads/investment-club.png
ORGANIZER;CN="Patrick Loyd":MAILTO:patrickloyd@kw.com
END:VEVENT
BEGIN:VEVENT
DTSTART;TZID=America/New_York:20250831T000000
DTEND;TZID=America/New_York:20250831T000000
DTSTAMP:20260421T011039
CREATED:20230616T132518Z
LAST-MODIFIED:20230616T132518Z
UID:10006446-1756598400-1756598400@brunswickforest.com
SUMMARY:Bike Riding
DESCRIPTION:Email for times and dates \nContact: Sandy Morrison \nsandymoisalliknow@gmail.com
URL:https://brunswickforest.com/events/bike-riding/2025-08-31/
LOCATION:TBA
CATEGORIES:Resident Activities
ATTACH;FMTTYPE=image/png:https://brunswickforest.com/wpc/uploads/Biking.png
END:VEVENT
BEGIN:VEVENT
DTSTART;TZID=America/New_York:20250827T130000
DTEND;TZID=America/New_York:20250827T140000
DTSTAMP:20260421T011039
CREATED:20231012T145004Z
LAST-MODIFIED:20231012T145004Z
UID:10010472-1756299600-1756303200@brunswickforest.com
SUMMARY:Experienced Mahjong
DESCRIPTION:Call for details\, Wednesdays \n@11am \nContact: Kim Sevier \nksevier0407@gmail.com
URL:https://brunswickforest.com/events/experienced-mahjong-3/2025-08-27/
LOCATION:TBA
CATEGORIES:Resident Activities
ATTACH;FMTTYPE=image/png:https://brunswickforest.com/wpc/uploads/2022/06/mahjong.png
ORGANIZER;CN="Renee Lempert":MAILTO:reneelempert@gmail.com
END:VEVENT
BEGIN:VEVENT
DTSTART;TZID=America/New_York:20250827T100000
DTEND;TZID=America/New_York:20250827T120000
DTSTAMP:20260421T011039
CREATED:20231012T145046Z
LAST-MODIFIED:20231012T145046Z
UID:10010739-1756288800-1756296000@brunswickforest.com
SUMMARY:Chess Club
DESCRIPTION:*Email For Location* \n@10am \nContact: Lee Lowery \neleelowery@gmail.com
URL:https://brunswickforest.com/events/chess-club-4/2025-08-27/
LOCATION:TBA
CATEGORIES:Resident Activities
ATTACH;FMTTYPE=image/png:https://brunswickforest.com/wpc/uploads/2022/06/chess-club.png
ORGANIZER;CN="Lee Lowery":MAILTO:eleelowery@gmail.com
END:VEVENT
BEGIN:VEVENT
DTSTART;TZID=America/New_York:20250826T190000
DTEND;TZID=America/New_York:20250826T200000
DTSTAMP:20260421T011039
CREATED:20231012T132501Z
LAST-MODIFIED:20231012T132501Z
UID:10009941-1756234800-1756238400@brunswickforest.com
SUMMARY:Bourbon Lovers
DESCRIPTION:*Email For Location* \n@7pm \nContact: Mary Milliner \nmmilliner@aol.com.com
URL:https://brunswickforest.com/events/bourbon-lovers-3/2025-08-26/
LOCATION:TBA
CATEGORIES:Resident Activities
ATTACH;FMTTYPE=image/png:https://brunswickforest.com/wpc/uploads/Bourbon.png
ORGANIZER;CN="Mary Milliner":MAILTO:mmilliner@aol.com
END:VEVENT
BEGIN:VEVENT
DTSTART;TZID=America/New_York:20250826T000000
DTEND;TZID=America/New_York:20250826T000000
DTSTAMP:20260421T011039
CREATED:20231012T132129Z
LAST-MODIFIED:20231012T132129Z
UID:10009143-1756166400-1756166400@brunswickforest.com
SUMMARY:Pinochle
DESCRIPTION:*Email For Location* Tuesdays \n@10:30am \nContact: Carl Fazio \nRetiredme57@gmail.com
URL:https://brunswickforest.com/events/pinochle-3/2025-08-26/
LOCATION:TBA
CATEGORIES:Resident Activities
ATTACH;FMTTYPE=image/png:https://brunswickforest.com/wpc/uploads/pinochle.png
ORGANIZER;CN="Carl Fazio":MAILTO:retiredme57@gmail.com
END:VEVENT
BEGIN:VEVENT
DTSTART;VALUE=DATE:20250825
DTEND;VALUE=DATE:20250826
DTSTAMP:20260421T011039
CREATED:20231012T122340Z
LAST-MODIFIED:20231012T122340Z
UID:10007018-1756080000-1756166399@brunswickforest.com
SUMMARY:Investors Club
DESCRIPTION:Email For Details \nContact: Patrick Loyd \npatrickaloyd@kw.com
URL:https://brunswickforest.com/events/investors-club-3/2025-08-25/
LOCATION:TBA
CATEGORIES:Resident Activities
ATTACH;FMTTYPE=image/png:https://brunswickforest.com/wpc/uploads/investment-club.png
ORGANIZER;CN="Patrick Loyd":MAILTO:patrickloyd@kw.com
END:VEVENT
BEGIN:VEVENT
DTSTART;TZID=America/New_York:20250824T000000
DTEND;TZID=America/New_York:20250824T000000
DTSTAMP:20260421T011039
CREATED:20230616T132518Z
LAST-MODIFIED:20230616T132518Z
UID:10006445-1755993600-1755993600@brunswickforest.com
SUMMARY:Bike Riding
DESCRIPTION:Email for times and dates \nContact: Sandy Morrison \nsandymoisalliknow@gmail.com
URL:https://brunswickforest.com/events/bike-riding/2025-08-24/
LOCATION:TBA
CATEGORIES:Resident Activities
ATTACH;FMTTYPE=image/png:https://brunswickforest.com/wpc/uploads/Biking.png
END:VEVENT
BEGIN:VEVENT
DTSTART;TZID=America/New_York:20250820T130000
DTEND;TZID=America/New_York:20250820T140000
DTSTAMP:20260421T011039
CREATED:20231012T145004Z
LAST-MODIFIED:20231012T145004Z
UID:10010471-1755694800-1755698400@brunswickforest.com
SUMMARY:Experienced Mahjong
DESCRIPTION:Call for details\, Wednesdays \n@11am \nContact: Kim Sevier \nksevier0407@gmail.com
URL:https://brunswickforest.com/events/experienced-mahjong-3/2025-08-20/
LOCATION:TBA
CATEGORIES:Resident Activities
ATTACH;FMTTYPE=image/png:https://brunswickforest.com/wpc/uploads/2022/06/mahjong.png
ORGANIZER;CN="Renee Lempert":MAILTO:reneelempert@gmail.com
END:VEVENT
BEGIN:VEVENT
DTSTART;TZID=America/New_York:20250820T100000
DTEND;TZID=America/New_York:20250820T120000
DTSTAMP:20260421T011039
CREATED:20231012T145046Z
LAST-MODIFIED:20231012T145046Z
UID:10010738-1755684000-1755691200@brunswickforest.com
SUMMARY:Chess Club
DESCRIPTION:*Email For Location* \n@10am \nContact: Lee Lowery \neleelowery@gmail.com
URL:https://brunswickforest.com/events/chess-club-4/2025-08-20/
LOCATION:TBA
CATEGORIES:Resident Activities
ATTACH;FMTTYPE=image/png:https://brunswickforest.com/wpc/uploads/2022/06/chess-club.png
ORGANIZER;CN="Lee Lowery":MAILTO:eleelowery@gmail.com
END:VEVENT
BEGIN:VEVENT
DTSTART;TZID=America/New_York:20250819T190000
DTEND;TZID=America/New_York:20250819T200000
DTSTAMP:20260421T011039
CREATED:20231012T132501Z
LAST-MODIFIED:20231012T132501Z
UID:10009940-1755630000-1755633600@brunswickforest.com
SUMMARY:Bourbon Lovers
DESCRIPTION:*Email For Location* \n@7pm \nContact: Mary Milliner \nmmilliner@aol.com.com
URL:https://brunswickforest.com/events/bourbon-lovers-3/2025-08-19/
LOCATION:TBA
CATEGORIES:Resident Activities
ATTACH;FMTTYPE=image/png:https://brunswickforest.com/wpc/uploads/Bourbon.png
ORGANIZER;CN="Mary Milliner":MAILTO:mmilliner@aol.com
END:VEVENT
END:VCALENDAR