BEGIN:VCALENDAR
VERSION:2.0
PRODID:-//Brunswick Forest - ECPv6.15.20//NONSGML v1.0//EN
CALSCALE:GREGORIAN
METHOD:PUBLISH
X-WR-CALNAME:Brunswick Forest
X-ORIGINAL-URL:https://brunswickforest.com
X-WR-CALDESC:Events for Brunswick Forest
REFRESH-INTERVAL;VALUE=DURATION:PT1H
X-Robots-Tag:noindex
X-PUBLISHED-TTL:PT1H
BEGIN:VTIMEZONE
TZID:America/New_York
BEGIN:DAYLIGHT
TZOFFSETFROM:-0500
TZOFFSETTO:-0400
TZNAME:EDT
DTSTART:20250309T070000
END:DAYLIGHT
BEGIN:STANDARD
TZOFFSETFROM:-0400
TZOFFSETTO:-0500
TZNAME:EST
DTSTART:20251102T060000
END:STANDARD
BEGIN:DAYLIGHT
TZOFFSETFROM:-0500
TZOFFSETTO:-0400
TZNAME:EDT
DTSTART:20260308T070000
END:DAYLIGHT
BEGIN:STANDARD
TZOFFSETFROM:-0400
TZOFFSETTO:-0500
TZNAME:EST
DTSTART:20261101T060000
END:STANDARD
BEGIN:DAYLIGHT
TZOFFSETFROM:-0500
TZOFFSETTO:-0400
TZNAME:EDT
DTSTART:20270314T070000
END:DAYLIGHT
BEGIN:STANDARD
TZOFFSETFROM:-0400
TZOFFSETTO:-0500
TZNAME:EST
DTSTART:20271107T060000
END:STANDARD
END:VTIMEZONE
BEGIN:VEVENT
DTSTART;TZID=America/New_York:20261018T000000
DTEND;TZID=America/New_York:20261018T000000
DTSTAMP:20260420T101851
CREATED:20230616T132518Z
LAST-MODIFIED:20230616T132518Z
UID:10006505-1792281600-1792281600@brunswickforest.com
SUMMARY:Bike Riding
DESCRIPTION:Email for times and dates \nContact: Sandy Morrison \nsandymoisalliknow@gmail.com
URL:https://brunswickforest.com/events/bike-riding/2026-10-18/
LOCATION:TBA
CATEGORIES:Resident Activities
ATTACH;FMTTYPE=image/png:https://brunswickforest.com/wpc/uploads/Biking.png
END:VEVENT
BEGIN:VEVENT
DTSTART;VALUE=DATE:20261019
DTEND;VALUE=DATE:20261020
DTSTAMP:20260420T101851
CREATED:20231012T122340Z
LAST-MODIFIED:20231012T122340Z
UID:10007078-1792368000-1792454399@brunswickforest.com
SUMMARY:Investors Club
DESCRIPTION:Email For Details \nContact: Patrick Loyd \npatrickaloyd@kw.com
URL:https://brunswickforest.com/events/investors-club-3/2026-10-19/
LOCATION:TBA
CATEGORIES:Resident Activities
ATTACH;FMTTYPE=image/png:https://brunswickforest.com/wpc/uploads/investment-club.png
ORGANIZER;CN="Patrick Loyd":MAILTO:patrickloyd@kw.com
END:VEVENT
BEGIN:VEVENT
DTSTART;TZID=America/New_York:20261020T000000
DTEND;TZID=America/New_York:20261020T000000
DTSTAMP:20260420T101851
CREATED:20231012T132129Z
LAST-MODIFIED:20231012T132129Z
UID:10009203-1792454400-1792454400@brunswickforest.com
SUMMARY:Pinochle
DESCRIPTION:*Email For Location* Tuesdays \n@10:30am \nContact: Carl Fazio \nRetiredme57@gmail.com
URL:https://brunswickforest.com/events/pinochle-3/2026-10-20/
LOCATION:TBA
CATEGORIES:Resident Activities
ATTACH;FMTTYPE=image/png:https://brunswickforest.com/wpc/uploads/pinochle.png
ORGANIZER;CN="Carl Fazio":MAILTO:retiredme57@gmail.com
END:VEVENT
BEGIN:VEVENT
DTSTART;TZID=America/New_York:20261020T190000
DTEND;TZID=America/New_York:20261020T200000
DTSTAMP:20260420T101851
CREATED:20231012T132501Z
LAST-MODIFIED:20231012T132501Z
UID:10010001-1792522800-1792526400@brunswickforest.com
SUMMARY:Bourbon Lovers
DESCRIPTION:*Email For Location* \n@7pm \nContact: Mary Milliner \nmmilliner@aol.com.com
URL:https://brunswickforest.com/events/bourbon-lovers-3/2026-10-20/
LOCATION:TBA
CATEGORIES:Resident Activities
ATTACH;FMTTYPE=image/png:https://brunswickforest.com/wpc/uploads/Bourbon.png
ORGANIZER;CN="Mary Milliner":MAILTO:mmilliner@aol.com
END:VEVENT
BEGIN:VEVENT
DTSTART;TZID=America/New_York:20261021T100000
DTEND;TZID=America/New_York:20261021T120000
DTSTAMP:20260420T101851
CREATED:20231012T145046Z
LAST-MODIFIED:20231012T145046Z
UID:10010799-1792576800-1792584000@brunswickforest.com
SUMMARY:Chess Club
DESCRIPTION:*Email For Location* \n@10am \nContact: Lee Lowery \neleelowery@gmail.com
URL:https://brunswickforest.com/events/chess-club-4/2026-10-21/
LOCATION:TBA
CATEGORIES:Resident Activities
ATTACH;FMTTYPE=image/png:https://brunswickforest.com/wpc/uploads/2022/06/chess-club.png
ORGANIZER;CN="Lee Lowery":MAILTO:eleelowery@gmail.com
END:VEVENT
BEGIN:VEVENT
DTSTART;TZID=America/New_York:20261021T130000
DTEND;TZID=America/New_York:20261021T140000
DTSTAMP:20260420T101851
CREATED:20231012T145004Z
LAST-MODIFIED:20231012T145004Z
UID:10010532-1792587600-1792591200@brunswickforest.com
SUMMARY:Experienced Mahjong
DESCRIPTION:Call for details\, Wednesdays \n@11am \nContact: Kim Sevier \nksevier0407@gmail.com
URL:https://brunswickforest.com/events/experienced-mahjong-3/2026-10-21/
LOCATION:TBA
CATEGORIES:Resident Activities
ATTACH;FMTTYPE=image/png:https://brunswickforest.com/wpc/uploads/2022/06/mahjong.png
ORGANIZER;CN="Renee Lempert":MAILTO:reneelempert@gmail.com
END:VEVENT
BEGIN:VEVENT
DTSTART;TZID=America/New_York:20261025T000000
DTEND;TZID=America/New_York:20261025T000000
DTSTAMP:20260420T101851
CREATED:20230616T132518Z
LAST-MODIFIED:20230616T132518Z
UID:10006506-1792886400-1792886400@brunswickforest.com
SUMMARY:Bike Riding
DESCRIPTION:Email for times and dates \nContact: Sandy Morrison \nsandymoisalliknow@gmail.com
URL:https://brunswickforest.com/events/bike-riding/2026-10-25/
LOCATION:TBA
CATEGORIES:Resident Activities
ATTACH;FMTTYPE=image/png:https://brunswickforest.com/wpc/uploads/Biking.png
END:VEVENT
BEGIN:VEVENT
DTSTART;VALUE=DATE:20261026
DTEND;VALUE=DATE:20261027
DTSTAMP:20260420T101851
CREATED:20231012T122340Z
LAST-MODIFIED:20231012T122340Z
UID:10007079-1792972800-1793059199@brunswickforest.com
SUMMARY:Investors Club
DESCRIPTION:Email For Details \nContact: Patrick Loyd \npatrickaloyd@kw.com
URL:https://brunswickforest.com/events/investors-club-3/2026-10-26/
LOCATION:TBA
CATEGORIES:Resident Activities
ATTACH;FMTTYPE=image/png:https://brunswickforest.com/wpc/uploads/investment-club.png
ORGANIZER;CN="Patrick Loyd":MAILTO:patrickloyd@kw.com
END:VEVENT
BEGIN:VEVENT
DTSTART;TZID=America/New_York:20261027T000000
DTEND;TZID=America/New_York:20261027T000000
DTSTAMP:20260420T101851
CREATED:20231012T132129Z
LAST-MODIFIED:20231012T132129Z
UID:10009204-1793059200-1793059200@brunswickforest.com
SUMMARY:Pinochle
DESCRIPTION:*Email For Location* Tuesdays \n@10:30am \nContact: Carl Fazio \nRetiredme57@gmail.com
URL:https://brunswickforest.com/events/pinochle-3/2026-10-27/
LOCATION:TBA
CATEGORIES:Resident Activities
ATTACH;FMTTYPE=image/png:https://brunswickforest.com/wpc/uploads/pinochle.png
ORGANIZER;CN="Carl Fazio":MAILTO:retiredme57@gmail.com
END:VEVENT
BEGIN:VEVENT
DTSTART;TZID=America/New_York:20261027T190000
DTEND;TZID=America/New_York:20261027T200000
DTSTAMP:20260420T101851
CREATED:20231012T132501Z
LAST-MODIFIED:20231012T132501Z
UID:10010002-1793127600-1793131200@brunswickforest.com
SUMMARY:Bourbon Lovers
DESCRIPTION:*Email For Location* \n@7pm \nContact: Mary Milliner \nmmilliner@aol.com.com
URL:https://brunswickforest.com/events/bourbon-lovers-3/2026-10-27/
LOCATION:TBA
CATEGORIES:Resident Activities
ATTACH;FMTTYPE=image/png:https://brunswickforest.com/wpc/uploads/Bourbon.png
ORGANIZER;CN="Mary Milliner":MAILTO:mmilliner@aol.com
END:VEVENT
BEGIN:VEVENT
DTSTART;TZID=America/New_York:20261028T100000
DTEND;TZID=America/New_York:20261028T120000
DTSTAMP:20260420T101851
CREATED:20231012T145046Z
LAST-MODIFIED:20231012T145046Z
UID:10010800-1793181600-1793188800@brunswickforest.com
SUMMARY:Chess Club
DESCRIPTION:*Email For Location* \n@10am \nContact: Lee Lowery \neleelowery@gmail.com
URL:https://brunswickforest.com/events/chess-club-4/2026-10-28/
LOCATION:TBA
CATEGORIES:Resident Activities
ATTACH;FMTTYPE=image/png:https://brunswickforest.com/wpc/uploads/2022/06/chess-club.png
ORGANIZER;CN="Lee Lowery":MAILTO:eleelowery@gmail.com
END:VEVENT
BEGIN:VEVENT
DTSTART;TZID=America/New_York:20261028T130000
DTEND;TZID=America/New_York:20261028T140000
DTSTAMP:20260420T101851
CREATED:20231012T145004Z
LAST-MODIFIED:20231012T145004Z
UID:10010533-1793192400-1793196000@brunswickforest.com
SUMMARY:Experienced Mahjong
DESCRIPTION:Call for details\, Wednesdays \n@11am \nContact: Kim Sevier \nksevier0407@gmail.com
URL:https://brunswickforest.com/events/experienced-mahjong-3/2026-10-28/
LOCATION:TBA
CATEGORIES:Resident Activities
ATTACH;FMTTYPE=image/png:https://brunswickforest.com/wpc/uploads/2022/06/mahjong.png
ORGANIZER;CN="Renee Lempert":MAILTO:reneelempert@gmail.com
END:VEVENT
BEGIN:VEVENT
DTSTART;TZID=America/New_York:20261101T000000
DTEND;TZID=America/New_York:20261101T000000
DTSTAMP:20260420T101851
CREATED:20230616T132518Z
LAST-MODIFIED:20230616T132518Z
UID:10006507-1793491200-1793491200@brunswickforest.com
SUMMARY:Bike Riding
DESCRIPTION:Email for times and dates \nContact: Sandy Morrison \nsandymoisalliknow@gmail.com
URL:https://brunswickforest.com/events/bike-riding/2026-11-01/
LOCATION:TBA
CATEGORIES:Resident Activities
ATTACH;FMTTYPE=image/png:https://brunswickforest.com/wpc/uploads/Biking.png
END:VEVENT
BEGIN:VEVENT
DTSTART;VALUE=DATE:20261102
DTEND;VALUE=DATE:20261103
DTSTAMP:20260420T101851
CREATED:20231012T122340Z
LAST-MODIFIED:20231012T122340Z
UID:10007080-1793577600-1793663999@brunswickforest.com
SUMMARY:Investors Club
DESCRIPTION:Email For Details \nContact: Patrick Loyd \npatrickaloyd@kw.com
URL:https://brunswickforest.com/events/investors-club-3/2026-11-02/
LOCATION:TBA
CATEGORIES:Resident Activities
ATTACH;FMTTYPE=image/png:https://brunswickforest.com/wpc/uploads/investment-club.png
ORGANIZER;CN="Patrick Loyd":MAILTO:patrickloyd@kw.com
END:VEVENT
BEGIN:VEVENT
DTSTART;TZID=America/New_York:20261103T000000
DTEND;TZID=America/New_York:20261103T000000
DTSTAMP:20260420T101851
CREATED:20231012T132129Z
LAST-MODIFIED:20231012T132129Z
UID:10009205-1793664000-1793664000@brunswickforest.com
SUMMARY:Pinochle
DESCRIPTION:*Email For Location* Tuesdays \n@10:30am \nContact: Carl Fazio \nRetiredme57@gmail.com
URL:https://brunswickforest.com/events/pinochle-3/2026-11-03/
LOCATION:TBA
CATEGORIES:Resident Activities
ATTACH;FMTTYPE=image/png:https://brunswickforest.com/wpc/uploads/pinochle.png
ORGANIZER;CN="Carl Fazio":MAILTO:retiredme57@gmail.com
END:VEVENT
BEGIN:VEVENT
DTSTART;TZID=America/New_York:20261103T190000
DTEND;TZID=America/New_York:20261103T200000
DTSTAMP:20260420T101851
CREATED:20231012T132501Z
LAST-MODIFIED:20231012T132501Z
UID:10010003-1793732400-1793736000@brunswickforest.com
SUMMARY:Bourbon Lovers
DESCRIPTION:*Email For Location* \n@7pm \nContact: Mary Milliner \nmmilliner@aol.com.com
URL:https://brunswickforest.com/events/bourbon-lovers-3/2026-11-03/
LOCATION:TBA
CATEGORIES:Resident Activities
ATTACH;FMTTYPE=image/png:https://brunswickforest.com/wpc/uploads/Bourbon.png
ORGANIZER;CN="Mary Milliner":MAILTO:mmilliner@aol.com
END:VEVENT
BEGIN:VEVENT
DTSTART;TZID=America/New_York:20261104T100000
DTEND;TZID=America/New_York:20261104T120000
DTSTAMP:20260420T101851
CREATED:20231012T145046Z
LAST-MODIFIED:20231012T145046Z
UID:10010801-1793786400-1793793600@brunswickforest.com
SUMMARY:Chess Club
DESCRIPTION:*Email For Location* \n@10am \nContact: Lee Lowery \neleelowery@gmail.com
URL:https://brunswickforest.com/events/chess-club-4/2026-11-04/
LOCATION:TBA
CATEGORIES:Resident Activities
ATTACH;FMTTYPE=image/png:https://brunswickforest.com/wpc/uploads/2022/06/chess-club.png
ORGANIZER;CN="Lee Lowery":MAILTO:eleelowery@gmail.com
END:VEVENT
BEGIN:VEVENT
DTSTART;TZID=America/New_York:20261104T130000
DTEND;TZID=America/New_York:20261104T140000
DTSTAMP:20260420T101851
CREATED:20231012T145004Z
LAST-MODIFIED:20231012T145004Z
UID:10010534-1793797200-1793800800@brunswickforest.com
SUMMARY:Experienced Mahjong
DESCRIPTION:Call for details\, Wednesdays \n@11am \nContact: Kim Sevier \nksevier0407@gmail.com
URL:https://brunswickforest.com/events/experienced-mahjong-3/2026-11-04/
LOCATION:TBA
CATEGORIES:Resident Activities
ATTACH;FMTTYPE=image/png:https://brunswickforest.com/wpc/uploads/2022/06/mahjong.png
ORGANIZER;CN="Renee Lempert":MAILTO:reneelempert@gmail.com
END:VEVENT
BEGIN:VEVENT
DTSTART;TZID=America/New_York:20261108T000000
DTEND;TZID=America/New_York:20261108T000000
DTSTAMP:20260420T101851
CREATED:20230616T132518Z
LAST-MODIFIED:20230616T132518Z
UID:10006508-1794096000-1794096000@brunswickforest.com
SUMMARY:Bike Riding
DESCRIPTION:Email for times and dates \nContact: Sandy Morrison \nsandymoisalliknow@gmail.com
URL:https://brunswickforest.com/events/bike-riding/2026-11-08/
LOCATION:TBA
CATEGORIES:Resident Activities
ATTACH;FMTTYPE=image/png:https://brunswickforest.com/wpc/uploads/Biking.png
END:VEVENT
BEGIN:VEVENT
DTSTART;VALUE=DATE:20261109
DTEND;VALUE=DATE:20261110
DTSTAMP:20260420T101851
CREATED:20231012T122340Z
LAST-MODIFIED:20231012T122340Z
UID:10007081-1794182400-1794268799@brunswickforest.com
SUMMARY:Investors Club
DESCRIPTION:Email For Details \nContact: Patrick Loyd \npatrickaloyd@kw.com
URL:https://brunswickforest.com/events/investors-club-3/2026-11-09/
LOCATION:TBA
CATEGORIES:Resident Activities
ATTACH;FMTTYPE=image/png:https://brunswickforest.com/wpc/uploads/investment-club.png
ORGANIZER;CN="Patrick Loyd":MAILTO:patrickloyd@kw.com
END:VEVENT
BEGIN:VEVENT
DTSTART;TZID=America/New_York:20261110T000000
DTEND;TZID=America/New_York:20261110T000000
DTSTAMP:20260420T101851
CREATED:20231012T132129Z
LAST-MODIFIED:20231012T132129Z
UID:10009206-1794268800-1794268800@brunswickforest.com
SUMMARY:Pinochle
DESCRIPTION:*Email For Location* Tuesdays \n@10:30am \nContact: Carl Fazio \nRetiredme57@gmail.com
URL:https://brunswickforest.com/events/pinochle-3/2026-11-10/
LOCATION:TBA
CATEGORIES:Resident Activities
ATTACH;FMTTYPE=image/png:https://brunswickforest.com/wpc/uploads/pinochle.png
ORGANIZER;CN="Carl Fazio":MAILTO:retiredme57@gmail.com
END:VEVENT
BEGIN:VEVENT
DTSTART;TZID=America/New_York:20261110T190000
DTEND;TZID=America/New_York:20261110T200000
DTSTAMP:20260420T101851
CREATED:20231012T132501Z
LAST-MODIFIED:20231012T132501Z
UID:10010004-1794337200-1794340800@brunswickforest.com
SUMMARY:Bourbon Lovers
DESCRIPTION:*Email For Location* \n@7pm \nContact: Mary Milliner \nmmilliner@aol.com.com
URL:https://brunswickforest.com/events/bourbon-lovers-3/2026-11-10/
LOCATION:TBA
CATEGORIES:Resident Activities
ATTACH;FMTTYPE=image/png:https://brunswickforest.com/wpc/uploads/Bourbon.png
ORGANIZER;CN="Mary Milliner":MAILTO:mmilliner@aol.com
END:VEVENT
BEGIN:VEVENT
DTSTART;TZID=America/New_York:20261111T100000
DTEND;TZID=America/New_York:20261111T120000
DTSTAMP:20260420T101851
CREATED:20231012T145046Z
LAST-MODIFIED:20231012T145046Z
UID:10010802-1794391200-1794398400@brunswickforest.com
SUMMARY:Chess Club
DESCRIPTION:*Email For Location* \n@10am \nContact: Lee Lowery \neleelowery@gmail.com
URL:https://brunswickforest.com/events/chess-club-4/2026-11-11/
LOCATION:TBA
CATEGORIES:Resident Activities
ATTACH;FMTTYPE=image/png:https://brunswickforest.com/wpc/uploads/2022/06/chess-club.png
ORGANIZER;CN="Lee Lowery":MAILTO:eleelowery@gmail.com
END:VEVENT
BEGIN:VEVENT
DTSTART;TZID=America/New_York:20261111T130000
DTEND;TZID=America/New_York:20261111T140000
DTSTAMP:20260420T101851
CREATED:20231012T145004Z
LAST-MODIFIED:20231012T145004Z
UID:10010535-1794402000-1794405600@brunswickforest.com
SUMMARY:Experienced Mahjong
DESCRIPTION:Call for details\, Wednesdays \n@11am \nContact: Kim Sevier \nksevier0407@gmail.com
URL:https://brunswickforest.com/events/experienced-mahjong-3/2026-11-11/
LOCATION:TBA
CATEGORIES:Resident Activities
ATTACH;FMTTYPE=image/png:https://brunswickforest.com/wpc/uploads/2022/06/mahjong.png
ORGANIZER;CN="Renee Lempert":MAILTO:reneelempert@gmail.com
END:VEVENT
BEGIN:VEVENT
DTSTART;TZID=America/New_York:20261115T000000
DTEND;TZID=America/New_York:20261115T000000
DTSTAMP:20260420T101851
CREATED:20230616T132518Z
LAST-MODIFIED:20230616T132518Z
UID:10006509-1794700800-1794700800@brunswickforest.com
SUMMARY:Bike Riding
DESCRIPTION:Email for times and dates \nContact: Sandy Morrison \nsandymoisalliknow@gmail.com
URL:https://brunswickforest.com/events/bike-riding/2026-11-15/
LOCATION:TBA
CATEGORIES:Resident Activities
ATTACH;FMTTYPE=image/png:https://brunswickforest.com/wpc/uploads/Biking.png
END:VEVENT
BEGIN:VEVENT
DTSTART;VALUE=DATE:20261116
DTEND;VALUE=DATE:20261117
DTSTAMP:20260420T101851
CREATED:20231012T122340Z
LAST-MODIFIED:20231012T122340Z
UID:10007082-1794787200-1794873599@brunswickforest.com
SUMMARY:Investors Club
DESCRIPTION:Email For Details \nContact: Patrick Loyd \npatrickaloyd@kw.com
URL:https://brunswickforest.com/events/investors-club-3/2026-11-16/
LOCATION:TBA
CATEGORIES:Resident Activities
ATTACH;FMTTYPE=image/png:https://brunswickforest.com/wpc/uploads/investment-club.png
ORGANIZER;CN="Patrick Loyd":MAILTO:patrickloyd@kw.com
END:VEVENT
BEGIN:VEVENT
DTSTART;TZID=America/New_York:20261117T000000
DTEND;TZID=America/New_York:20261117T000000
DTSTAMP:20260420T101851
CREATED:20231012T132129Z
LAST-MODIFIED:20231012T132129Z
UID:10009207-1794873600-1794873600@brunswickforest.com
SUMMARY:Pinochle
DESCRIPTION:*Email For Location* Tuesdays \n@10:30am \nContact: Carl Fazio \nRetiredme57@gmail.com
URL:https://brunswickforest.com/events/pinochle-3/2026-11-17/
LOCATION:TBA
CATEGORIES:Resident Activities
ATTACH;FMTTYPE=image/png:https://brunswickforest.com/wpc/uploads/pinochle.png
ORGANIZER;CN="Carl Fazio":MAILTO:retiredme57@gmail.com
END:VEVENT
BEGIN:VEVENT
DTSTART;TZID=America/New_York:20261117T190000
DTEND;TZID=America/New_York:20261117T200000
DTSTAMP:20260420T101851
CREATED:20231012T132501Z
LAST-MODIFIED:20231012T132501Z
UID:10010005-1794942000-1794945600@brunswickforest.com
SUMMARY:Bourbon Lovers
DESCRIPTION:*Email For Location* \n@7pm \nContact: Mary Milliner \nmmilliner@aol.com.com
URL:https://brunswickforest.com/events/bourbon-lovers-3/2026-11-17/
LOCATION:TBA
CATEGORIES:Resident Activities
ATTACH;FMTTYPE=image/png:https://brunswickforest.com/wpc/uploads/Bourbon.png
ORGANIZER;CN="Mary Milliner":MAILTO:mmilliner@aol.com
END:VEVENT
BEGIN:VEVENT
DTSTART;TZID=America/New_York:20261118T100000
DTEND;TZID=America/New_York:20261118T120000
DTSTAMP:20260420T101851
CREATED:20231012T145046Z
LAST-MODIFIED:20231012T145046Z
UID:10010803-1794996000-1795003200@brunswickforest.com
SUMMARY:Chess Club
DESCRIPTION:*Email For Location* \n@10am \nContact: Lee Lowery \neleelowery@gmail.com
URL:https://brunswickforest.com/events/chess-club-4/2026-11-18/
LOCATION:TBA
CATEGORIES:Resident Activities
ATTACH;FMTTYPE=image/png:https://brunswickforest.com/wpc/uploads/2022/06/chess-club.png
ORGANIZER;CN="Lee Lowery":MAILTO:eleelowery@gmail.com
END:VEVENT
BEGIN:VEVENT
DTSTART;TZID=America/New_York:20261118T130000
DTEND;TZID=America/New_York:20261118T140000
DTSTAMP:20260420T101851
CREATED:20231012T145004Z
LAST-MODIFIED:20231012T145004Z
UID:10010536-1795006800-1795010400@brunswickforest.com
SUMMARY:Experienced Mahjong
DESCRIPTION:Call for details\, Wednesdays \n@11am \nContact: Kim Sevier \nksevier0407@gmail.com
URL:https://brunswickforest.com/events/experienced-mahjong-3/2026-11-18/
LOCATION:TBA
CATEGORIES:Resident Activities
ATTACH;FMTTYPE=image/png:https://brunswickforest.com/wpc/uploads/2022/06/mahjong.png
ORGANIZER;CN="Renee Lempert":MAILTO:reneelempert@gmail.com
END:VEVENT
END:VCALENDAR