BEGIN:VCALENDAR
VERSION:2.0
PRODID:-//Brunswick Forest - ECPv6.15.20//NONSGML v1.0//EN
CALSCALE:GREGORIAN
METHOD:PUBLISH
X-ORIGINAL-URL:https://brunswickforest.com
X-WR-CALDESC:Events for Brunswick Forest
REFRESH-INTERVAL;VALUE=DURATION:PT1H
X-Robots-Tag:noindex
X-PUBLISHED-TTL:PT1H
BEGIN:VTIMEZONE
TZID:America/New_York
BEGIN:DAYLIGHT
TZOFFSETFROM:-0500
TZOFFSETTO:-0400
TZNAME:EDT
DTSTART:20240310T070000
END:DAYLIGHT
BEGIN:STANDARD
TZOFFSETFROM:-0400
TZOFFSETTO:-0500
TZNAME:EST
DTSTART:20241103T060000
END:STANDARD
BEGIN:DAYLIGHT
TZOFFSETFROM:-0500
TZOFFSETTO:-0400
TZNAME:EDT
DTSTART:20250309T070000
END:DAYLIGHT
BEGIN:STANDARD
TZOFFSETFROM:-0400
TZOFFSETTO:-0500
TZNAME:EST
DTSTART:20251102T060000
END:STANDARD
BEGIN:DAYLIGHT
TZOFFSETFROM:-0500
TZOFFSETTO:-0400
TZNAME:EDT
DTSTART:20260308T070000
END:DAYLIGHT
BEGIN:STANDARD
TZOFFSETFROM:-0400
TZOFFSETTO:-0500
TZNAME:EST
DTSTART:20261101T060000
END:STANDARD
BEGIN:DAYLIGHT
TZOFFSETFROM:-0500
TZOFFSETTO:-0400
TZNAME:EDT
DTSTART:20270314T070000
END:DAYLIGHT
BEGIN:STANDARD
TZOFFSETFROM:-0400
TZOFFSETTO:-0500
TZNAME:EST
DTSTART:20271107T060000
END:STANDARD
END:VTIMEZONE
BEGIN:VEVENT
DTSTART;TZID=America/New_York:20260126T183000
DTEND;TZID=America/New_York:20260126T193000
DTSTAMP:20260419T124005
CREATED:20231012T122555Z
LAST-MODIFIED:20231012T122555Z
UID:10007307-1769452200-1769455800@brunswickforest.com
SUMMARY:Ping Pong- Advanced
DESCRIPTION:Reflections Facility Mondays \n@6:30pm \nContact: Chuck Bins \nchuckbins@gmail.com
URL:https://brunswickforest.com/events/ping-pong-advanced/2026-01-26/
LOCATION:Reflections Recreation Center
CATEGORIES:Resident Activities
ATTACH;FMTTYPE=image/png:https://brunswickforest.com/wpc/uploads/Ping-Pong.png
ORGANIZER;CN="Chuck Bins":MAILTO:chuckbins@gmail.com
END:VEVENT
BEGIN:VEVENT
DTSTART;TZID=America/New_York:20260121T190000
DTEND;TZID=America/New_York:20260121T200000
DTSTAMP:20260419T124005
CREATED:20231012T151533Z
LAST-MODIFIED:20231012T151533Z
UID:10011294-1769022000-1769025600@brunswickforest.com
SUMMARY:Beginner 1 Shag
DESCRIPTION:Reflections \n@7 pm \nContact: Lorrie & Steve Gregory \nwinddancerlg@aol.com
URL:https://brunswickforest.com/events/beginner-1-shag/2026-01-21/
CATEGORIES:Resident Activities
ATTACH;FMTTYPE=image/png:https://brunswickforest.com/wpc/uploads/shag-3.png
ORGANIZER;CN="Lorrie & Steve Gregory":MAILTO:winddancerlg@aol.com
END:VEVENT
BEGIN:VEVENT
DTSTART;TZID=America/New_York:20260119T195000
DTEND;TZID=America/New_York:20260119T205000
DTSTAMP:20260419T124005
CREATED:20231012T122742Z
LAST-MODIFIED:20231012T122742Z
UID:10007573-1768852200-1768855800@brunswickforest.com
SUMMARY:Beginner-Intermediate Ping Pong
DESCRIPTION:Reflections Facility Mondays \n7:50 pm \nContact: Chuck Bins \nchuckbins@gmail.com
URL:https://brunswickforest.com/events/beginner-intermediate-ping-pong-2/2026-01-19/
LOCATION:Reflections Recreation Center
CATEGORIES:Resident Activities
ATTACH;FMTTYPE=image/png:https://brunswickforest.com/wpc/uploads/ping-pong-600-×-600-px.png
ORGANIZER;CN="Chuck Bins":MAILTO:chuckbins@gmail.com
END:VEVENT
BEGIN:VEVENT
DTSTART;TZID=America/New_York:20260119T183000
DTEND;TZID=America/New_York:20260119T193000
DTSTAMP:20260419T124005
CREATED:20231012T122555Z
LAST-MODIFIED:20231012T122555Z
UID:10007306-1768847400-1768851000@brunswickforest.com
SUMMARY:Ping Pong- Advanced
DESCRIPTION:Reflections Facility Mondays \n@6:30pm \nContact: Chuck Bins \nchuckbins@gmail.com
URL:https://brunswickforest.com/events/ping-pong-advanced/2026-01-19/
LOCATION:Reflections Recreation Center
CATEGORIES:Resident Activities
ATTACH;FMTTYPE=image/png:https://brunswickforest.com/wpc/uploads/Ping-Pong.png
ORGANIZER;CN="Chuck Bins":MAILTO:chuckbins@gmail.com
END:VEVENT
BEGIN:VEVENT
DTSTART;TZID=America/New_York:20260114T190000
DTEND;TZID=America/New_York:20260114T200000
DTSTAMP:20260419T124005
CREATED:20231012T151533Z
LAST-MODIFIED:20231012T151533Z
UID:10011293-1768417200-1768420800@brunswickforest.com
SUMMARY:Beginner 1 Shag
DESCRIPTION:Reflections \n@7 pm \nContact: Lorrie & Steve Gregory \nwinddancerlg@aol.com
URL:https://brunswickforest.com/events/beginner-1-shag/2026-01-14/
CATEGORIES:Resident Activities
ATTACH;FMTTYPE=image/png:https://brunswickforest.com/wpc/uploads/shag-3.png
ORGANIZER;CN="Lorrie & Steve Gregory":MAILTO:winddancerlg@aol.com
END:VEVENT
BEGIN:VEVENT
DTSTART;TZID=America/New_York:20260112T195000
DTEND;TZID=America/New_York:20260112T205000
DTSTAMP:20260419T124005
CREATED:20231012T122742Z
LAST-MODIFIED:20231012T122742Z
UID:10007572-1768247400-1768251000@brunswickforest.com
SUMMARY:Beginner-Intermediate Ping Pong
DESCRIPTION:Reflections Facility Mondays \n7:50 pm \nContact: Chuck Bins \nchuckbins@gmail.com
URL:https://brunswickforest.com/events/beginner-intermediate-ping-pong-2/2026-01-12/
LOCATION:Reflections Recreation Center
CATEGORIES:Resident Activities
ATTACH;FMTTYPE=image/png:https://brunswickforest.com/wpc/uploads/ping-pong-600-×-600-px.png
ORGANIZER;CN="Chuck Bins":MAILTO:chuckbins@gmail.com
END:VEVENT
BEGIN:VEVENT
DTSTART;TZID=America/New_York:20260112T183000
DTEND;TZID=America/New_York:20260112T193000
DTSTAMP:20260419T124005
CREATED:20231012T122555Z
LAST-MODIFIED:20231012T122555Z
UID:10007305-1768242600-1768246200@brunswickforest.com
SUMMARY:Ping Pong- Advanced
DESCRIPTION:Reflections Facility Mondays \n@6:30pm \nContact: Chuck Bins \nchuckbins@gmail.com
URL:https://brunswickforest.com/events/ping-pong-advanced/2026-01-12/
LOCATION:Reflections Recreation Center
CATEGORIES:Resident Activities
ATTACH;FMTTYPE=image/png:https://brunswickforest.com/wpc/uploads/Ping-Pong.png
ORGANIZER;CN="Chuck Bins":MAILTO:chuckbins@gmail.com
END:VEVENT
BEGIN:VEVENT
DTSTART;TZID=America/New_York:20260107T190000
DTEND;TZID=America/New_York:20260107T200000
DTSTAMP:20260419T124005
CREATED:20231012T151533Z
LAST-MODIFIED:20231012T151533Z
UID:10011292-1767812400-1767816000@brunswickforest.com
SUMMARY:Beginner 1 Shag
DESCRIPTION:Reflections \n@7 pm \nContact: Lorrie & Steve Gregory \nwinddancerlg@aol.com
URL:https://brunswickforest.com/events/beginner-1-shag/2026-01-07/
CATEGORIES:Resident Activities
ATTACH;FMTTYPE=image/png:https://brunswickforest.com/wpc/uploads/shag-3.png
ORGANIZER;CN="Lorrie & Steve Gregory":MAILTO:winddancerlg@aol.com
END:VEVENT
BEGIN:VEVENT
DTSTART;TZID=America/New_York:20260105T195000
DTEND;TZID=America/New_York:20260105T205000
DTSTAMP:20260419T124005
CREATED:20231012T122742Z
LAST-MODIFIED:20231012T122742Z
UID:10007571-1767642600-1767646200@brunswickforest.com
SUMMARY:Beginner-Intermediate Ping Pong
DESCRIPTION:Reflections Facility Mondays \n7:50 pm \nContact: Chuck Bins \nchuckbins@gmail.com
URL:https://brunswickforest.com/events/beginner-intermediate-ping-pong-2/2026-01-05/
LOCATION:Reflections Recreation Center
CATEGORIES:Resident Activities
ATTACH;FMTTYPE=image/png:https://brunswickforest.com/wpc/uploads/ping-pong-600-×-600-px.png
ORGANIZER;CN="Chuck Bins":MAILTO:chuckbins@gmail.com
END:VEVENT
BEGIN:VEVENT
DTSTART;TZID=America/New_York:20260105T183000
DTEND;TZID=America/New_York:20260105T193000
DTSTAMP:20260419T124005
CREATED:20231012T122555Z
LAST-MODIFIED:20231012T122555Z
UID:10007304-1767637800-1767641400@brunswickforest.com
SUMMARY:Ping Pong- Advanced
DESCRIPTION:Reflections Facility Mondays \n@6:30pm \nContact: Chuck Bins \nchuckbins@gmail.com
URL:https://brunswickforest.com/events/ping-pong-advanced/2026-01-05/
LOCATION:Reflections Recreation Center
CATEGORIES:Resident Activities
ATTACH;FMTTYPE=image/png:https://brunswickforest.com/wpc/uploads/Ping-Pong.png
ORGANIZER;CN="Chuck Bins":MAILTO:chuckbins@gmail.com
END:VEVENT
BEGIN:VEVENT
DTSTART;TZID=America/New_York:20251231T190000
DTEND;TZID=America/New_York:20251231T200000
DTSTAMP:20260419T124005
CREATED:20231012T151533Z
LAST-MODIFIED:20231012T151533Z
UID:10011291-1767207600-1767211200@brunswickforest.com
SUMMARY:Beginner 1 Shag
DESCRIPTION:Reflections \n@7 pm \nContact: Lorrie & Steve Gregory \nwinddancerlg@aol.com
URL:https://brunswickforest.com/events/beginner-1-shag/2025-12-31/
CATEGORIES:Resident Activities
ATTACH;FMTTYPE=image/png:https://brunswickforest.com/wpc/uploads/shag-3.png
ORGANIZER;CN="Lorrie & Steve Gregory":MAILTO:winddancerlg@aol.com
END:VEVENT
BEGIN:VEVENT
DTSTART;TZID=America/New_York:20251229T195000
DTEND;TZID=America/New_York:20251229T205000
DTSTAMP:20260419T124005
CREATED:20231012T122742Z
LAST-MODIFIED:20231012T122742Z
UID:10007570-1767037800-1767041400@brunswickforest.com
SUMMARY:Beginner-Intermediate Ping Pong
DESCRIPTION:Reflections Facility Mondays \n7:50 pm \nContact: Chuck Bins \nchuckbins@gmail.com
URL:https://brunswickforest.com/events/beginner-intermediate-ping-pong-2/2025-12-29/
LOCATION:Reflections Recreation Center
CATEGORIES:Resident Activities
ATTACH;FMTTYPE=image/png:https://brunswickforest.com/wpc/uploads/ping-pong-600-×-600-px.png
ORGANIZER;CN="Chuck Bins":MAILTO:chuckbins@gmail.com
END:VEVENT
BEGIN:VEVENT
DTSTART;TZID=America/New_York:20251229T183000
DTEND;TZID=America/New_York:20251229T193000
DTSTAMP:20260419T124005
CREATED:20231012T122555Z
LAST-MODIFIED:20231012T122555Z
UID:10007303-1767033000-1767036600@brunswickforest.com
SUMMARY:Ping Pong- Advanced
DESCRIPTION:Reflections Facility Mondays \n@6:30pm \nContact: Chuck Bins \nchuckbins@gmail.com
URL:https://brunswickforest.com/events/ping-pong-advanced/2025-12-29/
LOCATION:Reflections Recreation Center
CATEGORIES:Resident Activities
ATTACH;FMTTYPE=image/png:https://brunswickforest.com/wpc/uploads/Ping-Pong.png
ORGANIZER;CN="Chuck Bins":MAILTO:chuckbins@gmail.com
END:VEVENT
BEGIN:VEVENT
DTSTART;TZID=America/New_York:20251224T190000
DTEND;TZID=America/New_York:20251224T200000
DTSTAMP:20260419T124005
CREATED:20231012T151533Z
LAST-MODIFIED:20231012T151533Z
UID:10011290-1766602800-1766606400@brunswickforest.com
SUMMARY:Beginner 1 Shag
DESCRIPTION:Reflections \n@7 pm \nContact: Lorrie & Steve Gregory \nwinddancerlg@aol.com
URL:https://brunswickforest.com/events/beginner-1-shag/2025-12-24/
CATEGORIES:Resident Activities
ATTACH;FMTTYPE=image/png:https://brunswickforest.com/wpc/uploads/shag-3.png
ORGANIZER;CN="Lorrie & Steve Gregory":MAILTO:winddancerlg@aol.com
END:VEVENT
BEGIN:VEVENT
DTSTART;TZID=America/New_York:20251222T195000
DTEND;TZID=America/New_York:20251222T205000
DTSTAMP:20260419T124005
CREATED:20231012T122742Z
LAST-MODIFIED:20231012T122742Z
UID:10007569-1766433000-1766436600@brunswickforest.com
SUMMARY:Beginner-Intermediate Ping Pong
DESCRIPTION:Reflections Facility Mondays \n7:50 pm \nContact: Chuck Bins \nchuckbins@gmail.com
URL:https://brunswickforest.com/events/beginner-intermediate-ping-pong-2/2025-12-22/
LOCATION:Reflections Recreation Center
CATEGORIES:Resident Activities
ATTACH;FMTTYPE=image/png:https://brunswickforest.com/wpc/uploads/ping-pong-600-×-600-px.png
ORGANIZER;CN="Chuck Bins":MAILTO:chuckbins@gmail.com
END:VEVENT
BEGIN:VEVENT
DTSTART;TZID=America/New_York:20251222T183000
DTEND;TZID=America/New_York:20251222T193000
DTSTAMP:20260419T124005
CREATED:20231012T122555Z
LAST-MODIFIED:20231012T122555Z
UID:10007302-1766428200-1766431800@brunswickforest.com
SUMMARY:Ping Pong- Advanced
DESCRIPTION:Reflections Facility Mondays \n@6:30pm \nContact: Chuck Bins \nchuckbins@gmail.com
URL:https://brunswickforest.com/events/ping-pong-advanced/2025-12-22/
LOCATION:Reflections Recreation Center
CATEGORIES:Resident Activities
ATTACH;FMTTYPE=image/png:https://brunswickforest.com/wpc/uploads/Ping-Pong.png
ORGANIZER;CN="Chuck Bins":MAILTO:chuckbins@gmail.com
END:VEVENT
BEGIN:VEVENT
DTSTART;TZID=America/New_York:20251217T190000
DTEND;TZID=America/New_York:20251217T200000
DTSTAMP:20260419T124005
CREATED:20231012T151533Z
LAST-MODIFIED:20231012T151533Z
UID:10011289-1765998000-1766001600@brunswickforest.com
SUMMARY:Beginner 1 Shag
DESCRIPTION:Reflections \n@7 pm \nContact: Lorrie & Steve Gregory \nwinddancerlg@aol.com
URL:https://brunswickforest.com/events/beginner-1-shag/2025-12-17/
CATEGORIES:Resident Activities
ATTACH;FMTTYPE=image/png:https://brunswickforest.com/wpc/uploads/shag-3.png
ORGANIZER;CN="Lorrie & Steve Gregory":MAILTO:winddancerlg@aol.com
END:VEVENT
BEGIN:VEVENT
DTSTART;TZID=America/New_York:20251215T195000
DTEND;TZID=America/New_York:20251215T205000
DTSTAMP:20260419T124005
CREATED:20231012T122742Z
LAST-MODIFIED:20231012T122742Z
UID:10007568-1765828200-1765831800@brunswickforest.com
SUMMARY:Beginner-Intermediate Ping Pong
DESCRIPTION:Reflections Facility Mondays \n7:50 pm \nContact: Chuck Bins \nchuckbins@gmail.com
URL:https://brunswickforest.com/events/beginner-intermediate-ping-pong-2/2025-12-15/
LOCATION:Reflections Recreation Center
CATEGORIES:Resident Activities
ATTACH;FMTTYPE=image/png:https://brunswickforest.com/wpc/uploads/ping-pong-600-×-600-px.png
ORGANIZER;CN="Chuck Bins":MAILTO:chuckbins@gmail.com
END:VEVENT
BEGIN:VEVENT
DTSTART;TZID=America/New_York:20251215T183000
DTEND;TZID=America/New_York:20251215T193000
DTSTAMP:20260419T124005
CREATED:20231012T122555Z
LAST-MODIFIED:20231012T122555Z
UID:10007301-1765823400-1765827000@brunswickforest.com
SUMMARY:Ping Pong- Advanced
DESCRIPTION:Reflections Facility Mondays \n@6:30pm \nContact: Chuck Bins \nchuckbins@gmail.com
URL:https://brunswickforest.com/events/ping-pong-advanced/2025-12-15/
LOCATION:Reflections Recreation Center
CATEGORIES:Resident Activities
ATTACH;FMTTYPE=image/png:https://brunswickforest.com/wpc/uploads/Ping-Pong.png
ORGANIZER;CN="Chuck Bins":MAILTO:chuckbins@gmail.com
END:VEVENT
BEGIN:VEVENT
DTSTART;TZID=America/New_York:20251210T190000
DTEND;TZID=America/New_York:20251210T200000
DTSTAMP:20260419T124005
CREATED:20231012T151533Z
LAST-MODIFIED:20231012T151533Z
UID:10011288-1765393200-1765396800@brunswickforest.com
SUMMARY:Beginner 1 Shag
DESCRIPTION:Reflections \n@7 pm \nContact: Lorrie & Steve Gregory \nwinddancerlg@aol.com
URL:https://brunswickforest.com/events/beginner-1-shag/2025-12-10/
CATEGORIES:Resident Activities
ATTACH;FMTTYPE=image/png:https://brunswickforest.com/wpc/uploads/shag-3.png
ORGANIZER;CN="Lorrie & Steve Gregory":MAILTO:winddancerlg@aol.com
END:VEVENT
BEGIN:VEVENT
DTSTART;TZID=America/New_York:20251208T195000
DTEND;TZID=America/New_York:20251208T205000
DTSTAMP:20260419T124005
CREATED:20231012T122742Z
LAST-MODIFIED:20231012T122742Z
UID:10007567-1765223400-1765227000@brunswickforest.com
SUMMARY:Beginner-Intermediate Ping Pong
DESCRIPTION:Reflections Facility Mondays \n7:50 pm \nContact: Chuck Bins \nchuckbins@gmail.com
URL:https://brunswickforest.com/events/beginner-intermediate-ping-pong-2/2025-12-08/
LOCATION:Reflections Recreation Center
CATEGORIES:Resident Activities
ATTACH;FMTTYPE=image/png:https://brunswickforest.com/wpc/uploads/ping-pong-600-×-600-px.png
ORGANIZER;CN="Chuck Bins":MAILTO:chuckbins@gmail.com
END:VEVENT
BEGIN:VEVENT
DTSTART;TZID=America/New_York:20251208T183000
DTEND;TZID=America/New_York:20251208T193000
DTSTAMP:20260419T124005
CREATED:20231012T122555Z
LAST-MODIFIED:20231012T122555Z
UID:10007300-1765218600-1765222200@brunswickforest.com
SUMMARY:Ping Pong- Advanced
DESCRIPTION:Reflections Facility Mondays \n@6:30pm \nContact: Chuck Bins \nchuckbins@gmail.com
URL:https://brunswickforest.com/events/ping-pong-advanced/2025-12-08/
LOCATION:Reflections Recreation Center
CATEGORIES:Resident Activities
ATTACH;FMTTYPE=image/png:https://brunswickforest.com/wpc/uploads/Ping-Pong.png
ORGANIZER;CN="Chuck Bins":MAILTO:chuckbins@gmail.com
END:VEVENT
BEGIN:VEVENT
DTSTART;TZID=America/New_York:20251203T190000
DTEND;TZID=America/New_York:20251203T200000
DTSTAMP:20260419T124005
CREATED:20231012T151533Z
LAST-MODIFIED:20231012T151533Z
UID:10011287-1764788400-1764792000@brunswickforest.com
SUMMARY:Beginner 1 Shag
DESCRIPTION:Reflections \n@7 pm \nContact: Lorrie & Steve Gregory \nwinddancerlg@aol.com
URL:https://brunswickforest.com/events/beginner-1-shag/2025-12-03/
CATEGORIES:Resident Activities
ATTACH;FMTTYPE=image/png:https://brunswickforest.com/wpc/uploads/shag-3.png
ORGANIZER;CN="Lorrie & Steve Gregory":MAILTO:winddancerlg@aol.com
END:VEVENT
BEGIN:VEVENT
DTSTART;TZID=America/New_York:20251201T195000
DTEND;TZID=America/New_York:20251201T205000
DTSTAMP:20260419T124005
CREATED:20231012T122742Z
LAST-MODIFIED:20231012T122742Z
UID:10007566-1764618600-1764622200@brunswickforest.com
SUMMARY:Beginner-Intermediate Ping Pong
DESCRIPTION:Reflections Facility Mondays \n7:50 pm \nContact: Chuck Bins \nchuckbins@gmail.com
URL:https://brunswickforest.com/events/beginner-intermediate-ping-pong-2/2025-12-01/
LOCATION:Reflections Recreation Center
CATEGORIES:Resident Activities
ATTACH;FMTTYPE=image/png:https://brunswickforest.com/wpc/uploads/ping-pong-600-×-600-px.png
ORGANIZER;CN="Chuck Bins":MAILTO:chuckbins@gmail.com
END:VEVENT
BEGIN:VEVENT
DTSTART;TZID=America/New_York:20251201T183000
DTEND;TZID=America/New_York:20251201T193000
DTSTAMP:20260419T124005
CREATED:20231012T122555Z
LAST-MODIFIED:20231012T122555Z
UID:10007299-1764613800-1764617400@brunswickforest.com
SUMMARY:Ping Pong- Advanced
DESCRIPTION:Reflections Facility Mondays \n@6:30pm \nContact: Chuck Bins \nchuckbins@gmail.com
URL:https://brunswickforest.com/events/ping-pong-advanced/2025-12-01/
LOCATION:Reflections Recreation Center
CATEGORIES:Resident Activities
ATTACH;FMTTYPE=image/png:https://brunswickforest.com/wpc/uploads/Ping-Pong.png
ORGANIZER;CN="Chuck Bins":MAILTO:chuckbins@gmail.com
END:VEVENT
BEGIN:VEVENT
DTSTART;TZID=America/New_York:20251126T190000
DTEND;TZID=America/New_York:20251126T200000
DTSTAMP:20260419T124005
CREATED:20231012T151533Z
LAST-MODIFIED:20231012T151533Z
UID:10011286-1764183600-1764187200@brunswickforest.com
SUMMARY:Beginner 1 Shag
DESCRIPTION:Reflections \n@7 pm \nContact: Lorrie & Steve Gregory \nwinddancerlg@aol.com
URL:https://brunswickforest.com/events/beginner-1-shag/2025-11-26/
CATEGORIES:Resident Activities
ATTACH;FMTTYPE=image/png:https://brunswickforest.com/wpc/uploads/shag-3.png
ORGANIZER;CN="Lorrie & Steve Gregory":MAILTO:winddancerlg@aol.com
END:VEVENT
BEGIN:VEVENT
DTSTART;TZID=America/New_York:20251124T195000
DTEND;TZID=America/New_York:20251124T205000
DTSTAMP:20260419T124005
CREATED:20231012T122742Z
LAST-MODIFIED:20231012T122742Z
UID:10007565-1764013800-1764017400@brunswickforest.com
SUMMARY:Beginner-Intermediate Ping Pong
DESCRIPTION:Reflections Facility Mondays \n7:50 pm \nContact: Chuck Bins \nchuckbins@gmail.com
URL:https://brunswickforest.com/events/beginner-intermediate-ping-pong-2/2025-11-24/
LOCATION:Reflections Recreation Center
CATEGORIES:Resident Activities
ATTACH;FMTTYPE=image/png:https://brunswickforest.com/wpc/uploads/ping-pong-600-×-600-px.png
ORGANIZER;CN="Chuck Bins":MAILTO:chuckbins@gmail.com
END:VEVENT
BEGIN:VEVENT
DTSTART;TZID=America/New_York:20251124T183000
DTEND;TZID=America/New_York:20251124T193000
DTSTAMP:20260419T124005
CREATED:20231012T122555Z
LAST-MODIFIED:20231012T122555Z
UID:10007298-1764009000-1764012600@brunswickforest.com
SUMMARY:Ping Pong- Advanced
DESCRIPTION:Reflections Facility Mondays \n@6:30pm \nContact: Chuck Bins \nchuckbins@gmail.com
URL:https://brunswickforest.com/events/ping-pong-advanced/2025-11-24/
LOCATION:Reflections Recreation Center
CATEGORIES:Resident Activities
ATTACH;FMTTYPE=image/png:https://brunswickforest.com/wpc/uploads/Ping-Pong.png
ORGANIZER;CN="Chuck Bins":MAILTO:chuckbins@gmail.com
END:VEVENT
BEGIN:VEVENT
DTSTART;TZID=America/New_York:20251119T190000
DTEND;TZID=America/New_York:20251119T200000
DTSTAMP:20260419T124005
CREATED:20231012T151533Z
LAST-MODIFIED:20231012T151533Z
UID:10011285-1763578800-1763582400@brunswickforest.com
SUMMARY:Beginner 1 Shag
DESCRIPTION:Reflections \n@7 pm \nContact: Lorrie & Steve Gregory \nwinddancerlg@aol.com
URL:https://brunswickforest.com/events/beginner-1-shag/2025-11-19/
CATEGORIES:Resident Activities
ATTACH;FMTTYPE=image/png:https://brunswickforest.com/wpc/uploads/shag-3.png
ORGANIZER;CN="Lorrie & Steve Gregory":MAILTO:winddancerlg@aol.com
END:VEVENT
BEGIN:VEVENT
DTSTART;TZID=America/New_York:20251117T195000
DTEND;TZID=America/New_York:20251117T205000
DTSTAMP:20260419T124005
CREATED:20231012T122742Z
LAST-MODIFIED:20231012T122742Z
UID:10007564-1763409000-1763412600@brunswickforest.com
SUMMARY:Beginner-Intermediate Ping Pong
DESCRIPTION:Reflections Facility Mondays \n7:50 pm \nContact: Chuck Bins \nchuckbins@gmail.com
URL:https://brunswickforest.com/events/beginner-intermediate-ping-pong-2/2025-11-17/
LOCATION:Reflections Recreation Center
CATEGORIES:Resident Activities
ATTACH;FMTTYPE=image/png:https://brunswickforest.com/wpc/uploads/ping-pong-600-×-600-px.png
ORGANIZER;CN="Chuck Bins":MAILTO:chuckbins@gmail.com
END:VEVENT
END:VCALENDAR