BEGIN:VCALENDAR
VERSION:2.0
PRODID:-//Brunswick Forest - ECPv6.15.20//NONSGML v1.0//EN
CALSCALE:GREGORIAN
METHOD:PUBLISH
X-WR-CALNAME:Brunswick Forest
X-ORIGINAL-URL:https://brunswickforest.com
X-WR-CALDESC:Events for Brunswick Forest
REFRESH-INTERVAL;VALUE=DURATION:PT1H
X-Robots-Tag:noindex
X-PUBLISHED-TTL:PT1H
BEGIN:VTIMEZONE
TZID:America/New_York
BEGIN:DAYLIGHT
TZOFFSETFROM:-0500
TZOFFSETTO:-0400
TZNAME:EDT
DTSTART:20260308T070000
END:DAYLIGHT
BEGIN:STANDARD
TZOFFSETFROM:-0400
TZOFFSETTO:-0500
TZNAME:EST
DTSTART:20261101T060000
END:STANDARD
BEGIN:DAYLIGHT
TZOFFSETFROM:-0500
TZOFFSETTO:-0400
TZNAME:EDT
DTSTART:20270314T070000
END:DAYLIGHT
BEGIN:STANDARD
TZOFFSETFROM:-0400
TZOFFSETTO:-0500
TZNAME:EST
DTSTART:20271107T060000
END:STANDARD
BEGIN:DAYLIGHT
TZOFFSETFROM:-0500
TZOFFSETTO:-0400
TZNAME:EDT
DTSTART:20280312T070000
END:DAYLIGHT
BEGIN:STANDARD
TZOFFSETFROM:-0400
TZOFFSETTO:-0500
TZNAME:EST
DTSTART:20281105T060000
END:STANDARD
END:VTIMEZONE
BEGIN:VEVENT
DTSTART;TZID=America/New_York:20270726T183000
DTEND;TZID=America/New_York:20270726T193000
DTSTAMP:20260423T054258
CREATED:20231012T122555Z
LAST-MODIFIED:20231012T122555Z
UID:10007385-1816626600-1816630200@brunswickforest.com
SUMMARY:Ping Pong- Advanced
DESCRIPTION:Reflections Facility Mondays \n@6:30pm \nContact: Chuck Bins \nchuckbins@gmail.com
URL:https://brunswickforest.com/events/ping-pong-advanced/2027-07-26/
LOCATION:Reflections Recreation Center
CATEGORIES:Resident Activities
ATTACH;FMTTYPE=image/png:https://brunswickforest.com/wpc/uploads/Ping-Pong.png
ORGANIZER;CN="Chuck Bins":MAILTO:chuckbins@gmail.com
END:VEVENT
BEGIN:VEVENT
DTSTART;TZID=America/New_York:20270726T195000
DTEND;TZID=America/New_York:20270726T205000
DTSTAMP:20260423T054258
CREATED:20231012T122742Z
LAST-MODIFIED:20231012T122742Z
UID:10007652-1816631400-1816635000@brunswickforest.com
SUMMARY:Beginner-Intermediate Ping Pong
DESCRIPTION:Reflections Facility Mondays \n7:50 pm \nContact: Chuck Bins \nchuckbins@gmail.com
URL:https://brunswickforest.com/events/beginner-intermediate-ping-pong-2/2027-07-26/
LOCATION:Reflections Recreation Center
CATEGORIES:Resident Activities
ATTACH;FMTTYPE=image/png:https://brunswickforest.com/wpc/uploads/ping-pong-600-×-600-px.png
ORGANIZER;CN="Chuck Bins":MAILTO:chuckbins@gmail.com
END:VEVENT
BEGIN:VEVENT
DTSTART;TZID=America/New_York:20270728T190000
DTEND;TZID=America/New_York:20270728T200000
DTSTAMP:20260423T054258
CREATED:20231012T151533Z
LAST-MODIFIED:20231012T151533Z
UID:10011373-1816801200-1816804800@brunswickforest.com
SUMMARY:Beginner 1 Shag
DESCRIPTION:Reflections \n@7 pm \nContact: Lorrie & Steve Gregory \nwinddancerlg@aol.com
URL:https://brunswickforest.com/events/beginner-1-shag/2027-07-28/
CATEGORIES:Resident Activities
ATTACH;FMTTYPE=image/png:https://brunswickforest.com/wpc/uploads/shag-3.png
ORGANIZER;CN="Lorrie & Steve Gregory":MAILTO:winddancerlg@aol.com
END:VEVENT
BEGIN:VEVENT
DTSTART;TZID=America/New_York:20270802T183000
DTEND;TZID=America/New_York:20270802T193000
DTSTAMP:20260423T054258
CREATED:20231012T122555Z
LAST-MODIFIED:20231012T122555Z
UID:10007386-1817231400-1817235000@brunswickforest.com
SUMMARY:Ping Pong- Advanced
DESCRIPTION:Reflections Facility Mondays \n@6:30pm \nContact: Chuck Bins \nchuckbins@gmail.com
URL:https://brunswickforest.com/events/ping-pong-advanced/2027-08-02/
LOCATION:Reflections Recreation Center
CATEGORIES:Resident Activities
ATTACH;FMTTYPE=image/png:https://brunswickforest.com/wpc/uploads/Ping-Pong.png
ORGANIZER;CN="Chuck Bins":MAILTO:chuckbins@gmail.com
END:VEVENT
BEGIN:VEVENT
DTSTART;TZID=America/New_York:20270802T195000
DTEND;TZID=America/New_York:20270802T205000
DTSTAMP:20260423T054258
CREATED:20231012T122742Z
LAST-MODIFIED:20231012T122742Z
UID:10007653-1817236200-1817239800@brunswickforest.com
SUMMARY:Beginner-Intermediate Ping Pong
DESCRIPTION:Reflections Facility Mondays \n7:50 pm \nContact: Chuck Bins \nchuckbins@gmail.com
URL:https://brunswickforest.com/events/beginner-intermediate-ping-pong-2/2027-08-02/
LOCATION:Reflections Recreation Center
CATEGORIES:Resident Activities
ATTACH;FMTTYPE=image/png:https://brunswickforest.com/wpc/uploads/ping-pong-600-×-600-px.png
ORGANIZER;CN="Chuck Bins":MAILTO:chuckbins@gmail.com
END:VEVENT
BEGIN:VEVENT
DTSTART;TZID=America/New_York:20270804T190000
DTEND;TZID=America/New_York:20270804T200000
DTSTAMP:20260423T054258
CREATED:20231012T151533Z
LAST-MODIFIED:20231012T151533Z
UID:10011374-1817406000-1817409600@brunswickforest.com
SUMMARY:Beginner 1 Shag
DESCRIPTION:Reflections \n@7 pm \nContact: Lorrie & Steve Gregory \nwinddancerlg@aol.com
URL:https://brunswickforest.com/events/beginner-1-shag/2027-08-04/
CATEGORIES:Resident Activities
ATTACH;FMTTYPE=image/png:https://brunswickforest.com/wpc/uploads/shag-3.png
ORGANIZER;CN="Lorrie & Steve Gregory":MAILTO:winddancerlg@aol.com
END:VEVENT
BEGIN:VEVENT
DTSTART;TZID=America/New_York:20270809T183000
DTEND;TZID=America/New_York:20270809T193000
DTSTAMP:20260423T054258
CREATED:20231012T122555Z
LAST-MODIFIED:20231012T122555Z
UID:10007387-1817836200-1817839800@brunswickforest.com
SUMMARY:Ping Pong- Advanced
DESCRIPTION:Reflections Facility Mondays \n@6:30pm \nContact: Chuck Bins \nchuckbins@gmail.com
URL:https://brunswickforest.com/events/ping-pong-advanced/2027-08-09/
LOCATION:Reflections Recreation Center
CATEGORIES:Resident Activities
ATTACH;FMTTYPE=image/png:https://brunswickforest.com/wpc/uploads/Ping-Pong.png
ORGANIZER;CN="Chuck Bins":MAILTO:chuckbins@gmail.com
END:VEVENT
BEGIN:VEVENT
DTSTART;TZID=America/New_York:20270809T195000
DTEND;TZID=America/New_York:20270809T205000
DTSTAMP:20260423T054258
CREATED:20231012T122742Z
LAST-MODIFIED:20231012T122742Z
UID:10007654-1817841000-1817844600@brunswickforest.com
SUMMARY:Beginner-Intermediate Ping Pong
DESCRIPTION:Reflections Facility Mondays \n7:50 pm \nContact: Chuck Bins \nchuckbins@gmail.com
URL:https://brunswickforest.com/events/beginner-intermediate-ping-pong-2/2027-08-09/
LOCATION:Reflections Recreation Center
CATEGORIES:Resident Activities
ATTACH;FMTTYPE=image/png:https://brunswickforest.com/wpc/uploads/ping-pong-600-×-600-px.png
ORGANIZER;CN="Chuck Bins":MAILTO:chuckbins@gmail.com
END:VEVENT
BEGIN:VEVENT
DTSTART;TZID=America/New_York:20270811T190000
DTEND;TZID=America/New_York:20270811T200000
DTSTAMP:20260423T054258
CREATED:20231012T151533Z
LAST-MODIFIED:20231012T151533Z
UID:10011375-1818010800-1818014400@brunswickforest.com
SUMMARY:Beginner 1 Shag
DESCRIPTION:Reflections \n@7 pm \nContact: Lorrie & Steve Gregory \nwinddancerlg@aol.com
URL:https://brunswickforest.com/events/beginner-1-shag/2027-08-11/
CATEGORIES:Resident Activities
ATTACH;FMTTYPE=image/png:https://brunswickforest.com/wpc/uploads/shag-3.png
ORGANIZER;CN="Lorrie & Steve Gregory":MAILTO:winddancerlg@aol.com
END:VEVENT
BEGIN:VEVENT
DTSTART;TZID=America/New_York:20270816T183000
DTEND;TZID=America/New_York:20270816T193000
DTSTAMP:20260423T054258
CREATED:20231012T122555Z
LAST-MODIFIED:20231012T122555Z
UID:10007388-1818441000-1818444600@brunswickforest.com
SUMMARY:Ping Pong- Advanced
DESCRIPTION:Reflections Facility Mondays \n@6:30pm \nContact: Chuck Bins \nchuckbins@gmail.com
URL:https://brunswickforest.com/events/ping-pong-advanced/2027-08-16/
LOCATION:Reflections Recreation Center
CATEGORIES:Resident Activities
ATTACH;FMTTYPE=image/png:https://brunswickforest.com/wpc/uploads/Ping-Pong.png
ORGANIZER;CN="Chuck Bins":MAILTO:chuckbins@gmail.com
END:VEVENT
BEGIN:VEVENT
DTSTART;TZID=America/New_York:20270816T195000
DTEND;TZID=America/New_York:20270816T205000
DTSTAMP:20260423T054258
CREATED:20231012T122742Z
LAST-MODIFIED:20231012T122742Z
UID:10007655-1818445800-1818449400@brunswickforest.com
SUMMARY:Beginner-Intermediate Ping Pong
DESCRIPTION:Reflections Facility Mondays \n7:50 pm \nContact: Chuck Bins \nchuckbins@gmail.com
URL:https://brunswickforest.com/events/beginner-intermediate-ping-pong-2/2027-08-16/
LOCATION:Reflections Recreation Center
CATEGORIES:Resident Activities
ATTACH;FMTTYPE=image/png:https://brunswickforest.com/wpc/uploads/ping-pong-600-×-600-px.png
ORGANIZER;CN="Chuck Bins":MAILTO:chuckbins@gmail.com
END:VEVENT
BEGIN:VEVENT
DTSTART;TZID=America/New_York:20270818T190000
DTEND;TZID=America/New_York:20270818T200000
DTSTAMP:20260423T054258
CREATED:20231012T151533Z
LAST-MODIFIED:20231012T151533Z
UID:10011376-1818615600-1818619200@brunswickforest.com
SUMMARY:Beginner 1 Shag
DESCRIPTION:Reflections \n@7 pm \nContact: Lorrie & Steve Gregory \nwinddancerlg@aol.com
URL:https://brunswickforest.com/events/beginner-1-shag/2027-08-18/
CATEGORIES:Resident Activities
ATTACH;FMTTYPE=image/png:https://brunswickforest.com/wpc/uploads/shag-3.png
ORGANIZER;CN="Lorrie & Steve Gregory":MAILTO:winddancerlg@aol.com
END:VEVENT
BEGIN:VEVENT
DTSTART;TZID=America/New_York:20270823T183000
DTEND;TZID=America/New_York:20270823T193000
DTSTAMP:20260423T054258
CREATED:20231012T122555Z
LAST-MODIFIED:20231012T122555Z
UID:10007389-1819045800-1819049400@brunswickforest.com
SUMMARY:Ping Pong- Advanced
DESCRIPTION:Reflections Facility Mondays \n@6:30pm \nContact: Chuck Bins \nchuckbins@gmail.com
URL:https://brunswickforest.com/events/ping-pong-advanced/2027-08-23/
LOCATION:Reflections Recreation Center
CATEGORIES:Resident Activities
ATTACH;FMTTYPE=image/png:https://brunswickforest.com/wpc/uploads/Ping-Pong.png
ORGANIZER;CN="Chuck Bins":MAILTO:chuckbins@gmail.com
END:VEVENT
BEGIN:VEVENT
DTSTART;TZID=America/New_York:20270823T195000
DTEND;TZID=America/New_York:20270823T205000
DTSTAMP:20260423T054258
CREATED:20231012T122742Z
LAST-MODIFIED:20231012T122742Z
UID:10007656-1819050600-1819054200@brunswickforest.com
SUMMARY:Beginner-Intermediate Ping Pong
DESCRIPTION:Reflections Facility Mondays \n7:50 pm \nContact: Chuck Bins \nchuckbins@gmail.com
URL:https://brunswickforest.com/events/beginner-intermediate-ping-pong-2/2027-08-23/
LOCATION:Reflections Recreation Center
CATEGORIES:Resident Activities
ATTACH;FMTTYPE=image/png:https://brunswickforest.com/wpc/uploads/ping-pong-600-×-600-px.png
ORGANIZER;CN="Chuck Bins":MAILTO:chuckbins@gmail.com
END:VEVENT
BEGIN:VEVENT
DTSTART;TZID=America/New_York:20270825T190000
DTEND;TZID=America/New_York:20270825T200000
DTSTAMP:20260423T054258
CREATED:20231012T151533Z
LAST-MODIFIED:20231012T151533Z
UID:10011377-1819220400-1819224000@brunswickforest.com
SUMMARY:Beginner 1 Shag
DESCRIPTION:Reflections \n@7 pm \nContact: Lorrie & Steve Gregory \nwinddancerlg@aol.com
URL:https://brunswickforest.com/events/beginner-1-shag/2027-08-25/
CATEGORIES:Resident Activities
ATTACH;FMTTYPE=image/png:https://brunswickforest.com/wpc/uploads/shag-3.png
ORGANIZER;CN="Lorrie & Steve Gregory":MAILTO:winddancerlg@aol.com
END:VEVENT
BEGIN:VEVENT
DTSTART;TZID=America/New_York:20270830T183000
DTEND;TZID=America/New_York:20270830T193000
DTSTAMP:20260423T054258
CREATED:20231012T122555Z
LAST-MODIFIED:20231012T122555Z
UID:10007390-1819650600-1819654200@brunswickforest.com
SUMMARY:Ping Pong- Advanced
DESCRIPTION:Reflections Facility Mondays \n@6:30pm \nContact: Chuck Bins \nchuckbins@gmail.com
URL:https://brunswickforest.com/events/ping-pong-advanced/2027-08-30/
LOCATION:Reflections Recreation Center
CATEGORIES:Resident Activities
ATTACH;FMTTYPE=image/png:https://brunswickforest.com/wpc/uploads/Ping-Pong.png
ORGANIZER;CN="Chuck Bins":MAILTO:chuckbins@gmail.com
END:VEVENT
BEGIN:VEVENT
DTSTART;TZID=America/New_York:20270830T195000
DTEND;TZID=America/New_York:20270830T205000
DTSTAMP:20260423T054258
CREATED:20231012T122742Z
LAST-MODIFIED:20231012T122742Z
UID:10007657-1819655400-1819659000@brunswickforest.com
SUMMARY:Beginner-Intermediate Ping Pong
DESCRIPTION:Reflections Facility Mondays \n7:50 pm \nContact: Chuck Bins \nchuckbins@gmail.com
URL:https://brunswickforest.com/events/beginner-intermediate-ping-pong-2/2027-08-30/
LOCATION:Reflections Recreation Center
CATEGORIES:Resident Activities
ATTACH;FMTTYPE=image/png:https://brunswickforest.com/wpc/uploads/ping-pong-600-×-600-px.png
ORGANIZER;CN="Chuck Bins":MAILTO:chuckbins@gmail.com
END:VEVENT
BEGIN:VEVENT
DTSTART;TZID=America/New_York:20270901T190000
DTEND;TZID=America/New_York:20270901T200000
DTSTAMP:20260423T054258
CREATED:20231012T151533Z
LAST-MODIFIED:20231012T151533Z
UID:10011378-1819825200-1819828800@brunswickforest.com
SUMMARY:Beginner 1 Shag
DESCRIPTION:Reflections \n@7 pm \nContact: Lorrie & Steve Gregory \nwinddancerlg@aol.com
URL:https://brunswickforest.com/events/beginner-1-shag/2027-09-01/
CATEGORIES:Resident Activities
ATTACH;FMTTYPE=image/png:https://brunswickforest.com/wpc/uploads/shag-3.png
ORGANIZER;CN="Lorrie & Steve Gregory":MAILTO:winddancerlg@aol.com
END:VEVENT
BEGIN:VEVENT
DTSTART;TZID=America/New_York:20270906T183000
DTEND;TZID=America/New_York:20270906T193000
DTSTAMP:20260423T054258
CREATED:20231012T122555Z
LAST-MODIFIED:20231012T122555Z
UID:10007391-1820255400-1820259000@brunswickforest.com
SUMMARY:Ping Pong- Advanced
DESCRIPTION:Reflections Facility Mondays \n@6:30pm \nContact: Chuck Bins \nchuckbins@gmail.com
URL:https://brunswickforest.com/events/ping-pong-advanced/2027-09-06/
LOCATION:Reflections Recreation Center
CATEGORIES:Resident Activities
ATTACH;FMTTYPE=image/png:https://brunswickforest.com/wpc/uploads/Ping-Pong.png
ORGANIZER;CN="Chuck Bins":MAILTO:chuckbins@gmail.com
END:VEVENT
BEGIN:VEVENT
DTSTART;TZID=America/New_York:20270906T195000
DTEND;TZID=America/New_York:20270906T205000
DTSTAMP:20260423T054258
CREATED:20231012T122742Z
LAST-MODIFIED:20231012T122742Z
UID:10007658-1820260200-1820263800@brunswickforest.com
SUMMARY:Beginner-Intermediate Ping Pong
DESCRIPTION:Reflections Facility Mondays \n7:50 pm \nContact: Chuck Bins \nchuckbins@gmail.com
URL:https://brunswickforest.com/events/beginner-intermediate-ping-pong-2/2027-09-06/
LOCATION:Reflections Recreation Center
CATEGORIES:Resident Activities
ATTACH;FMTTYPE=image/png:https://brunswickforest.com/wpc/uploads/ping-pong-600-×-600-px.png
ORGANIZER;CN="Chuck Bins":MAILTO:chuckbins@gmail.com
END:VEVENT
BEGIN:VEVENT
DTSTART;TZID=America/New_York:20270908T190000
DTEND;TZID=America/New_York:20270908T200000
DTSTAMP:20260423T054258
CREATED:20231012T151533Z
LAST-MODIFIED:20231012T151533Z
UID:10011379-1820430000-1820433600@brunswickforest.com
SUMMARY:Beginner 1 Shag
DESCRIPTION:Reflections \n@7 pm \nContact: Lorrie & Steve Gregory \nwinddancerlg@aol.com
URL:https://brunswickforest.com/events/beginner-1-shag/2027-09-08/
CATEGORIES:Resident Activities
ATTACH;FMTTYPE=image/png:https://brunswickforest.com/wpc/uploads/shag-3.png
ORGANIZER;CN="Lorrie & Steve Gregory":MAILTO:winddancerlg@aol.com
END:VEVENT
BEGIN:VEVENT
DTSTART;TZID=America/New_York:20270913T183000
DTEND;TZID=America/New_York:20270913T193000
DTSTAMP:20260423T054258
CREATED:20231012T122555Z
LAST-MODIFIED:20231012T122555Z
UID:10007392-1820860200-1820863800@brunswickforest.com
SUMMARY:Ping Pong- Advanced
DESCRIPTION:Reflections Facility Mondays \n@6:30pm \nContact: Chuck Bins \nchuckbins@gmail.com
URL:https://brunswickforest.com/events/ping-pong-advanced/2027-09-13/
LOCATION:Reflections Recreation Center
CATEGORIES:Resident Activities
ATTACH;FMTTYPE=image/png:https://brunswickforest.com/wpc/uploads/Ping-Pong.png
ORGANIZER;CN="Chuck Bins":MAILTO:chuckbins@gmail.com
END:VEVENT
BEGIN:VEVENT
DTSTART;TZID=America/New_York:20270913T195000
DTEND;TZID=America/New_York:20270913T205000
DTSTAMP:20260423T054258
CREATED:20231012T122742Z
LAST-MODIFIED:20231012T122742Z
UID:10007659-1820865000-1820868600@brunswickforest.com
SUMMARY:Beginner-Intermediate Ping Pong
DESCRIPTION:Reflections Facility Mondays \n7:50 pm \nContact: Chuck Bins \nchuckbins@gmail.com
URL:https://brunswickforest.com/events/beginner-intermediate-ping-pong-2/2027-09-13/
LOCATION:Reflections Recreation Center
CATEGORIES:Resident Activities
ATTACH;FMTTYPE=image/png:https://brunswickforest.com/wpc/uploads/ping-pong-600-×-600-px.png
ORGANIZER;CN="Chuck Bins":MAILTO:chuckbins@gmail.com
END:VEVENT
BEGIN:VEVENT
DTSTART;TZID=America/New_York:20270915T190000
DTEND;TZID=America/New_York:20270915T200000
DTSTAMP:20260423T054258
CREATED:20231012T151533Z
LAST-MODIFIED:20231012T151533Z
UID:10011380-1821034800-1821038400@brunswickforest.com
SUMMARY:Beginner 1 Shag
DESCRIPTION:Reflections \n@7 pm \nContact: Lorrie & Steve Gregory \nwinddancerlg@aol.com
URL:https://brunswickforest.com/events/beginner-1-shag/2027-09-15/
CATEGORIES:Resident Activities
ATTACH;FMTTYPE=image/png:https://brunswickforest.com/wpc/uploads/shag-3.png
ORGANIZER;CN="Lorrie & Steve Gregory":MAILTO:winddancerlg@aol.com
END:VEVENT
BEGIN:VEVENT
DTSTART;TZID=America/New_York:20270920T183000
DTEND;TZID=America/New_York:20270920T193000
DTSTAMP:20260423T054258
CREATED:20231012T122555Z
LAST-MODIFIED:20231012T122555Z
UID:10007393-1821465000-1821468600@brunswickforest.com
SUMMARY:Ping Pong- Advanced
DESCRIPTION:Reflections Facility Mondays \n@6:30pm \nContact: Chuck Bins \nchuckbins@gmail.com
URL:https://brunswickforest.com/events/ping-pong-advanced/2027-09-20/
LOCATION:Reflections Recreation Center
CATEGORIES:Resident Activities
ATTACH;FMTTYPE=image/png:https://brunswickforest.com/wpc/uploads/Ping-Pong.png
ORGANIZER;CN="Chuck Bins":MAILTO:chuckbins@gmail.com
END:VEVENT
BEGIN:VEVENT
DTSTART;TZID=America/New_York:20270920T195000
DTEND;TZID=America/New_York:20270920T205000
DTSTAMP:20260423T054258
CREATED:20231012T122742Z
LAST-MODIFIED:20231012T122742Z
UID:10007660-1821469800-1821473400@brunswickforest.com
SUMMARY:Beginner-Intermediate Ping Pong
DESCRIPTION:Reflections Facility Mondays \n7:50 pm \nContact: Chuck Bins \nchuckbins@gmail.com
URL:https://brunswickforest.com/events/beginner-intermediate-ping-pong-2/2027-09-20/
LOCATION:Reflections Recreation Center
CATEGORIES:Resident Activities
ATTACH;FMTTYPE=image/png:https://brunswickforest.com/wpc/uploads/ping-pong-600-×-600-px.png
ORGANIZER;CN="Chuck Bins":MAILTO:chuckbins@gmail.com
END:VEVENT
BEGIN:VEVENT
DTSTART;TZID=America/New_York:20270922T190000
DTEND;TZID=America/New_York:20270922T200000
DTSTAMP:20260423T054258
CREATED:20231012T151533Z
LAST-MODIFIED:20231012T151533Z
UID:10011381-1821639600-1821643200@brunswickforest.com
SUMMARY:Beginner 1 Shag
DESCRIPTION:Reflections \n@7 pm \nContact: Lorrie & Steve Gregory \nwinddancerlg@aol.com
URL:https://brunswickforest.com/events/beginner-1-shag/2027-09-22/
CATEGORIES:Resident Activities
ATTACH;FMTTYPE=image/png:https://brunswickforest.com/wpc/uploads/shag-3.png
ORGANIZER;CN="Lorrie & Steve Gregory":MAILTO:winddancerlg@aol.com
END:VEVENT
BEGIN:VEVENT
DTSTART;TZID=America/New_York:20270927T183000
DTEND;TZID=America/New_York:20270927T193000
DTSTAMP:20260423T054258
CREATED:20231012T122555Z
LAST-MODIFIED:20231012T122555Z
UID:10007394-1822069800-1822073400@brunswickforest.com
SUMMARY:Ping Pong- Advanced
DESCRIPTION:Reflections Facility Mondays \n@6:30pm \nContact: Chuck Bins \nchuckbins@gmail.com
URL:https://brunswickforest.com/events/ping-pong-advanced/2027-09-27/
LOCATION:Reflections Recreation Center
CATEGORIES:Resident Activities
ATTACH;FMTTYPE=image/png:https://brunswickforest.com/wpc/uploads/Ping-Pong.png
ORGANIZER;CN="Chuck Bins":MAILTO:chuckbins@gmail.com
END:VEVENT
BEGIN:VEVENT
DTSTART;TZID=America/New_York:20270927T195000
DTEND;TZID=America/New_York:20270927T205000
DTSTAMP:20260423T054258
CREATED:20231012T122742Z
LAST-MODIFIED:20231012T122742Z
UID:10007661-1822074600-1822078200@brunswickforest.com
SUMMARY:Beginner-Intermediate Ping Pong
DESCRIPTION:Reflections Facility Mondays \n7:50 pm \nContact: Chuck Bins \nchuckbins@gmail.com
URL:https://brunswickforest.com/events/beginner-intermediate-ping-pong-2/2027-09-27/
LOCATION:Reflections Recreation Center
CATEGORIES:Resident Activities
ATTACH;FMTTYPE=image/png:https://brunswickforest.com/wpc/uploads/ping-pong-600-×-600-px.png
ORGANIZER;CN="Chuck Bins":MAILTO:chuckbins@gmail.com
END:VEVENT
BEGIN:VEVENT
DTSTART;TZID=America/New_York:20270929T190000
DTEND;TZID=America/New_York:20270929T200000
DTSTAMP:20260423T054258
CREATED:20231012T151533Z
LAST-MODIFIED:20231012T151533Z
UID:10011382-1822244400-1822248000@brunswickforest.com
SUMMARY:Beginner 1 Shag
DESCRIPTION:Reflections \n@7 pm \nContact: Lorrie & Steve Gregory \nwinddancerlg@aol.com
URL:https://brunswickforest.com/events/beginner-1-shag/2027-09-29/
CATEGORIES:Resident Activities
ATTACH;FMTTYPE=image/png:https://brunswickforest.com/wpc/uploads/shag-3.png
ORGANIZER;CN="Lorrie & Steve Gregory":MAILTO:winddancerlg@aol.com
END:VEVENT
END:VCALENDAR