BEGIN:VCALENDAR
VERSION:2.0
PRODID:-//Brunswick Forest - ECPv6.15.20//NONSGML v1.0//EN
CALSCALE:GREGORIAN
METHOD:PUBLISH
X-ORIGINAL-URL:https://brunswickforest.com
X-WR-CALDESC:Events for Brunswick Forest
REFRESH-INTERVAL;VALUE=DURATION:PT1H
X-Robots-Tag:noindex
X-PUBLISHED-TTL:PT1H
BEGIN:VTIMEZONE
TZID:America/New_York
BEGIN:DAYLIGHT
TZOFFSETFROM:-0500
TZOFFSETTO:-0400
TZNAME:EDT
DTSTART:20260308T070000
END:DAYLIGHT
BEGIN:STANDARD
TZOFFSETFROM:-0400
TZOFFSETTO:-0500
TZNAME:EST
DTSTART:20261101T060000
END:STANDARD
BEGIN:DAYLIGHT
TZOFFSETFROM:-0500
TZOFFSETTO:-0400
TZNAME:EDT
DTSTART:20270314T070000
END:DAYLIGHT
BEGIN:STANDARD
TZOFFSETFROM:-0400
TZOFFSETTO:-0500
TZNAME:EST
DTSTART:20271107T060000
END:STANDARD
BEGIN:DAYLIGHT
TZOFFSETFROM:-0500
TZOFFSETTO:-0400
TZNAME:EDT
DTSTART:20280312T070000
END:DAYLIGHT
BEGIN:STANDARD
TZOFFSETFROM:-0400
TZOFFSETTO:-0500
TZNAME:EST
DTSTART:20281105T060000
END:STANDARD
END:VTIMEZONE
BEGIN:VEVENT
DTSTART;TZID=America/New_York:20270512T190000
DTEND;TZID=America/New_York:20270512T200000
DTSTAMP:20260422T191211
CREATED:20231012T151533Z
LAST-MODIFIED:20231012T151533Z
UID:10011362-1810148400-1810152000@brunswickforest.com
SUMMARY:Beginner 1 Shag
DESCRIPTION:Reflections \n@7 pm \nContact: Lorrie & Steve Gregory \nwinddancerlg@aol.com
URL:https://brunswickforest.com/events/beginner-1-shag/2027-05-12/
CATEGORIES:Resident Activities
ATTACH;FMTTYPE=image/png:https://brunswickforest.com/wpc/uploads/shag-3.png
ORGANIZER;CN="Lorrie & Steve Gregory":MAILTO:winddancerlg@aol.com
END:VEVENT
BEGIN:VEVENT
DTSTART;TZID=America/New_York:20270517T183000
DTEND;TZID=America/New_York:20270517T193000
DTSTAMP:20260422T191211
CREATED:20231012T122555Z
LAST-MODIFIED:20231012T122555Z
UID:10007375-1810578600-1810582200@brunswickforest.com
SUMMARY:Ping Pong- Advanced
DESCRIPTION:Reflections Facility Mondays \n@6:30pm \nContact: Chuck Bins \nchuckbins@gmail.com
URL:https://brunswickforest.com/events/ping-pong-advanced/2027-05-17/
LOCATION:Reflections Recreation Center
CATEGORIES:Resident Activities
ATTACH;FMTTYPE=image/png:https://brunswickforest.com/wpc/uploads/Ping-Pong.png
ORGANIZER;CN="Chuck Bins":MAILTO:chuckbins@gmail.com
END:VEVENT
BEGIN:VEVENT
DTSTART;TZID=America/New_York:20270517T195000
DTEND;TZID=America/New_York:20270517T205000
DTSTAMP:20260422T191211
CREATED:20231012T122742Z
LAST-MODIFIED:20231012T122742Z
UID:10007642-1810583400-1810587000@brunswickforest.com
SUMMARY:Beginner-Intermediate Ping Pong
DESCRIPTION:Reflections Facility Mondays \n7:50 pm \nContact: Chuck Bins \nchuckbins@gmail.com
URL:https://brunswickforest.com/events/beginner-intermediate-ping-pong-2/2027-05-17/
LOCATION:Reflections Recreation Center
CATEGORIES:Resident Activities
ATTACH;FMTTYPE=image/png:https://brunswickforest.com/wpc/uploads/ping-pong-600-×-600-px.png
ORGANIZER;CN="Chuck Bins":MAILTO:chuckbins@gmail.com
END:VEVENT
BEGIN:VEVENT
DTSTART;TZID=America/New_York:20270519T190000
DTEND;TZID=America/New_York:20270519T200000
DTSTAMP:20260422T191211
CREATED:20231012T151533Z
LAST-MODIFIED:20231012T151533Z
UID:10011363-1810753200-1810756800@brunswickforest.com
SUMMARY:Beginner 1 Shag
DESCRIPTION:Reflections \n@7 pm \nContact: Lorrie & Steve Gregory \nwinddancerlg@aol.com
URL:https://brunswickforest.com/events/beginner-1-shag/2027-05-19/
CATEGORIES:Resident Activities
ATTACH;FMTTYPE=image/png:https://brunswickforest.com/wpc/uploads/shag-3.png
ORGANIZER;CN="Lorrie & Steve Gregory":MAILTO:winddancerlg@aol.com
END:VEVENT
BEGIN:VEVENT
DTSTART;TZID=America/New_York:20270524T183000
DTEND;TZID=America/New_York:20270524T193000
DTSTAMP:20260422T191211
CREATED:20231012T122555Z
LAST-MODIFIED:20231012T122555Z
UID:10007376-1811183400-1811187000@brunswickforest.com
SUMMARY:Ping Pong- Advanced
DESCRIPTION:Reflections Facility Mondays \n@6:30pm \nContact: Chuck Bins \nchuckbins@gmail.com
URL:https://brunswickforest.com/events/ping-pong-advanced/2027-05-24/
LOCATION:Reflections Recreation Center
CATEGORIES:Resident Activities
ATTACH;FMTTYPE=image/png:https://brunswickforest.com/wpc/uploads/Ping-Pong.png
ORGANIZER;CN="Chuck Bins":MAILTO:chuckbins@gmail.com
END:VEVENT
BEGIN:VEVENT
DTSTART;TZID=America/New_York:20270524T195000
DTEND;TZID=America/New_York:20270524T205000
DTSTAMP:20260422T191211
CREATED:20231012T122742Z
LAST-MODIFIED:20231012T122742Z
UID:10007643-1811188200-1811191800@brunswickforest.com
SUMMARY:Beginner-Intermediate Ping Pong
DESCRIPTION:Reflections Facility Mondays \n7:50 pm \nContact: Chuck Bins \nchuckbins@gmail.com
URL:https://brunswickforest.com/events/beginner-intermediate-ping-pong-2/2027-05-24/
LOCATION:Reflections Recreation Center
CATEGORIES:Resident Activities
ATTACH;FMTTYPE=image/png:https://brunswickforest.com/wpc/uploads/ping-pong-600-×-600-px.png
ORGANIZER;CN="Chuck Bins":MAILTO:chuckbins@gmail.com
END:VEVENT
BEGIN:VEVENT
DTSTART;TZID=America/New_York:20270526T190000
DTEND;TZID=America/New_York:20270526T200000
DTSTAMP:20260422T191211
CREATED:20231012T151533Z
LAST-MODIFIED:20231012T151533Z
UID:10011364-1811358000-1811361600@brunswickforest.com
SUMMARY:Beginner 1 Shag
DESCRIPTION:Reflections \n@7 pm \nContact: Lorrie & Steve Gregory \nwinddancerlg@aol.com
URL:https://brunswickforest.com/events/beginner-1-shag/2027-05-26/
CATEGORIES:Resident Activities
ATTACH;FMTTYPE=image/png:https://brunswickforest.com/wpc/uploads/shag-3.png
ORGANIZER;CN="Lorrie & Steve Gregory":MAILTO:winddancerlg@aol.com
END:VEVENT
BEGIN:VEVENT
DTSTART;TZID=America/New_York:20270531T183000
DTEND;TZID=America/New_York:20270531T193000
DTSTAMP:20260422T191211
CREATED:20231012T122555Z
LAST-MODIFIED:20231012T122555Z
UID:10007377-1811788200-1811791800@brunswickforest.com
SUMMARY:Ping Pong- Advanced
DESCRIPTION:Reflections Facility Mondays \n@6:30pm \nContact: Chuck Bins \nchuckbins@gmail.com
URL:https://brunswickforest.com/events/ping-pong-advanced/2027-05-31/
LOCATION:Reflections Recreation Center
CATEGORIES:Resident Activities
ATTACH;FMTTYPE=image/png:https://brunswickforest.com/wpc/uploads/Ping-Pong.png
ORGANIZER;CN="Chuck Bins":MAILTO:chuckbins@gmail.com
END:VEVENT
BEGIN:VEVENT
DTSTART;TZID=America/New_York:20270531T195000
DTEND;TZID=America/New_York:20270531T205000
DTSTAMP:20260422T191211
CREATED:20231012T122742Z
LAST-MODIFIED:20231012T122742Z
UID:10007644-1811793000-1811796600@brunswickforest.com
SUMMARY:Beginner-Intermediate Ping Pong
DESCRIPTION:Reflections Facility Mondays \n7:50 pm \nContact: Chuck Bins \nchuckbins@gmail.com
URL:https://brunswickforest.com/events/beginner-intermediate-ping-pong-2/2027-05-31/
LOCATION:Reflections Recreation Center
CATEGORIES:Resident Activities
ATTACH;FMTTYPE=image/png:https://brunswickforest.com/wpc/uploads/ping-pong-600-×-600-px.png
ORGANIZER;CN="Chuck Bins":MAILTO:chuckbins@gmail.com
END:VEVENT
BEGIN:VEVENT
DTSTART;TZID=America/New_York:20270602T190000
DTEND;TZID=America/New_York:20270602T200000
DTSTAMP:20260422T191211
CREATED:20231012T151533Z
LAST-MODIFIED:20231012T151533Z
UID:10011365-1811962800-1811966400@brunswickforest.com
SUMMARY:Beginner 1 Shag
DESCRIPTION:Reflections \n@7 pm \nContact: Lorrie & Steve Gregory \nwinddancerlg@aol.com
URL:https://brunswickforest.com/events/beginner-1-shag/2027-06-02/
CATEGORIES:Resident Activities
ATTACH;FMTTYPE=image/png:https://brunswickforest.com/wpc/uploads/shag-3.png
ORGANIZER;CN="Lorrie & Steve Gregory":MAILTO:winddancerlg@aol.com
END:VEVENT
BEGIN:VEVENT
DTSTART;TZID=America/New_York:20270607T183000
DTEND;TZID=America/New_York:20270607T193000
DTSTAMP:20260422T191211
CREATED:20231012T122555Z
LAST-MODIFIED:20231012T122555Z
UID:10007378-1812393000-1812396600@brunswickforest.com
SUMMARY:Ping Pong- Advanced
DESCRIPTION:Reflections Facility Mondays \n@6:30pm \nContact: Chuck Bins \nchuckbins@gmail.com
URL:https://brunswickforest.com/events/ping-pong-advanced/2027-06-07/
LOCATION:Reflections Recreation Center
CATEGORIES:Resident Activities
ATTACH;FMTTYPE=image/png:https://brunswickforest.com/wpc/uploads/Ping-Pong.png
ORGANIZER;CN="Chuck Bins":MAILTO:chuckbins@gmail.com
END:VEVENT
BEGIN:VEVENT
DTSTART;TZID=America/New_York:20270607T195000
DTEND;TZID=America/New_York:20270607T205000
DTSTAMP:20260422T191211
CREATED:20231012T122742Z
LAST-MODIFIED:20231012T122742Z
UID:10007645-1812397800-1812401400@brunswickforest.com
SUMMARY:Beginner-Intermediate Ping Pong
DESCRIPTION:Reflections Facility Mondays \n7:50 pm \nContact: Chuck Bins \nchuckbins@gmail.com
URL:https://brunswickforest.com/events/beginner-intermediate-ping-pong-2/2027-06-07/
LOCATION:Reflections Recreation Center
CATEGORIES:Resident Activities
ATTACH;FMTTYPE=image/png:https://brunswickforest.com/wpc/uploads/ping-pong-600-×-600-px.png
ORGANIZER;CN="Chuck Bins":MAILTO:chuckbins@gmail.com
END:VEVENT
BEGIN:VEVENT
DTSTART;TZID=America/New_York:20270609T190000
DTEND;TZID=America/New_York:20270609T200000
DTSTAMP:20260422T191211
CREATED:20231012T151533Z
LAST-MODIFIED:20231012T151533Z
UID:10011366-1812567600-1812571200@brunswickforest.com
SUMMARY:Beginner 1 Shag
DESCRIPTION:Reflections \n@7 pm \nContact: Lorrie & Steve Gregory \nwinddancerlg@aol.com
URL:https://brunswickforest.com/events/beginner-1-shag/2027-06-09/
CATEGORIES:Resident Activities
ATTACH;FMTTYPE=image/png:https://brunswickforest.com/wpc/uploads/shag-3.png
ORGANIZER;CN="Lorrie & Steve Gregory":MAILTO:winddancerlg@aol.com
END:VEVENT
BEGIN:VEVENT
DTSTART;TZID=America/New_York:20270614T183000
DTEND;TZID=America/New_York:20270614T193000
DTSTAMP:20260422T191211
CREATED:20231012T122555Z
LAST-MODIFIED:20231012T122555Z
UID:10007379-1812997800-1813001400@brunswickforest.com
SUMMARY:Ping Pong- Advanced
DESCRIPTION:Reflections Facility Mondays \n@6:30pm \nContact: Chuck Bins \nchuckbins@gmail.com
URL:https://brunswickforest.com/events/ping-pong-advanced/2027-06-14/
LOCATION:Reflections Recreation Center
CATEGORIES:Resident Activities
ATTACH;FMTTYPE=image/png:https://brunswickforest.com/wpc/uploads/Ping-Pong.png
ORGANIZER;CN="Chuck Bins":MAILTO:chuckbins@gmail.com
END:VEVENT
BEGIN:VEVENT
DTSTART;TZID=America/New_York:20270614T195000
DTEND;TZID=America/New_York:20270614T205000
DTSTAMP:20260422T191211
CREATED:20231012T122742Z
LAST-MODIFIED:20231012T122742Z
UID:10007646-1813002600-1813006200@brunswickforest.com
SUMMARY:Beginner-Intermediate Ping Pong
DESCRIPTION:Reflections Facility Mondays \n7:50 pm \nContact: Chuck Bins \nchuckbins@gmail.com
URL:https://brunswickforest.com/events/beginner-intermediate-ping-pong-2/2027-06-14/
LOCATION:Reflections Recreation Center
CATEGORIES:Resident Activities
ATTACH;FMTTYPE=image/png:https://brunswickforest.com/wpc/uploads/ping-pong-600-×-600-px.png
ORGANIZER;CN="Chuck Bins":MAILTO:chuckbins@gmail.com
END:VEVENT
BEGIN:VEVENT
DTSTART;TZID=America/New_York:20270616T190000
DTEND;TZID=America/New_York:20270616T200000
DTSTAMP:20260422T191211
CREATED:20231012T151533Z
LAST-MODIFIED:20231012T151533Z
UID:10011367-1813172400-1813176000@brunswickforest.com
SUMMARY:Beginner 1 Shag
DESCRIPTION:Reflections \n@7 pm \nContact: Lorrie & Steve Gregory \nwinddancerlg@aol.com
URL:https://brunswickforest.com/events/beginner-1-shag/2027-06-16/
CATEGORIES:Resident Activities
ATTACH;FMTTYPE=image/png:https://brunswickforest.com/wpc/uploads/shag-3.png
ORGANIZER;CN="Lorrie & Steve Gregory":MAILTO:winddancerlg@aol.com
END:VEVENT
BEGIN:VEVENT
DTSTART;TZID=America/New_York:20270621T183000
DTEND;TZID=America/New_York:20270621T193000
DTSTAMP:20260422T191211
CREATED:20231012T122555Z
LAST-MODIFIED:20231012T122555Z
UID:10007380-1813602600-1813606200@brunswickforest.com
SUMMARY:Ping Pong- Advanced
DESCRIPTION:Reflections Facility Mondays \n@6:30pm \nContact: Chuck Bins \nchuckbins@gmail.com
URL:https://brunswickforest.com/events/ping-pong-advanced/2027-06-21/
LOCATION:Reflections Recreation Center
CATEGORIES:Resident Activities
ATTACH;FMTTYPE=image/png:https://brunswickforest.com/wpc/uploads/Ping-Pong.png
ORGANIZER;CN="Chuck Bins":MAILTO:chuckbins@gmail.com
END:VEVENT
BEGIN:VEVENT
DTSTART;TZID=America/New_York:20270621T195000
DTEND;TZID=America/New_York:20270621T205000
DTSTAMP:20260422T191211
CREATED:20231012T122742Z
LAST-MODIFIED:20231012T122742Z
UID:10007647-1813607400-1813611000@brunswickforest.com
SUMMARY:Beginner-Intermediate Ping Pong
DESCRIPTION:Reflections Facility Mondays \n7:50 pm \nContact: Chuck Bins \nchuckbins@gmail.com
URL:https://brunswickforest.com/events/beginner-intermediate-ping-pong-2/2027-06-21/
LOCATION:Reflections Recreation Center
CATEGORIES:Resident Activities
ATTACH;FMTTYPE=image/png:https://brunswickforest.com/wpc/uploads/ping-pong-600-×-600-px.png
ORGANIZER;CN="Chuck Bins":MAILTO:chuckbins@gmail.com
END:VEVENT
BEGIN:VEVENT
DTSTART;TZID=America/New_York:20270623T190000
DTEND;TZID=America/New_York:20270623T200000
DTSTAMP:20260422T191211
CREATED:20231012T151533Z
LAST-MODIFIED:20231012T151533Z
UID:10011368-1813777200-1813780800@brunswickforest.com
SUMMARY:Beginner 1 Shag
DESCRIPTION:Reflections \n@7 pm \nContact: Lorrie & Steve Gregory \nwinddancerlg@aol.com
URL:https://brunswickforest.com/events/beginner-1-shag/2027-06-23/
CATEGORIES:Resident Activities
ATTACH;FMTTYPE=image/png:https://brunswickforest.com/wpc/uploads/shag-3.png
ORGANIZER;CN="Lorrie & Steve Gregory":MAILTO:winddancerlg@aol.com
END:VEVENT
BEGIN:VEVENT
DTSTART;TZID=America/New_York:20270628T183000
DTEND;TZID=America/New_York:20270628T193000
DTSTAMP:20260422T191211
CREATED:20231012T122555Z
LAST-MODIFIED:20231012T122555Z
UID:10007381-1814207400-1814211000@brunswickforest.com
SUMMARY:Ping Pong- Advanced
DESCRIPTION:Reflections Facility Mondays \n@6:30pm \nContact: Chuck Bins \nchuckbins@gmail.com
URL:https://brunswickforest.com/events/ping-pong-advanced/2027-06-28/
LOCATION:Reflections Recreation Center
CATEGORIES:Resident Activities
ATTACH;FMTTYPE=image/png:https://brunswickforest.com/wpc/uploads/Ping-Pong.png
ORGANIZER;CN="Chuck Bins":MAILTO:chuckbins@gmail.com
END:VEVENT
BEGIN:VEVENT
DTSTART;TZID=America/New_York:20270628T195000
DTEND;TZID=America/New_York:20270628T205000
DTSTAMP:20260422T191211
CREATED:20231012T122742Z
LAST-MODIFIED:20231012T122742Z
UID:10007648-1814212200-1814215800@brunswickforest.com
SUMMARY:Beginner-Intermediate Ping Pong
DESCRIPTION:Reflections Facility Mondays \n7:50 pm \nContact: Chuck Bins \nchuckbins@gmail.com
URL:https://brunswickforest.com/events/beginner-intermediate-ping-pong-2/2027-06-28/
LOCATION:Reflections Recreation Center
CATEGORIES:Resident Activities
ATTACH;FMTTYPE=image/png:https://brunswickforest.com/wpc/uploads/ping-pong-600-×-600-px.png
ORGANIZER;CN="Chuck Bins":MAILTO:chuckbins@gmail.com
END:VEVENT
BEGIN:VEVENT
DTSTART;TZID=America/New_York:20270630T190000
DTEND;TZID=America/New_York:20270630T200000
DTSTAMP:20260422T191211
CREATED:20231012T151533Z
LAST-MODIFIED:20231012T151533Z
UID:10011369-1814382000-1814385600@brunswickforest.com
SUMMARY:Beginner 1 Shag
DESCRIPTION:Reflections \n@7 pm \nContact: Lorrie & Steve Gregory \nwinddancerlg@aol.com
URL:https://brunswickforest.com/events/beginner-1-shag/2027-06-30/
CATEGORIES:Resident Activities
ATTACH;FMTTYPE=image/png:https://brunswickforest.com/wpc/uploads/shag-3.png
ORGANIZER;CN="Lorrie & Steve Gregory":MAILTO:winddancerlg@aol.com
END:VEVENT
BEGIN:VEVENT
DTSTART;TZID=America/New_York:20270705T183000
DTEND;TZID=America/New_York:20270705T193000
DTSTAMP:20260422T191211
CREATED:20231012T122555Z
LAST-MODIFIED:20231012T122555Z
UID:10007382-1814812200-1814815800@brunswickforest.com
SUMMARY:Ping Pong- Advanced
DESCRIPTION:Reflections Facility Mondays \n@6:30pm \nContact: Chuck Bins \nchuckbins@gmail.com
URL:https://brunswickforest.com/events/ping-pong-advanced/2027-07-05/
LOCATION:Reflections Recreation Center
CATEGORIES:Resident Activities
ATTACH;FMTTYPE=image/png:https://brunswickforest.com/wpc/uploads/Ping-Pong.png
ORGANIZER;CN="Chuck Bins":MAILTO:chuckbins@gmail.com
END:VEVENT
BEGIN:VEVENT
DTSTART;TZID=America/New_York:20270705T195000
DTEND;TZID=America/New_York:20270705T205000
DTSTAMP:20260422T191211
CREATED:20231012T122742Z
LAST-MODIFIED:20231012T122742Z
UID:10007649-1814817000-1814820600@brunswickforest.com
SUMMARY:Beginner-Intermediate Ping Pong
DESCRIPTION:Reflections Facility Mondays \n7:50 pm \nContact: Chuck Bins \nchuckbins@gmail.com
URL:https://brunswickforest.com/events/beginner-intermediate-ping-pong-2/2027-07-05/
LOCATION:Reflections Recreation Center
CATEGORIES:Resident Activities
ATTACH;FMTTYPE=image/png:https://brunswickforest.com/wpc/uploads/ping-pong-600-×-600-px.png
ORGANIZER;CN="Chuck Bins":MAILTO:chuckbins@gmail.com
END:VEVENT
BEGIN:VEVENT
DTSTART;TZID=America/New_York:20270707T190000
DTEND;TZID=America/New_York:20270707T200000
DTSTAMP:20260422T191211
CREATED:20231012T151533Z
LAST-MODIFIED:20231012T151533Z
UID:10011370-1814986800-1814990400@brunswickforest.com
SUMMARY:Beginner 1 Shag
DESCRIPTION:Reflections \n@7 pm \nContact: Lorrie & Steve Gregory \nwinddancerlg@aol.com
URL:https://brunswickforest.com/events/beginner-1-shag/2027-07-07/
CATEGORIES:Resident Activities
ATTACH;FMTTYPE=image/png:https://brunswickforest.com/wpc/uploads/shag-3.png
ORGANIZER;CN="Lorrie & Steve Gregory":MAILTO:winddancerlg@aol.com
END:VEVENT
BEGIN:VEVENT
DTSTART;TZID=America/New_York:20270712T183000
DTEND;TZID=America/New_York:20270712T193000
DTSTAMP:20260422T191211
CREATED:20231012T122555Z
LAST-MODIFIED:20231012T122555Z
UID:10007383-1815417000-1815420600@brunswickforest.com
SUMMARY:Ping Pong- Advanced
DESCRIPTION:Reflections Facility Mondays \n@6:30pm \nContact: Chuck Bins \nchuckbins@gmail.com
URL:https://brunswickforest.com/events/ping-pong-advanced/2027-07-12/
LOCATION:Reflections Recreation Center
CATEGORIES:Resident Activities
ATTACH;FMTTYPE=image/png:https://brunswickforest.com/wpc/uploads/Ping-Pong.png
ORGANIZER;CN="Chuck Bins":MAILTO:chuckbins@gmail.com
END:VEVENT
BEGIN:VEVENT
DTSTART;TZID=America/New_York:20270712T195000
DTEND;TZID=America/New_York:20270712T205000
DTSTAMP:20260422T191211
CREATED:20231012T122742Z
LAST-MODIFIED:20231012T122742Z
UID:10007650-1815421800-1815425400@brunswickforest.com
SUMMARY:Beginner-Intermediate Ping Pong
DESCRIPTION:Reflections Facility Mondays \n7:50 pm \nContact: Chuck Bins \nchuckbins@gmail.com
URL:https://brunswickforest.com/events/beginner-intermediate-ping-pong-2/2027-07-12/
LOCATION:Reflections Recreation Center
CATEGORIES:Resident Activities
ATTACH;FMTTYPE=image/png:https://brunswickforest.com/wpc/uploads/ping-pong-600-×-600-px.png
ORGANIZER;CN="Chuck Bins":MAILTO:chuckbins@gmail.com
END:VEVENT
BEGIN:VEVENT
DTSTART;TZID=America/New_York:20270714T190000
DTEND;TZID=America/New_York:20270714T200000
DTSTAMP:20260422T191211
CREATED:20231012T151533Z
LAST-MODIFIED:20231012T151533Z
UID:10011371-1815591600-1815595200@brunswickforest.com
SUMMARY:Beginner 1 Shag
DESCRIPTION:Reflections \n@7 pm \nContact: Lorrie & Steve Gregory \nwinddancerlg@aol.com
URL:https://brunswickforest.com/events/beginner-1-shag/2027-07-14/
CATEGORIES:Resident Activities
ATTACH;FMTTYPE=image/png:https://brunswickforest.com/wpc/uploads/shag-3.png
ORGANIZER;CN="Lorrie & Steve Gregory":MAILTO:winddancerlg@aol.com
END:VEVENT
BEGIN:VEVENT
DTSTART;TZID=America/New_York:20270719T183000
DTEND;TZID=America/New_York:20270719T193000
DTSTAMP:20260422T191211
CREATED:20231012T122555Z
LAST-MODIFIED:20231012T122555Z
UID:10007384-1816021800-1816025400@brunswickforest.com
SUMMARY:Ping Pong- Advanced
DESCRIPTION:Reflections Facility Mondays \n@6:30pm \nContact: Chuck Bins \nchuckbins@gmail.com
URL:https://brunswickforest.com/events/ping-pong-advanced/2027-07-19/
LOCATION:Reflections Recreation Center
CATEGORIES:Resident Activities
ATTACH;FMTTYPE=image/png:https://brunswickforest.com/wpc/uploads/Ping-Pong.png
ORGANIZER;CN="Chuck Bins":MAILTO:chuckbins@gmail.com
END:VEVENT
BEGIN:VEVENT
DTSTART;TZID=America/New_York:20270719T195000
DTEND;TZID=America/New_York:20270719T205000
DTSTAMP:20260422T191211
CREATED:20231012T122742Z
LAST-MODIFIED:20231012T122742Z
UID:10007651-1816026600-1816030200@brunswickforest.com
SUMMARY:Beginner-Intermediate Ping Pong
DESCRIPTION:Reflections Facility Mondays \n7:50 pm \nContact: Chuck Bins \nchuckbins@gmail.com
URL:https://brunswickforest.com/events/beginner-intermediate-ping-pong-2/2027-07-19/
LOCATION:Reflections Recreation Center
CATEGORIES:Resident Activities
ATTACH;FMTTYPE=image/png:https://brunswickforest.com/wpc/uploads/ping-pong-600-×-600-px.png
ORGANIZER;CN="Chuck Bins":MAILTO:chuckbins@gmail.com
END:VEVENT
END:VCALENDAR