BEGIN:VCALENDAR
VERSION:2.0
PRODID:-//Brunswick Forest - ECPv6.15.20//NONSGML v1.0//EN
CALSCALE:GREGORIAN
METHOD:PUBLISH
X-ORIGINAL-URL:https://brunswickforest.com
X-WR-CALDESC:Events for Brunswick Forest
REFRESH-INTERVAL;VALUE=DURATION:PT1H
X-Robots-Tag:noindex
X-PUBLISHED-TTL:PT1H
BEGIN:VTIMEZONE
TZID:America/New_York
BEGIN:DAYLIGHT
TZOFFSETFROM:-0500
TZOFFSETTO:-0400
TZNAME:EDT
DTSTART:20240310T070000
END:DAYLIGHT
BEGIN:STANDARD
TZOFFSETFROM:-0400
TZOFFSETTO:-0500
TZNAME:EST
DTSTART:20241103T060000
END:STANDARD
BEGIN:DAYLIGHT
TZOFFSETFROM:-0500
TZOFFSETTO:-0400
TZNAME:EDT
DTSTART:20250309T070000
END:DAYLIGHT
BEGIN:STANDARD
TZOFFSETFROM:-0400
TZOFFSETTO:-0500
TZNAME:EST
DTSTART:20251102T060000
END:STANDARD
BEGIN:DAYLIGHT
TZOFFSETFROM:-0500
TZOFFSETTO:-0400
TZNAME:EDT
DTSTART:20260308T070000
END:DAYLIGHT
BEGIN:STANDARD
TZOFFSETFROM:-0400
TZOFFSETTO:-0500
TZNAME:EST
DTSTART:20261101T060000
END:STANDARD
END:VTIMEZONE
BEGIN:VEVENT
DTSTART;TZID=America/New_York:20250813T190000
DTEND;TZID=America/New_York:20250813T200000
DTSTAMP:20260420T125537
CREATED:20231012T151533Z
LAST-MODIFIED:20231012T151533Z
UID:10011271-1755111600-1755115200@brunswickforest.com
SUMMARY:Beginner 1 Shag
DESCRIPTION:Reflections \n@7 pm \nContact: Lorrie & Steve Gregory \nwinddancerlg@aol.com
URL:https://brunswickforest.com/events/beginner-1-shag/2025-08-13/
CATEGORIES:Resident Activities
ATTACH;FMTTYPE=image/png:https://brunswickforest.com/wpc/uploads/shag-3.png
ORGANIZER;CN="Lorrie & Steve Gregory":MAILTO:winddancerlg@aol.com
END:VEVENT
BEGIN:VEVENT
DTSTART;TZID=America/New_York:20250811T195000
DTEND;TZID=America/New_York:20250811T205000
DTSTAMP:20260420T125537
CREATED:20231012T122742Z
LAST-MODIFIED:20231012T122742Z
UID:10007550-1754941800-1754945400@brunswickforest.com
SUMMARY:Beginner-Intermediate Ping Pong
DESCRIPTION:Reflections Facility Mondays \n7:50 pm \nContact: Chuck Bins \nchuckbins@gmail.com
URL:https://brunswickforest.com/events/beginner-intermediate-ping-pong-2/2025-08-11/
LOCATION:Reflections Recreation Center
CATEGORIES:Resident Activities
ATTACH;FMTTYPE=image/png:https://brunswickforest.com/wpc/uploads/ping-pong-600-×-600-px.png
ORGANIZER;CN="Chuck Bins":MAILTO:chuckbins@gmail.com
END:VEVENT
BEGIN:VEVENT
DTSTART;TZID=America/New_York:20250811T183000
DTEND;TZID=America/New_York:20250811T193000
DTSTAMP:20260420T125537
CREATED:20231012T122555Z
LAST-MODIFIED:20231012T122555Z
UID:10007283-1754937000-1754940600@brunswickforest.com
SUMMARY:Ping Pong- Advanced
DESCRIPTION:Reflections Facility Mondays \n@6:30pm \nContact: Chuck Bins \nchuckbins@gmail.com
URL:https://brunswickforest.com/events/ping-pong-advanced/2025-08-11/
LOCATION:Reflections Recreation Center
CATEGORIES:Resident Activities
ATTACH;FMTTYPE=image/png:https://brunswickforest.com/wpc/uploads/Ping-Pong.png
ORGANIZER;CN="Chuck Bins":MAILTO:chuckbins@gmail.com
END:VEVENT
BEGIN:VEVENT
DTSTART;TZID=America/New_York:20250806T190000
DTEND;TZID=America/New_York:20250806T200000
DTSTAMP:20260420T125537
CREATED:20231012T151533Z
LAST-MODIFIED:20231012T151533Z
UID:10011270-1754506800-1754510400@brunswickforest.com
SUMMARY:Beginner 1 Shag
DESCRIPTION:Reflections \n@7 pm \nContact: Lorrie & Steve Gregory \nwinddancerlg@aol.com
URL:https://brunswickforest.com/events/beginner-1-shag/2025-08-06/
CATEGORIES:Resident Activities
ATTACH;FMTTYPE=image/png:https://brunswickforest.com/wpc/uploads/shag-3.png
ORGANIZER;CN="Lorrie & Steve Gregory":MAILTO:winddancerlg@aol.com
END:VEVENT
BEGIN:VEVENT
DTSTART;TZID=America/New_York:20250804T195000
DTEND;TZID=America/New_York:20250804T205000
DTSTAMP:20260420T125537
CREATED:20231012T122742Z
LAST-MODIFIED:20231012T122742Z
UID:10007549-1754337000-1754340600@brunswickforest.com
SUMMARY:Beginner-Intermediate Ping Pong
DESCRIPTION:Reflections Facility Mondays \n7:50 pm \nContact: Chuck Bins \nchuckbins@gmail.com
URL:https://brunswickforest.com/events/beginner-intermediate-ping-pong-2/2025-08-04/
LOCATION:Reflections Recreation Center
CATEGORIES:Resident Activities
ATTACH;FMTTYPE=image/png:https://brunswickforest.com/wpc/uploads/ping-pong-600-×-600-px.png
ORGANIZER;CN="Chuck Bins":MAILTO:chuckbins@gmail.com
END:VEVENT
BEGIN:VEVENT
DTSTART;TZID=America/New_York:20250804T183000
DTEND;TZID=America/New_York:20250804T193000
DTSTAMP:20260420T125537
CREATED:20231012T122555Z
LAST-MODIFIED:20231012T122555Z
UID:10007282-1754332200-1754335800@brunswickforest.com
SUMMARY:Ping Pong- Advanced
DESCRIPTION:Reflections Facility Mondays \n@6:30pm \nContact: Chuck Bins \nchuckbins@gmail.com
URL:https://brunswickforest.com/events/ping-pong-advanced/2025-08-04/
LOCATION:Reflections Recreation Center
CATEGORIES:Resident Activities
ATTACH;FMTTYPE=image/png:https://brunswickforest.com/wpc/uploads/Ping-Pong.png
ORGANIZER;CN="Chuck Bins":MAILTO:chuckbins@gmail.com
END:VEVENT
BEGIN:VEVENT
DTSTART;TZID=America/New_York:20250730T190000
DTEND;TZID=America/New_York:20250730T200000
DTSTAMP:20260420T125537
CREATED:20231012T151533Z
LAST-MODIFIED:20231012T151533Z
UID:10011269-1753902000-1753905600@brunswickforest.com
SUMMARY:Beginner 1 Shag
DESCRIPTION:Reflections \n@7 pm \nContact: Lorrie & Steve Gregory \nwinddancerlg@aol.com
URL:https://brunswickforest.com/events/beginner-1-shag/2025-07-30/
CATEGORIES:Resident Activities
ATTACH;FMTTYPE=image/png:https://brunswickforest.com/wpc/uploads/shag-3.png
ORGANIZER;CN="Lorrie & Steve Gregory":MAILTO:winddancerlg@aol.com
END:VEVENT
BEGIN:VEVENT
DTSTART;TZID=America/New_York:20250728T195000
DTEND;TZID=America/New_York:20250728T205000
DTSTAMP:20260420T125537
CREATED:20231012T122742Z
LAST-MODIFIED:20231012T122742Z
UID:10007548-1753732200-1753735800@brunswickforest.com
SUMMARY:Beginner-Intermediate Ping Pong
DESCRIPTION:Reflections Facility Mondays \n7:50 pm \nContact: Chuck Bins \nchuckbins@gmail.com
URL:https://brunswickforest.com/events/beginner-intermediate-ping-pong-2/2025-07-28/
LOCATION:Reflections Recreation Center
CATEGORIES:Resident Activities
ATTACH;FMTTYPE=image/png:https://brunswickforest.com/wpc/uploads/ping-pong-600-×-600-px.png
ORGANIZER;CN="Chuck Bins":MAILTO:chuckbins@gmail.com
END:VEVENT
BEGIN:VEVENT
DTSTART;TZID=America/New_York:20250728T183000
DTEND;TZID=America/New_York:20250728T193000
DTSTAMP:20260420T125537
CREATED:20231012T122555Z
LAST-MODIFIED:20231012T122555Z
UID:10007281-1753727400-1753731000@brunswickforest.com
SUMMARY:Ping Pong- Advanced
DESCRIPTION:Reflections Facility Mondays \n@6:30pm \nContact: Chuck Bins \nchuckbins@gmail.com
URL:https://brunswickforest.com/events/ping-pong-advanced/2025-07-28/
LOCATION:Reflections Recreation Center
CATEGORIES:Resident Activities
ATTACH;FMTTYPE=image/png:https://brunswickforest.com/wpc/uploads/Ping-Pong.png
ORGANIZER;CN="Chuck Bins":MAILTO:chuckbins@gmail.com
END:VEVENT
BEGIN:VEVENT
DTSTART;TZID=America/New_York:20250723T190000
DTEND;TZID=America/New_York:20250723T200000
DTSTAMP:20260420T125537
CREATED:20231012T151533Z
LAST-MODIFIED:20231012T151533Z
UID:10011268-1753297200-1753300800@brunswickforest.com
SUMMARY:Beginner 1 Shag
DESCRIPTION:Reflections \n@7 pm \nContact: Lorrie & Steve Gregory \nwinddancerlg@aol.com
URL:https://brunswickforest.com/events/beginner-1-shag/2025-07-23/
CATEGORIES:Resident Activities
ATTACH;FMTTYPE=image/png:https://brunswickforest.com/wpc/uploads/shag-3.png
ORGANIZER;CN="Lorrie & Steve Gregory":MAILTO:winddancerlg@aol.com
END:VEVENT
BEGIN:VEVENT
DTSTART;TZID=America/New_York:20250721T195000
DTEND;TZID=America/New_York:20250721T205000
DTSTAMP:20260420T125537
CREATED:20231012T122742Z
LAST-MODIFIED:20231012T122742Z
UID:10007547-1753127400-1753131000@brunswickforest.com
SUMMARY:Beginner-Intermediate Ping Pong
DESCRIPTION:Reflections Facility Mondays \n7:50 pm \nContact: Chuck Bins \nchuckbins@gmail.com
URL:https://brunswickforest.com/events/beginner-intermediate-ping-pong-2/2025-07-21/
LOCATION:Reflections Recreation Center
CATEGORIES:Resident Activities
ATTACH;FMTTYPE=image/png:https://brunswickforest.com/wpc/uploads/ping-pong-600-×-600-px.png
ORGANIZER;CN="Chuck Bins":MAILTO:chuckbins@gmail.com
END:VEVENT
BEGIN:VEVENT
DTSTART;TZID=America/New_York:20250721T183000
DTEND;TZID=America/New_York:20250721T193000
DTSTAMP:20260420T125537
CREATED:20231012T122555Z
LAST-MODIFIED:20231012T122555Z
UID:10007280-1753122600-1753126200@brunswickforest.com
SUMMARY:Ping Pong- Advanced
DESCRIPTION:Reflections Facility Mondays \n@6:30pm \nContact: Chuck Bins \nchuckbins@gmail.com
URL:https://brunswickforest.com/events/ping-pong-advanced/2025-07-21/
LOCATION:Reflections Recreation Center
CATEGORIES:Resident Activities
ATTACH;FMTTYPE=image/png:https://brunswickforest.com/wpc/uploads/Ping-Pong.png
ORGANIZER;CN="Chuck Bins":MAILTO:chuckbins@gmail.com
END:VEVENT
BEGIN:VEVENT
DTSTART;TZID=America/New_York:20250716T190000
DTEND;TZID=America/New_York:20250716T200000
DTSTAMP:20260420T125537
CREATED:20231012T151533Z
LAST-MODIFIED:20231012T151533Z
UID:10011267-1752692400-1752696000@brunswickforest.com
SUMMARY:Beginner 1 Shag
DESCRIPTION:Reflections \n@7 pm \nContact: Lorrie & Steve Gregory \nwinddancerlg@aol.com
URL:https://brunswickforest.com/events/beginner-1-shag/2025-07-16/
CATEGORIES:Resident Activities
ATTACH;FMTTYPE=image/png:https://brunswickforest.com/wpc/uploads/shag-3.png
ORGANIZER;CN="Lorrie & Steve Gregory":MAILTO:winddancerlg@aol.com
END:VEVENT
BEGIN:VEVENT
DTSTART;TZID=America/New_York:20250714T195000
DTEND;TZID=America/New_York:20250714T205000
DTSTAMP:20260420T125537
CREATED:20231012T122742Z
LAST-MODIFIED:20231012T122742Z
UID:10007546-1752522600-1752526200@brunswickforest.com
SUMMARY:Beginner-Intermediate Ping Pong
DESCRIPTION:Reflections Facility Mondays \n7:50 pm \nContact: Chuck Bins \nchuckbins@gmail.com
URL:https://brunswickforest.com/events/beginner-intermediate-ping-pong-2/2025-07-14/
LOCATION:Reflections Recreation Center
CATEGORIES:Resident Activities
ATTACH;FMTTYPE=image/png:https://brunswickforest.com/wpc/uploads/ping-pong-600-×-600-px.png
ORGANIZER;CN="Chuck Bins":MAILTO:chuckbins@gmail.com
END:VEVENT
BEGIN:VEVENT
DTSTART;TZID=America/New_York:20250714T183000
DTEND;TZID=America/New_York:20250714T193000
DTSTAMP:20260420T125537
CREATED:20231012T122555Z
LAST-MODIFIED:20231012T122555Z
UID:10007279-1752517800-1752521400@brunswickforest.com
SUMMARY:Ping Pong- Advanced
DESCRIPTION:Reflections Facility Mondays \n@6:30pm \nContact: Chuck Bins \nchuckbins@gmail.com
URL:https://brunswickforest.com/events/ping-pong-advanced/2025-07-14/
LOCATION:Reflections Recreation Center
CATEGORIES:Resident Activities
ATTACH;FMTTYPE=image/png:https://brunswickforest.com/wpc/uploads/Ping-Pong.png
ORGANIZER;CN="Chuck Bins":MAILTO:chuckbins@gmail.com
END:VEVENT
BEGIN:VEVENT
DTSTART;TZID=America/New_York:20250709T190000
DTEND;TZID=America/New_York:20250709T200000
DTSTAMP:20260420T125537
CREATED:20231012T151533Z
LAST-MODIFIED:20231012T151533Z
UID:10011266-1752087600-1752091200@brunswickforest.com
SUMMARY:Beginner 1 Shag
DESCRIPTION:Reflections \n@7 pm \nContact: Lorrie & Steve Gregory \nwinddancerlg@aol.com
URL:https://brunswickforest.com/events/beginner-1-shag/2025-07-09/
CATEGORIES:Resident Activities
ATTACH;FMTTYPE=image/png:https://brunswickforest.com/wpc/uploads/shag-3.png
ORGANIZER;CN="Lorrie & Steve Gregory":MAILTO:winddancerlg@aol.com
END:VEVENT
BEGIN:VEVENT
DTSTART;TZID=America/New_York:20250707T195000
DTEND;TZID=America/New_York:20250707T205000
DTSTAMP:20260420T125537
CREATED:20231012T122742Z
LAST-MODIFIED:20231012T122742Z
UID:10007545-1751917800-1751921400@brunswickforest.com
SUMMARY:Beginner-Intermediate Ping Pong
DESCRIPTION:Reflections Facility Mondays \n7:50 pm \nContact: Chuck Bins \nchuckbins@gmail.com
URL:https://brunswickforest.com/events/beginner-intermediate-ping-pong-2/2025-07-07/
LOCATION:Reflections Recreation Center
CATEGORIES:Resident Activities
ATTACH;FMTTYPE=image/png:https://brunswickforest.com/wpc/uploads/ping-pong-600-×-600-px.png
ORGANIZER;CN="Chuck Bins":MAILTO:chuckbins@gmail.com
END:VEVENT
BEGIN:VEVENT
DTSTART;TZID=America/New_York:20250707T183000
DTEND;TZID=America/New_York:20250707T193000
DTSTAMP:20260420T125537
CREATED:20231012T122555Z
LAST-MODIFIED:20231012T122555Z
UID:10007278-1751913000-1751916600@brunswickforest.com
SUMMARY:Ping Pong- Advanced
DESCRIPTION:Reflections Facility Mondays \n@6:30pm \nContact: Chuck Bins \nchuckbins@gmail.com
URL:https://brunswickforest.com/events/ping-pong-advanced/2025-07-07/
LOCATION:Reflections Recreation Center
CATEGORIES:Resident Activities
ATTACH;FMTTYPE=image/png:https://brunswickforest.com/wpc/uploads/Ping-Pong.png
ORGANIZER;CN="Chuck Bins":MAILTO:chuckbins@gmail.com
END:VEVENT
BEGIN:VEVENT
DTSTART;TZID=America/New_York:20250702T190000
DTEND;TZID=America/New_York:20250702T200000
DTSTAMP:20260420T125537
CREATED:20231012T151533Z
LAST-MODIFIED:20231012T151533Z
UID:10011265-1751482800-1751486400@brunswickforest.com
SUMMARY:Beginner 1 Shag
DESCRIPTION:Reflections \n@7 pm \nContact: Lorrie & Steve Gregory \nwinddancerlg@aol.com
URL:https://brunswickforest.com/events/beginner-1-shag/2025-07-02/
CATEGORIES:Resident Activities
ATTACH;FMTTYPE=image/png:https://brunswickforest.com/wpc/uploads/shag-3.png
ORGANIZER;CN="Lorrie & Steve Gregory":MAILTO:winddancerlg@aol.com
END:VEVENT
BEGIN:VEVENT
DTSTART;TZID=America/New_York:20250630T195000
DTEND;TZID=America/New_York:20250630T205000
DTSTAMP:20260420T125537
CREATED:20231012T122742Z
LAST-MODIFIED:20231012T122742Z
UID:10007544-1751313000-1751316600@brunswickforest.com
SUMMARY:Beginner-Intermediate Ping Pong
DESCRIPTION:Reflections Facility Mondays \n7:50 pm \nContact: Chuck Bins \nchuckbins@gmail.com
URL:https://brunswickforest.com/events/beginner-intermediate-ping-pong-2/2025-06-30/
LOCATION:Reflections Recreation Center
CATEGORIES:Resident Activities
ATTACH;FMTTYPE=image/png:https://brunswickforest.com/wpc/uploads/ping-pong-600-×-600-px.png
ORGANIZER;CN="Chuck Bins":MAILTO:chuckbins@gmail.com
END:VEVENT
BEGIN:VEVENT
DTSTART;TZID=America/New_York:20250630T183000
DTEND;TZID=America/New_York:20250630T193000
DTSTAMP:20260420T125537
CREATED:20231012T122555Z
LAST-MODIFIED:20231012T122555Z
UID:10007277-1751308200-1751311800@brunswickforest.com
SUMMARY:Ping Pong- Advanced
DESCRIPTION:Reflections Facility Mondays \n@6:30pm \nContact: Chuck Bins \nchuckbins@gmail.com
URL:https://brunswickforest.com/events/ping-pong-advanced/2025-06-30/
LOCATION:Reflections Recreation Center
CATEGORIES:Resident Activities
ATTACH;FMTTYPE=image/png:https://brunswickforest.com/wpc/uploads/Ping-Pong.png
ORGANIZER;CN="Chuck Bins":MAILTO:chuckbins@gmail.com
END:VEVENT
BEGIN:VEVENT
DTSTART;TZID=America/New_York:20250625T190000
DTEND;TZID=America/New_York:20250625T200000
DTSTAMP:20260420T125537
CREATED:20231012T151533Z
LAST-MODIFIED:20231012T151533Z
UID:10011264-1750878000-1750881600@brunswickforest.com
SUMMARY:Beginner 1 Shag
DESCRIPTION:Reflections \n@7 pm \nContact: Lorrie & Steve Gregory \nwinddancerlg@aol.com
URL:https://brunswickforest.com/events/beginner-1-shag/2025-06-25/
CATEGORIES:Resident Activities
ATTACH;FMTTYPE=image/png:https://brunswickforest.com/wpc/uploads/shag-3.png
ORGANIZER;CN="Lorrie & Steve Gregory":MAILTO:winddancerlg@aol.com
END:VEVENT
BEGIN:VEVENT
DTSTART;TZID=America/New_York:20250623T195000
DTEND;TZID=America/New_York:20250623T205000
DTSTAMP:20260420T125537
CREATED:20231012T122742Z
LAST-MODIFIED:20231012T122742Z
UID:10007543-1750708200-1750711800@brunswickforest.com
SUMMARY:Beginner-Intermediate Ping Pong
DESCRIPTION:Reflections Facility Mondays \n7:50 pm \nContact: Chuck Bins \nchuckbins@gmail.com
URL:https://brunswickforest.com/events/beginner-intermediate-ping-pong-2/2025-06-23/
LOCATION:Reflections Recreation Center
CATEGORIES:Resident Activities
ATTACH;FMTTYPE=image/png:https://brunswickforest.com/wpc/uploads/ping-pong-600-×-600-px.png
ORGANIZER;CN="Chuck Bins":MAILTO:chuckbins@gmail.com
END:VEVENT
BEGIN:VEVENT
DTSTART;TZID=America/New_York:20250623T183000
DTEND;TZID=America/New_York:20250623T193000
DTSTAMP:20260420T125537
CREATED:20231012T122555Z
LAST-MODIFIED:20231012T122555Z
UID:10007276-1750703400-1750707000@brunswickforest.com
SUMMARY:Ping Pong- Advanced
DESCRIPTION:Reflections Facility Mondays \n@6:30pm \nContact: Chuck Bins \nchuckbins@gmail.com
URL:https://brunswickforest.com/events/ping-pong-advanced/2025-06-23/
LOCATION:Reflections Recreation Center
CATEGORIES:Resident Activities
ATTACH;FMTTYPE=image/png:https://brunswickforest.com/wpc/uploads/Ping-Pong.png
ORGANIZER;CN="Chuck Bins":MAILTO:chuckbins@gmail.com
END:VEVENT
BEGIN:VEVENT
DTSTART;TZID=America/New_York:20250618T190000
DTEND;TZID=America/New_York:20250618T200000
DTSTAMP:20260420T125537
CREATED:20231012T151533Z
LAST-MODIFIED:20231012T151533Z
UID:10011263-1750273200-1750276800@brunswickforest.com
SUMMARY:Beginner 1 Shag
DESCRIPTION:Reflections \n@7 pm \nContact: Lorrie & Steve Gregory \nwinddancerlg@aol.com
URL:https://brunswickforest.com/events/beginner-1-shag/2025-06-18/
CATEGORIES:Resident Activities
ATTACH;FMTTYPE=image/png:https://brunswickforest.com/wpc/uploads/shag-3.png
ORGANIZER;CN="Lorrie & Steve Gregory":MAILTO:winddancerlg@aol.com
END:VEVENT
BEGIN:VEVENT
DTSTART;TZID=America/New_York:20250616T195000
DTEND;TZID=America/New_York:20250616T205000
DTSTAMP:20260420T125537
CREATED:20231012T122742Z
LAST-MODIFIED:20231012T122742Z
UID:10007542-1750103400-1750107000@brunswickforest.com
SUMMARY:Beginner-Intermediate Ping Pong
DESCRIPTION:Reflections Facility Mondays \n7:50 pm \nContact: Chuck Bins \nchuckbins@gmail.com
URL:https://brunswickforest.com/events/beginner-intermediate-ping-pong-2/2025-06-16/
LOCATION:Reflections Recreation Center
CATEGORIES:Resident Activities
ATTACH;FMTTYPE=image/png:https://brunswickforest.com/wpc/uploads/ping-pong-600-×-600-px.png
ORGANIZER;CN="Chuck Bins":MAILTO:chuckbins@gmail.com
END:VEVENT
BEGIN:VEVENT
DTSTART;TZID=America/New_York:20250616T183000
DTEND;TZID=America/New_York:20250616T193000
DTSTAMP:20260420T125537
CREATED:20231012T122555Z
LAST-MODIFIED:20231012T122555Z
UID:10007275-1750098600-1750102200@brunswickforest.com
SUMMARY:Ping Pong- Advanced
DESCRIPTION:Reflections Facility Mondays \n@6:30pm \nContact: Chuck Bins \nchuckbins@gmail.com
URL:https://brunswickforest.com/events/ping-pong-advanced/2025-06-16/
LOCATION:Reflections Recreation Center
CATEGORIES:Resident Activities
ATTACH;FMTTYPE=image/png:https://brunswickforest.com/wpc/uploads/Ping-Pong.png
ORGANIZER;CN="Chuck Bins":MAILTO:chuckbins@gmail.com
END:VEVENT
BEGIN:VEVENT
DTSTART;TZID=America/New_York:20250611T190000
DTEND;TZID=America/New_York:20250611T200000
DTSTAMP:20260420T125537
CREATED:20231012T151533Z
LAST-MODIFIED:20231012T151533Z
UID:10011262-1749668400-1749672000@brunswickforest.com
SUMMARY:Beginner 1 Shag
DESCRIPTION:Reflections \n@7 pm \nContact: Lorrie & Steve Gregory \nwinddancerlg@aol.com
URL:https://brunswickforest.com/events/beginner-1-shag/2025-06-11/
CATEGORIES:Resident Activities
ATTACH;FMTTYPE=image/png:https://brunswickforest.com/wpc/uploads/shag-3.png
ORGANIZER;CN="Lorrie & Steve Gregory":MAILTO:winddancerlg@aol.com
END:VEVENT
BEGIN:VEVENT
DTSTART;TZID=America/New_York:20250609T195000
DTEND;TZID=America/New_York:20250609T205000
DTSTAMP:20260420T125537
CREATED:20231012T122742Z
LAST-MODIFIED:20231012T122742Z
UID:10007541-1749498600-1749502200@brunswickforest.com
SUMMARY:Beginner-Intermediate Ping Pong
DESCRIPTION:Reflections Facility Mondays \n7:50 pm \nContact: Chuck Bins \nchuckbins@gmail.com
URL:https://brunswickforest.com/events/beginner-intermediate-ping-pong-2/2025-06-09/
LOCATION:Reflections Recreation Center
CATEGORIES:Resident Activities
ATTACH;FMTTYPE=image/png:https://brunswickforest.com/wpc/uploads/ping-pong-600-×-600-px.png
ORGANIZER;CN="Chuck Bins":MAILTO:chuckbins@gmail.com
END:VEVENT
BEGIN:VEVENT
DTSTART;TZID=America/New_York:20250609T183000
DTEND;TZID=America/New_York:20250609T193000
DTSTAMP:20260420T125537
CREATED:20231012T122555Z
LAST-MODIFIED:20231012T122555Z
UID:10007274-1749493800-1749497400@brunswickforest.com
SUMMARY:Ping Pong- Advanced
DESCRIPTION:Reflections Facility Mondays \n@6:30pm \nContact: Chuck Bins \nchuckbins@gmail.com
URL:https://brunswickforest.com/events/ping-pong-advanced/2025-06-09/
LOCATION:Reflections Recreation Center
CATEGORIES:Resident Activities
ATTACH;FMTTYPE=image/png:https://brunswickforest.com/wpc/uploads/Ping-Pong.png
ORGANIZER;CN="Chuck Bins":MAILTO:chuckbins@gmail.com
END:VEVENT
END:VCALENDAR