BEGIN:VCALENDAR
VERSION:2.0
PRODID:-//Brunswick Forest - ECPv6.15.20//NONSGML v1.0//EN
CALSCALE:GREGORIAN
METHOD:PUBLISH
X-ORIGINAL-URL:https://brunswickforest.com
X-WR-CALDESC:Events for Brunswick Forest
REFRESH-INTERVAL;VALUE=DURATION:PT1H
X-Robots-Tag:noindex
X-PUBLISHED-TTL:PT1H
BEGIN:VTIMEZONE
TZID:America/New_York
BEGIN:DAYLIGHT
TZOFFSETFROM:-0500
TZOFFSETTO:-0400
TZNAME:EDT
DTSTART:20240310T070000
END:DAYLIGHT
BEGIN:STANDARD
TZOFFSETFROM:-0400
TZOFFSETTO:-0500
TZNAME:EST
DTSTART:20241103T060000
END:STANDARD
BEGIN:DAYLIGHT
TZOFFSETFROM:-0500
TZOFFSETTO:-0400
TZNAME:EDT
DTSTART:20250309T070000
END:DAYLIGHT
BEGIN:STANDARD
TZOFFSETFROM:-0400
TZOFFSETTO:-0500
TZNAME:EST
DTSTART:20251102T060000
END:STANDARD
BEGIN:DAYLIGHT
TZOFFSETFROM:-0500
TZOFFSETTO:-0400
TZNAME:EDT
DTSTART:20260308T070000
END:DAYLIGHT
BEGIN:STANDARD
TZOFFSETFROM:-0400
TZOFFSETTO:-0500
TZNAME:EST
DTSTART:20261101T060000
END:STANDARD
END:VTIMEZONE
BEGIN:VEVENT
DTSTART;TZID=America/New_York:20251117T183000
DTEND;TZID=America/New_York:20251117T193000
DTSTAMP:20260419T225916
CREATED:20231012T122555Z
LAST-MODIFIED:20231012T122555Z
UID:10007297-1763404200-1763407800@brunswickforest.com
SUMMARY:Ping Pong- Advanced
DESCRIPTION:Reflections Facility Mondays \n@6:30pm \nContact: Chuck Bins \nchuckbins@gmail.com
URL:https://brunswickforest.com/events/ping-pong-advanced/2025-11-17/
LOCATION:Reflections Recreation Center
CATEGORIES:Resident Activities
ATTACH;FMTTYPE=image/png:https://brunswickforest.com/wpc/uploads/Ping-Pong.png
ORGANIZER;CN="Chuck Bins":MAILTO:chuckbins@gmail.com
END:VEVENT
BEGIN:VEVENT
DTSTART;TZID=America/New_York:20251112T190000
DTEND;TZID=America/New_York:20251112T200000
DTSTAMP:20260419T225916
CREATED:20231012T151533Z
LAST-MODIFIED:20231012T151533Z
UID:10011284-1762974000-1762977600@brunswickforest.com
SUMMARY:Beginner 1 Shag
DESCRIPTION:Reflections \n@7 pm \nContact: Lorrie & Steve Gregory \nwinddancerlg@aol.com
URL:https://brunswickforest.com/events/beginner-1-shag/2025-11-12/
CATEGORIES:Resident Activities
ATTACH;FMTTYPE=image/png:https://brunswickforest.com/wpc/uploads/shag-3.png
ORGANIZER;CN="Lorrie & Steve Gregory":MAILTO:winddancerlg@aol.com
END:VEVENT
BEGIN:VEVENT
DTSTART;TZID=America/New_York:20251110T195000
DTEND;TZID=America/New_York:20251110T205000
DTSTAMP:20260419T225916
CREATED:20231012T122742Z
LAST-MODIFIED:20231012T122742Z
UID:10007563-1762804200-1762807800@brunswickforest.com
SUMMARY:Beginner-Intermediate Ping Pong
DESCRIPTION:Reflections Facility Mondays \n7:50 pm \nContact: Chuck Bins \nchuckbins@gmail.com
URL:https://brunswickforest.com/events/beginner-intermediate-ping-pong-2/2025-11-10/
LOCATION:Reflections Recreation Center
CATEGORIES:Resident Activities
ATTACH;FMTTYPE=image/png:https://brunswickforest.com/wpc/uploads/ping-pong-600-×-600-px.png
ORGANIZER;CN="Chuck Bins":MAILTO:chuckbins@gmail.com
END:VEVENT
BEGIN:VEVENT
DTSTART;TZID=America/New_York:20251110T183000
DTEND;TZID=America/New_York:20251110T193000
DTSTAMP:20260419T225916
CREATED:20231012T122555Z
LAST-MODIFIED:20231012T122555Z
UID:10007296-1762799400-1762803000@brunswickforest.com
SUMMARY:Ping Pong- Advanced
DESCRIPTION:Reflections Facility Mondays \n@6:30pm \nContact: Chuck Bins \nchuckbins@gmail.com
URL:https://brunswickforest.com/events/ping-pong-advanced/2025-11-10/
LOCATION:Reflections Recreation Center
CATEGORIES:Resident Activities
ATTACH;FMTTYPE=image/png:https://brunswickforest.com/wpc/uploads/Ping-Pong.png
ORGANIZER;CN="Chuck Bins":MAILTO:chuckbins@gmail.com
END:VEVENT
BEGIN:VEVENT
DTSTART;TZID=America/New_York:20251105T190000
DTEND;TZID=America/New_York:20251105T200000
DTSTAMP:20260419T225916
CREATED:20231012T151533Z
LAST-MODIFIED:20231012T151533Z
UID:10011283-1762369200-1762372800@brunswickforest.com
SUMMARY:Beginner 1 Shag
DESCRIPTION:Reflections \n@7 pm \nContact: Lorrie & Steve Gregory \nwinddancerlg@aol.com
URL:https://brunswickforest.com/events/beginner-1-shag/2025-11-05/
CATEGORIES:Resident Activities
ATTACH;FMTTYPE=image/png:https://brunswickforest.com/wpc/uploads/shag-3.png
ORGANIZER;CN="Lorrie & Steve Gregory":MAILTO:winddancerlg@aol.com
END:VEVENT
BEGIN:VEVENT
DTSTART;TZID=America/New_York:20251103T195000
DTEND;TZID=America/New_York:20251103T205000
DTSTAMP:20260419T225916
CREATED:20231012T122742Z
LAST-MODIFIED:20231012T122742Z
UID:10007562-1762199400-1762203000@brunswickforest.com
SUMMARY:Beginner-Intermediate Ping Pong
DESCRIPTION:Reflections Facility Mondays \n7:50 pm \nContact: Chuck Bins \nchuckbins@gmail.com
URL:https://brunswickforest.com/events/beginner-intermediate-ping-pong-2/2025-11-03/
LOCATION:Reflections Recreation Center
CATEGORIES:Resident Activities
ATTACH;FMTTYPE=image/png:https://brunswickforest.com/wpc/uploads/ping-pong-600-×-600-px.png
ORGANIZER;CN="Chuck Bins":MAILTO:chuckbins@gmail.com
END:VEVENT
BEGIN:VEVENT
DTSTART;TZID=America/New_York:20251103T183000
DTEND;TZID=America/New_York:20251103T193000
DTSTAMP:20260419T225916
CREATED:20231012T122555Z
LAST-MODIFIED:20231012T122555Z
UID:10007295-1762194600-1762198200@brunswickforest.com
SUMMARY:Ping Pong- Advanced
DESCRIPTION:Reflections Facility Mondays \n@6:30pm \nContact: Chuck Bins \nchuckbins@gmail.com
URL:https://brunswickforest.com/events/ping-pong-advanced/2025-11-03/
LOCATION:Reflections Recreation Center
CATEGORIES:Resident Activities
ATTACH;FMTTYPE=image/png:https://brunswickforest.com/wpc/uploads/Ping-Pong.png
ORGANIZER;CN="Chuck Bins":MAILTO:chuckbins@gmail.com
END:VEVENT
BEGIN:VEVENT
DTSTART;TZID=America/New_York:20251029T190000
DTEND;TZID=America/New_York:20251029T200000
DTSTAMP:20260419T225916
CREATED:20231012T151533Z
LAST-MODIFIED:20231012T151533Z
UID:10011282-1761764400-1761768000@brunswickforest.com
SUMMARY:Beginner 1 Shag
DESCRIPTION:Reflections \n@7 pm \nContact: Lorrie & Steve Gregory \nwinddancerlg@aol.com
URL:https://brunswickforest.com/events/beginner-1-shag/2025-10-29/
CATEGORIES:Resident Activities
ATTACH;FMTTYPE=image/png:https://brunswickforest.com/wpc/uploads/shag-3.png
ORGANIZER;CN="Lorrie & Steve Gregory":MAILTO:winddancerlg@aol.com
END:VEVENT
BEGIN:VEVENT
DTSTART;TZID=America/New_York:20251027T195000
DTEND;TZID=America/New_York:20251027T205000
DTSTAMP:20260419T225916
CREATED:20231012T122742Z
LAST-MODIFIED:20231012T122742Z
UID:10007561-1761594600-1761598200@brunswickforest.com
SUMMARY:Beginner-Intermediate Ping Pong
DESCRIPTION:Reflections Facility Mondays \n7:50 pm \nContact: Chuck Bins \nchuckbins@gmail.com
URL:https://brunswickforest.com/events/beginner-intermediate-ping-pong-2/2025-10-27/
LOCATION:Reflections Recreation Center
CATEGORIES:Resident Activities
ATTACH;FMTTYPE=image/png:https://brunswickforest.com/wpc/uploads/ping-pong-600-×-600-px.png
ORGANIZER;CN="Chuck Bins":MAILTO:chuckbins@gmail.com
END:VEVENT
BEGIN:VEVENT
DTSTART;TZID=America/New_York:20251027T183000
DTEND;TZID=America/New_York:20251027T193000
DTSTAMP:20260419T225916
CREATED:20231012T122555Z
LAST-MODIFIED:20231012T122555Z
UID:10007294-1761589800-1761593400@brunswickforest.com
SUMMARY:Ping Pong- Advanced
DESCRIPTION:Reflections Facility Mondays \n@6:30pm \nContact: Chuck Bins \nchuckbins@gmail.com
URL:https://brunswickforest.com/events/ping-pong-advanced/2025-10-27/
LOCATION:Reflections Recreation Center
CATEGORIES:Resident Activities
ATTACH;FMTTYPE=image/png:https://brunswickforest.com/wpc/uploads/Ping-Pong.png
ORGANIZER;CN="Chuck Bins":MAILTO:chuckbins@gmail.com
END:VEVENT
BEGIN:VEVENT
DTSTART;TZID=America/New_York:20251022T190000
DTEND;TZID=America/New_York:20251022T200000
DTSTAMP:20260419T225916
CREATED:20231012T151533Z
LAST-MODIFIED:20231012T151533Z
UID:10011281-1761159600-1761163200@brunswickforest.com
SUMMARY:Beginner 1 Shag
DESCRIPTION:Reflections \n@7 pm \nContact: Lorrie & Steve Gregory \nwinddancerlg@aol.com
URL:https://brunswickforest.com/events/beginner-1-shag/2025-10-22/
CATEGORIES:Resident Activities
ATTACH;FMTTYPE=image/png:https://brunswickforest.com/wpc/uploads/shag-3.png
ORGANIZER;CN="Lorrie & Steve Gregory":MAILTO:winddancerlg@aol.com
END:VEVENT
BEGIN:VEVENT
DTSTART;TZID=America/New_York:20251020T195000
DTEND;TZID=America/New_York:20251020T205000
DTSTAMP:20260419T225916
CREATED:20231012T122742Z
LAST-MODIFIED:20231012T122742Z
UID:10007560-1760989800-1760993400@brunswickforest.com
SUMMARY:Beginner-Intermediate Ping Pong
DESCRIPTION:Reflections Facility Mondays \n7:50 pm \nContact: Chuck Bins \nchuckbins@gmail.com
URL:https://brunswickforest.com/events/beginner-intermediate-ping-pong-2/2025-10-20/
LOCATION:Reflections Recreation Center
CATEGORIES:Resident Activities
ATTACH;FMTTYPE=image/png:https://brunswickforest.com/wpc/uploads/ping-pong-600-×-600-px.png
ORGANIZER;CN="Chuck Bins":MAILTO:chuckbins@gmail.com
END:VEVENT
BEGIN:VEVENT
DTSTART;TZID=America/New_York:20251020T183000
DTEND;TZID=America/New_York:20251020T193000
DTSTAMP:20260419T225916
CREATED:20231012T122555Z
LAST-MODIFIED:20231012T122555Z
UID:10007293-1760985000-1760988600@brunswickforest.com
SUMMARY:Ping Pong- Advanced
DESCRIPTION:Reflections Facility Mondays \n@6:30pm \nContact: Chuck Bins \nchuckbins@gmail.com
URL:https://brunswickforest.com/events/ping-pong-advanced/2025-10-20/
LOCATION:Reflections Recreation Center
CATEGORIES:Resident Activities
ATTACH;FMTTYPE=image/png:https://brunswickforest.com/wpc/uploads/Ping-Pong.png
ORGANIZER;CN="Chuck Bins":MAILTO:chuckbins@gmail.com
END:VEVENT
BEGIN:VEVENT
DTSTART;TZID=America/New_York:20251015T190000
DTEND;TZID=America/New_York:20251015T200000
DTSTAMP:20260419T225916
CREATED:20231012T151533Z
LAST-MODIFIED:20231012T151533Z
UID:10011280-1760554800-1760558400@brunswickforest.com
SUMMARY:Beginner 1 Shag
DESCRIPTION:Reflections \n@7 pm \nContact: Lorrie & Steve Gregory \nwinddancerlg@aol.com
URL:https://brunswickforest.com/events/beginner-1-shag/2025-10-15/
CATEGORIES:Resident Activities
ATTACH;FMTTYPE=image/png:https://brunswickforest.com/wpc/uploads/shag-3.png
ORGANIZER;CN="Lorrie & Steve Gregory":MAILTO:winddancerlg@aol.com
END:VEVENT
BEGIN:VEVENT
DTSTART;TZID=America/New_York:20251013T195000
DTEND;TZID=America/New_York:20251013T205000
DTSTAMP:20260419T225916
CREATED:20231012T122742Z
LAST-MODIFIED:20231012T122742Z
UID:10007559-1760385000-1760388600@brunswickforest.com
SUMMARY:Beginner-Intermediate Ping Pong
DESCRIPTION:Reflections Facility Mondays \n7:50 pm \nContact: Chuck Bins \nchuckbins@gmail.com
URL:https://brunswickforest.com/events/beginner-intermediate-ping-pong-2/2025-10-13/
LOCATION:Reflections Recreation Center
CATEGORIES:Resident Activities
ATTACH;FMTTYPE=image/png:https://brunswickforest.com/wpc/uploads/ping-pong-600-×-600-px.png
ORGANIZER;CN="Chuck Bins":MAILTO:chuckbins@gmail.com
END:VEVENT
BEGIN:VEVENT
DTSTART;TZID=America/New_York:20251013T183000
DTEND;TZID=America/New_York:20251013T193000
DTSTAMP:20260419T225916
CREATED:20231012T122555Z
LAST-MODIFIED:20231012T122555Z
UID:10007292-1760380200-1760383800@brunswickforest.com
SUMMARY:Ping Pong- Advanced
DESCRIPTION:Reflections Facility Mondays \n@6:30pm \nContact: Chuck Bins \nchuckbins@gmail.com
URL:https://brunswickforest.com/events/ping-pong-advanced/2025-10-13/
LOCATION:Reflections Recreation Center
CATEGORIES:Resident Activities
ATTACH;FMTTYPE=image/png:https://brunswickforest.com/wpc/uploads/Ping-Pong.png
ORGANIZER;CN="Chuck Bins":MAILTO:chuckbins@gmail.com
END:VEVENT
BEGIN:VEVENT
DTSTART;TZID=America/New_York:20251008T190000
DTEND;TZID=America/New_York:20251008T200000
DTSTAMP:20260419T225916
CREATED:20231012T151533Z
LAST-MODIFIED:20231012T151533Z
UID:10011279-1759950000-1759953600@brunswickforest.com
SUMMARY:Beginner 1 Shag
DESCRIPTION:Reflections \n@7 pm \nContact: Lorrie & Steve Gregory \nwinddancerlg@aol.com
URL:https://brunswickforest.com/events/beginner-1-shag/2025-10-08/
CATEGORIES:Resident Activities
ATTACH;FMTTYPE=image/png:https://brunswickforest.com/wpc/uploads/shag-3.png
ORGANIZER;CN="Lorrie & Steve Gregory":MAILTO:winddancerlg@aol.com
END:VEVENT
BEGIN:VEVENT
DTSTART;TZID=America/New_York:20251006T195000
DTEND;TZID=America/New_York:20251006T205000
DTSTAMP:20260419T225916
CREATED:20231012T122742Z
LAST-MODIFIED:20231012T122742Z
UID:10007558-1759780200-1759783800@brunswickforest.com
SUMMARY:Beginner-Intermediate Ping Pong
DESCRIPTION:Reflections Facility Mondays \n7:50 pm \nContact: Chuck Bins \nchuckbins@gmail.com
URL:https://brunswickforest.com/events/beginner-intermediate-ping-pong-2/2025-10-06/
LOCATION:Reflections Recreation Center
CATEGORIES:Resident Activities
ATTACH;FMTTYPE=image/png:https://brunswickforest.com/wpc/uploads/ping-pong-600-×-600-px.png
ORGANIZER;CN="Chuck Bins":MAILTO:chuckbins@gmail.com
END:VEVENT
BEGIN:VEVENT
DTSTART;TZID=America/New_York:20251006T183000
DTEND;TZID=America/New_York:20251006T193000
DTSTAMP:20260419T225916
CREATED:20231012T122555Z
LAST-MODIFIED:20231012T122555Z
UID:10007291-1759775400-1759779000@brunswickforest.com
SUMMARY:Ping Pong- Advanced
DESCRIPTION:Reflections Facility Mondays \n@6:30pm \nContact: Chuck Bins \nchuckbins@gmail.com
URL:https://brunswickforest.com/events/ping-pong-advanced/2025-10-06/
LOCATION:Reflections Recreation Center
CATEGORIES:Resident Activities
ATTACH;FMTTYPE=image/png:https://brunswickforest.com/wpc/uploads/Ping-Pong.png
ORGANIZER;CN="Chuck Bins":MAILTO:chuckbins@gmail.com
END:VEVENT
BEGIN:VEVENT
DTSTART;TZID=America/New_York:20251001T190000
DTEND;TZID=America/New_York:20251001T200000
DTSTAMP:20260419T225916
CREATED:20231012T151533Z
LAST-MODIFIED:20231012T151533Z
UID:10011278-1759345200-1759348800@brunswickforest.com
SUMMARY:Beginner 1 Shag
DESCRIPTION:Reflections \n@7 pm \nContact: Lorrie & Steve Gregory \nwinddancerlg@aol.com
URL:https://brunswickforest.com/events/beginner-1-shag/2025-10-01/
CATEGORIES:Resident Activities
ATTACH;FMTTYPE=image/png:https://brunswickforest.com/wpc/uploads/shag-3.png
ORGANIZER;CN="Lorrie & Steve Gregory":MAILTO:winddancerlg@aol.com
END:VEVENT
BEGIN:VEVENT
DTSTART;TZID=America/New_York:20250929T195000
DTEND;TZID=America/New_York:20250929T205000
DTSTAMP:20260419T225916
CREATED:20231012T122742Z
LAST-MODIFIED:20231012T122742Z
UID:10007557-1759175400-1759179000@brunswickforest.com
SUMMARY:Beginner-Intermediate Ping Pong
DESCRIPTION:Reflections Facility Mondays \n7:50 pm \nContact: Chuck Bins \nchuckbins@gmail.com
URL:https://brunswickforest.com/events/beginner-intermediate-ping-pong-2/2025-09-29/
LOCATION:Reflections Recreation Center
CATEGORIES:Resident Activities
ATTACH;FMTTYPE=image/png:https://brunswickforest.com/wpc/uploads/ping-pong-600-×-600-px.png
ORGANIZER;CN="Chuck Bins":MAILTO:chuckbins@gmail.com
END:VEVENT
BEGIN:VEVENT
DTSTART;TZID=America/New_York:20250929T183000
DTEND;TZID=America/New_York:20250929T193000
DTSTAMP:20260419T225916
CREATED:20231012T122555Z
LAST-MODIFIED:20231012T122555Z
UID:10007290-1759170600-1759174200@brunswickforest.com
SUMMARY:Ping Pong- Advanced
DESCRIPTION:Reflections Facility Mondays \n@6:30pm \nContact: Chuck Bins \nchuckbins@gmail.com
URL:https://brunswickforest.com/events/ping-pong-advanced/2025-09-29/
LOCATION:Reflections Recreation Center
CATEGORIES:Resident Activities
ATTACH;FMTTYPE=image/png:https://brunswickforest.com/wpc/uploads/Ping-Pong.png
ORGANIZER;CN="Chuck Bins":MAILTO:chuckbins@gmail.com
END:VEVENT
BEGIN:VEVENT
DTSTART;TZID=America/New_York:20250924T190000
DTEND;TZID=America/New_York:20250924T200000
DTSTAMP:20260419T225916
CREATED:20231012T151533Z
LAST-MODIFIED:20231012T151533Z
UID:10011277-1758740400-1758744000@brunswickforest.com
SUMMARY:Beginner 1 Shag
DESCRIPTION:Reflections \n@7 pm \nContact: Lorrie & Steve Gregory \nwinddancerlg@aol.com
URL:https://brunswickforest.com/events/beginner-1-shag/2025-09-24/
CATEGORIES:Resident Activities
ATTACH;FMTTYPE=image/png:https://brunswickforest.com/wpc/uploads/shag-3.png
ORGANIZER;CN="Lorrie & Steve Gregory":MAILTO:winddancerlg@aol.com
END:VEVENT
BEGIN:VEVENT
DTSTART;TZID=America/New_York:20250922T195000
DTEND;TZID=America/New_York:20250922T205000
DTSTAMP:20260419T225916
CREATED:20231012T122742Z
LAST-MODIFIED:20231012T122742Z
UID:10007556-1758570600-1758574200@brunswickforest.com
SUMMARY:Beginner-Intermediate Ping Pong
DESCRIPTION:Reflections Facility Mondays \n7:50 pm \nContact: Chuck Bins \nchuckbins@gmail.com
URL:https://brunswickforest.com/events/beginner-intermediate-ping-pong-2/2025-09-22/
LOCATION:Reflections Recreation Center
CATEGORIES:Resident Activities
ATTACH;FMTTYPE=image/png:https://brunswickforest.com/wpc/uploads/ping-pong-600-×-600-px.png
ORGANIZER;CN="Chuck Bins":MAILTO:chuckbins@gmail.com
END:VEVENT
BEGIN:VEVENT
DTSTART;TZID=America/New_York:20250922T183000
DTEND;TZID=America/New_York:20250922T193000
DTSTAMP:20260419T225916
CREATED:20231012T122555Z
LAST-MODIFIED:20231012T122555Z
UID:10007289-1758565800-1758569400@brunswickforest.com
SUMMARY:Ping Pong- Advanced
DESCRIPTION:Reflections Facility Mondays \n@6:30pm \nContact: Chuck Bins \nchuckbins@gmail.com
URL:https://brunswickforest.com/events/ping-pong-advanced/2025-09-22/
LOCATION:Reflections Recreation Center
CATEGORIES:Resident Activities
ATTACH;FMTTYPE=image/png:https://brunswickforest.com/wpc/uploads/Ping-Pong.png
ORGANIZER;CN="Chuck Bins":MAILTO:chuckbins@gmail.com
END:VEVENT
BEGIN:VEVENT
DTSTART;TZID=America/New_York:20250917T190000
DTEND;TZID=America/New_York:20250917T200000
DTSTAMP:20260419T225916
CREATED:20231012T151533Z
LAST-MODIFIED:20231012T151533Z
UID:10011276-1758135600-1758139200@brunswickforest.com
SUMMARY:Beginner 1 Shag
DESCRIPTION:Reflections \n@7 pm \nContact: Lorrie & Steve Gregory \nwinddancerlg@aol.com
URL:https://brunswickforest.com/events/beginner-1-shag/2025-09-17/
CATEGORIES:Resident Activities
ATTACH;FMTTYPE=image/png:https://brunswickforest.com/wpc/uploads/shag-3.png
ORGANIZER;CN="Lorrie & Steve Gregory":MAILTO:winddancerlg@aol.com
END:VEVENT
BEGIN:VEVENT
DTSTART;TZID=America/New_York:20250915T195000
DTEND;TZID=America/New_York:20250915T205000
DTSTAMP:20260419T225916
CREATED:20231012T122742Z
LAST-MODIFIED:20231012T122742Z
UID:10007555-1757965800-1757969400@brunswickforest.com
SUMMARY:Beginner-Intermediate Ping Pong
DESCRIPTION:Reflections Facility Mondays \n7:50 pm \nContact: Chuck Bins \nchuckbins@gmail.com
URL:https://brunswickforest.com/events/beginner-intermediate-ping-pong-2/2025-09-15/
LOCATION:Reflections Recreation Center
CATEGORIES:Resident Activities
ATTACH;FMTTYPE=image/png:https://brunswickforest.com/wpc/uploads/ping-pong-600-×-600-px.png
ORGANIZER;CN="Chuck Bins":MAILTO:chuckbins@gmail.com
END:VEVENT
BEGIN:VEVENT
DTSTART;TZID=America/New_York:20250915T183000
DTEND;TZID=America/New_York:20250915T193000
DTSTAMP:20260419T225916
CREATED:20231012T122555Z
LAST-MODIFIED:20231012T122555Z
UID:10007288-1757961000-1757964600@brunswickforest.com
SUMMARY:Ping Pong- Advanced
DESCRIPTION:Reflections Facility Mondays \n@6:30pm \nContact: Chuck Bins \nchuckbins@gmail.com
URL:https://brunswickforest.com/events/ping-pong-advanced/2025-09-15/
LOCATION:Reflections Recreation Center
CATEGORIES:Resident Activities
ATTACH;FMTTYPE=image/png:https://brunswickforest.com/wpc/uploads/Ping-Pong.png
ORGANIZER;CN="Chuck Bins":MAILTO:chuckbins@gmail.com
END:VEVENT
BEGIN:VEVENT
DTSTART;TZID=America/New_York:20250910T190000
DTEND;TZID=America/New_York:20250910T200000
DTSTAMP:20260419T225916
CREATED:20231012T151533Z
LAST-MODIFIED:20231012T151533Z
UID:10011275-1757530800-1757534400@brunswickforest.com
SUMMARY:Beginner 1 Shag
DESCRIPTION:Reflections \n@7 pm \nContact: Lorrie & Steve Gregory \nwinddancerlg@aol.com
URL:https://brunswickforest.com/events/beginner-1-shag/2025-09-10/
CATEGORIES:Resident Activities
ATTACH;FMTTYPE=image/png:https://brunswickforest.com/wpc/uploads/shag-3.png
ORGANIZER;CN="Lorrie & Steve Gregory":MAILTO:winddancerlg@aol.com
END:VEVENT
BEGIN:VEVENT
DTSTART;TZID=America/New_York:20250908T195000
DTEND;TZID=America/New_York:20250908T205000
DTSTAMP:20260419T225916
CREATED:20231012T122742Z
LAST-MODIFIED:20231012T122742Z
UID:10007554-1757361000-1757364600@brunswickforest.com
SUMMARY:Beginner-Intermediate Ping Pong
DESCRIPTION:Reflections Facility Mondays \n7:50 pm \nContact: Chuck Bins \nchuckbins@gmail.com
URL:https://brunswickforest.com/events/beginner-intermediate-ping-pong-2/2025-09-08/
LOCATION:Reflections Recreation Center
CATEGORIES:Resident Activities
ATTACH;FMTTYPE=image/png:https://brunswickforest.com/wpc/uploads/ping-pong-600-×-600-px.png
ORGANIZER;CN="Chuck Bins":MAILTO:chuckbins@gmail.com
END:VEVENT
END:VCALENDAR