BEGIN:VCALENDAR
VERSION:2.0
PRODID:-//Brunswick Forest - ECPv6.15.20//NONSGML v1.0//EN
CALSCALE:GREGORIAN
METHOD:PUBLISH
X-ORIGINAL-URL:https://brunswickforest.com
X-WR-CALDESC:Events for Brunswick Forest
REFRESH-INTERVAL;VALUE=DURATION:PT1H
X-Robots-Tag:noindex
X-PUBLISHED-TTL:PT1H
BEGIN:VTIMEZONE
TZID:America/New_York
BEGIN:DAYLIGHT
TZOFFSETFROM:-0500
TZOFFSETTO:-0400
TZNAME:EDT
DTSTART:20230312T070000
END:DAYLIGHT
BEGIN:STANDARD
TZOFFSETFROM:-0400
TZOFFSETTO:-0500
TZNAME:EST
DTSTART:20231105T060000
END:STANDARD
BEGIN:DAYLIGHT
TZOFFSETFROM:-0500
TZOFFSETTO:-0400
TZNAME:EDT
DTSTART:20240310T070000
END:DAYLIGHT
BEGIN:STANDARD
TZOFFSETFROM:-0400
TZOFFSETTO:-0500
TZNAME:EST
DTSTART:20241103T060000
END:STANDARD
BEGIN:DAYLIGHT
TZOFFSETFROM:-0500
TZOFFSETTO:-0400
TZNAME:EDT
DTSTART:20250309T070000
END:DAYLIGHT
BEGIN:STANDARD
TZOFFSETFROM:-0400
TZOFFSETTO:-0500
TZNAME:EST
DTSTART:20251102T060000
END:STANDARD
END:VTIMEZONE
BEGIN:VEVENT
DTSTART;TZID=America/New_York:20240611T163000
DTEND;TZID=America/New_York:20240611T173000
DTSTAMP:20260425T073406
CREATED:20231012T132353Z
LAST-MODIFIED:20231012T132353Z
UID:10009611-1718123400-1718127000@brunswickforest.com
SUMMARY:Singles & More
DESCRIPTION:Cutlar Community Center \nTuesdays \n@4:30pm \nContact Tena Wright \nwright367@gmail.com \nWebsite: bfsam.org
URL:https://brunswickforest.com/events/singles-more-3/2024-06-11/
LOCATION:Cutler Community Center\, 1120 East Cutlar Crossing\, Leland\, NC\, 28451
CATEGORIES:Resident Activities
ATTACH;FMTTYPE=image/png:https://brunswickforest.com/wpc/uploads/Singles-and-more.png
ORGANIZER;CN="Tena Wright":MAILTO:wright367@gmail.com
END:VEVENT
BEGIN:VEVENT
DTSTART;TZID=America/New_York:20240611T123000
DTEND;TZID=America/New_York:20240611T143000
DTSTAMP:20260425T073406
CREATED:20231012T122946Z
LAST-MODIFIED:20231012T123046Z
UID:10007756-1718109000-1718116200@brunswickforest.com
SUMMARY:Bridge Group
DESCRIPTION:The Cutlar Community Center\, Tuesdays \n@12:30pm \nContact: Ben Reischer \nBen.reischer@gmail.com
URL:https://brunswickforest.com/events/bridge-group-5/2024-06-11/
LOCATION:Cutler Community Center\, 1120 East Cutlar Crossing\, Leland\, NC\, 28451
CATEGORIES:Resident Activities
ATTACH;FMTTYPE=image/png:https://brunswickforest.com/wpc/uploads/bridge-group.png
ORGANIZER;CN="Ben Reischer":MAILTO:Ben.reischer@gmail.com
END:VEVENT
BEGIN:VEVENT
DTSTART;TZID=America/New_York:20240604T170000
DTEND;TZID=America/New_York:20240604T183000
DTSTAMP:20260425T073406
CREATED:20240520T145906Z
LAST-MODIFIED:20240520T154134Z
UID:10014476-1717520400-1717525800@brunswickforest.com
SUMMARY:Leland Networking Women
DESCRIPTION:Topic: Life Organized \nThe difference and purpose you may be looking for may just be organization. Everything has energy and disorganized “stuff” creates chaotic energy. Come listen to Michelle help you make the transition from chaotic to calm surroundings.  Are you looking for a fresh perspective in a space that doesn’t quite look and function how you would like? Join us on June 4th.
URL:https://brunswickforest.com/events/leland-networking-women/
LOCATION:Cutler Community Center\, 1120 East Cutlar Crossing\, Leland\, NC\, 28451
CATEGORIES:Resident Activities
ATTACH;FMTTYPE=image/png:https://brunswickforest.com/wpc/uploads/networking-women.png
ORGANIZER;CN="Barbara Stanislawski":MAILTO:pccoaching@gmail.com
END:VEVENT
BEGIN:VEVENT
DTSTART;TZID=America/New_York:20240604T163000
DTEND;TZID=America/New_York:20240604T173000
DTSTAMP:20260425T073406
CREATED:20231012T132353Z
LAST-MODIFIED:20231012T132353Z
UID:10009610-1717518600-1717522200@brunswickforest.com
SUMMARY:Singles & More
DESCRIPTION:Cutlar Community Center \nTuesdays \n@4:30pm \nContact Tena Wright \nwright367@gmail.com \nWebsite: bfsam.org
URL:https://brunswickforest.com/events/singles-more-3/2024-06-04/
LOCATION:Cutler Community Center\, 1120 East Cutlar Crossing\, Leland\, NC\, 28451
CATEGORIES:Resident Activities
ATTACH;FMTTYPE=image/png:https://brunswickforest.com/wpc/uploads/Singles-and-more.png
ORGANIZER;CN="Tena Wright":MAILTO:wright367@gmail.com
END:VEVENT
BEGIN:VEVENT
DTSTART;TZID=America/New_York:20240604T123000
DTEND;TZID=America/New_York:20240604T143000
DTSTAMP:20260425T073406
CREATED:20231012T122946Z
LAST-MODIFIED:20231012T123046Z
UID:10007755-1717504200-1717511400@brunswickforest.com
SUMMARY:Bridge Group
DESCRIPTION:The Cutlar Community Center\, Tuesdays \n@12:30pm \nContact: Ben Reischer \nBen.reischer@gmail.com
URL:https://brunswickforest.com/events/bridge-group-5/2024-06-04/
LOCATION:Cutler Community Center\, 1120 East Cutlar Crossing\, Leland\, NC\, 28451
CATEGORIES:Resident Activities
ATTACH;FMTTYPE=image/png:https://brunswickforest.com/wpc/uploads/bridge-group.png
ORGANIZER;CN="Ben Reischer":MAILTO:Ben.reischer@gmail.com
END:VEVENT
BEGIN:VEVENT
DTSTART;TZID=America/New_York:20240528T163000
DTEND;TZID=America/New_York:20240528T173000
DTSTAMP:20260425T073406
CREATED:20231012T132353Z
LAST-MODIFIED:20231012T132353Z
UID:10009609-1716913800-1716917400@brunswickforest.com
SUMMARY:Singles & More
DESCRIPTION:Cutlar Community Center \nTuesdays \n@4:30pm \nContact Tena Wright \nwright367@gmail.com \nWebsite: bfsam.org
URL:https://brunswickforest.com/events/singles-more-3/2024-05-28/
LOCATION:Cutler Community Center\, 1120 East Cutlar Crossing\, Leland\, NC\, 28451
CATEGORIES:Resident Activities
ATTACH;FMTTYPE=image/png:https://brunswickforest.com/wpc/uploads/Singles-and-more.png
ORGANIZER;CN="Tena Wright":MAILTO:wright367@gmail.com
END:VEVENT
BEGIN:VEVENT
DTSTART;TZID=America/New_York:20240528T123000
DTEND;TZID=America/New_York:20240528T143000
DTSTAMP:20260425T073406
CREATED:20231012T122946Z
LAST-MODIFIED:20231012T123046Z
UID:10007754-1716899400-1716906600@brunswickforest.com
SUMMARY:Bridge Group
DESCRIPTION:The Cutlar Community Center\, Tuesdays \n@12:30pm \nContact: Ben Reischer \nBen.reischer@gmail.com
URL:https://brunswickforest.com/events/bridge-group-5/2024-05-28/
LOCATION:Cutler Community Center\, 1120 East Cutlar Crossing\, Leland\, NC\, 28451
CATEGORIES:Resident Activities
ATTACH;FMTTYPE=image/png:https://brunswickforest.com/wpc/uploads/bridge-group.png
ORGANIZER;CN="Ben Reischer":MAILTO:Ben.reischer@gmail.com
END:VEVENT
BEGIN:VEVENT
DTSTART;TZID=America/New_York:20240521T163000
DTEND;TZID=America/New_York:20240521T173000
DTSTAMP:20260425T073406
CREATED:20231012T132353Z
LAST-MODIFIED:20231012T132353Z
UID:10009608-1716309000-1716312600@brunswickforest.com
SUMMARY:Singles & More
DESCRIPTION:Cutlar Community Center \nTuesdays \n@4:30pm \nContact Tena Wright \nwright367@gmail.com \nWebsite: bfsam.org
URL:https://brunswickforest.com/events/singles-more-3/2024-05-21/
LOCATION:Cutler Community Center\, 1120 East Cutlar Crossing\, Leland\, NC\, 28451
CATEGORIES:Resident Activities
ATTACH;FMTTYPE=image/png:https://brunswickforest.com/wpc/uploads/Singles-and-more.png
ORGANIZER;CN="Tena Wright":MAILTO:wright367@gmail.com
END:VEVENT
BEGIN:VEVENT
DTSTART;TZID=America/New_York:20240521T123000
DTEND;TZID=America/New_York:20240521T143000
DTSTAMP:20260425T073406
CREATED:20231012T122946Z
LAST-MODIFIED:20231012T123046Z
UID:10007753-1716294600-1716301800@brunswickforest.com
SUMMARY:Bridge Group
DESCRIPTION:The Cutlar Community Center\, Tuesdays \n@12:30pm \nContact: Ben Reischer \nBen.reischer@gmail.com
URL:https://brunswickforest.com/events/bridge-group-5/2024-05-21/
LOCATION:Cutler Community Center\, 1120 East Cutlar Crossing\, Leland\, NC\, 28451
CATEGORIES:Resident Activities
ATTACH;FMTTYPE=image/png:https://brunswickforest.com/wpc/uploads/bridge-group.png
ORGANIZER;CN="Ben Reischer":MAILTO:Ben.reischer@gmail.com
END:VEVENT
BEGIN:VEVENT
DTSTART;TZID=America/New_York:20240514T163000
DTEND;TZID=America/New_York:20240514T173000
DTSTAMP:20260425T073406
CREATED:20231012T132353Z
LAST-MODIFIED:20231012T132353Z
UID:10009607-1715704200-1715707800@brunswickforest.com
SUMMARY:Singles & More
DESCRIPTION:Cutlar Community Center \nTuesdays \n@4:30pm \nContact Tena Wright \nwright367@gmail.com \nWebsite: bfsam.org
URL:https://brunswickforest.com/events/singles-more-3/2024-05-14/
LOCATION:Cutler Community Center\, 1120 East Cutlar Crossing\, Leland\, NC\, 28451
CATEGORIES:Resident Activities
ATTACH;FMTTYPE=image/png:https://brunswickforest.com/wpc/uploads/Singles-and-more.png
ORGANIZER;CN="Tena Wright":MAILTO:wright367@gmail.com
END:VEVENT
BEGIN:VEVENT
DTSTART;TZID=America/New_York:20240514T123000
DTEND;TZID=America/New_York:20240514T143000
DTSTAMP:20260425T073406
CREATED:20231012T122946Z
LAST-MODIFIED:20231012T123046Z
UID:10007752-1715689800-1715697000@brunswickforest.com
SUMMARY:Bridge Group
DESCRIPTION:The Cutlar Community Center\, Tuesdays \n@12:30pm \nContact: Ben Reischer \nBen.reischer@gmail.com
URL:https://brunswickforest.com/events/bridge-group-5/2024-05-14/
LOCATION:Cutler Community Center\, 1120 East Cutlar Crossing\, Leland\, NC\, 28451
CATEGORIES:Resident Activities
ATTACH;FMTTYPE=image/png:https://brunswickforest.com/wpc/uploads/bridge-group.png
ORGANIZER;CN="Ben Reischer":MAILTO:Ben.reischer@gmail.com
END:VEVENT
BEGIN:VEVENT
DTSTART;TZID=America/New_York:20240507T163000
DTEND;TZID=America/New_York:20240507T173000
DTSTAMP:20260425T073406
CREATED:20231012T132353Z
LAST-MODIFIED:20231012T132353Z
UID:10009606-1715099400-1715103000@brunswickforest.com
SUMMARY:Singles & More
DESCRIPTION:Cutlar Community Center \nTuesdays \n@4:30pm \nContact Tena Wright \nwright367@gmail.com \nWebsite: bfsam.org
URL:https://brunswickforest.com/events/singles-more-3/2024-05-07/
LOCATION:Cutler Community Center\, 1120 East Cutlar Crossing\, Leland\, NC\, 28451
CATEGORIES:Resident Activities
ATTACH;FMTTYPE=image/png:https://brunswickforest.com/wpc/uploads/Singles-and-more.png
ORGANIZER;CN="Tena Wright":MAILTO:wright367@gmail.com
END:VEVENT
BEGIN:VEVENT
DTSTART;TZID=America/New_York:20240507T123000
DTEND;TZID=America/New_York:20240507T143000
DTSTAMP:20260425T073406
CREATED:20231012T122946Z
LAST-MODIFIED:20231012T123046Z
UID:10007751-1715085000-1715092200@brunswickforest.com
SUMMARY:Bridge Group
DESCRIPTION:The Cutlar Community Center\, Tuesdays \n@12:30pm \nContact: Ben Reischer \nBen.reischer@gmail.com
URL:https://brunswickforest.com/events/bridge-group-5/2024-05-07/
LOCATION:Cutler Community Center\, 1120 East Cutlar Crossing\, Leland\, NC\, 28451
CATEGORIES:Resident Activities
ATTACH;FMTTYPE=image/png:https://brunswickforest.com/wpc/uploads/bridge-group.png
ORGANIZER;CN="Ben Reischer":MAILTO:Ben.reischer@gmail.com
END:VEVENT
BEGIN:VEVENT
DTSTART;TZID=America/New_York:20240430T163000
DTEND;TZID=America/New_York:20240430T173000
DTSTAMP:20260425T073406
CREATED:20231012T132353Z
LAST-MODIFIED:20231012T132353Z
UID:10009605-1714494600-1714498200@brunswickforest.com
SUMMARY:Singles & More
DESCRIPTION:Cutlar Community Center \nTuesdays \n@4:30pm \nContact Tena Wright \nwright367@gmail.com \nWebsite: bfsam.org
URL:https://brunswickforest.com/events/singles-more-3/2024-04-30/
LOCATION:Cutler Community Center\, 1120 East Cutlar Crossing\, Leland\, NC\, 28451
CATEGORIES:Resident Activities
ATTACH;FMTTYPE=image/png:https://brunswickforest.com/wpc/uploads/Singles-and-more.png
ORGANIZER;CN="Tena Wright":MAILTO:wright367@gmail.com
END:VEVENT
BEGIN:VEVENT
DTSTART;TZID=America/New_York:20240430T123000
DTEND;TZID=America/New_York:20240430T143000
DTSTAMP:20260425T073406
CREATED:20231012T122946Z
LAST-MODIFIED:20231012T123046Z
UID:10007750-1714480200-1714487400@brunswickforest.com
SUMMARY:Bridge Group
DESCRIPTION:The Cutlar Community Center\, Tuesdays \n@12:30pm \nContact: Ben Reischer \nBen.reischer@gmail.com
URL:https://brunswickforest.com/events/bridge-group-5/2024-04-30/
LOCATION:Cutler Community Center\, 1120 East Cutlar Crossing\, Leland\, NC\, 28451
CATEGORIES:Resident Activities
ATTACH;FMTTYPE=image/png:https://brunswickforest.com/wpc/uploads/bridge-group.png
ORGANIZER;CN="Ben Reischer":MAILTO:Ben.reischer@gmail.com
END:VEVENT
BEGIN:VEVENT
DTSTART;TZID=America/New_York:20240423T163000
DTEND;TZID=America/New_York:20240423T173000
DTSTAMP:20260425T073406
CREATED:20231012T132353Z
LAST-MODIFIED:20231012T132353Z
UID:10009604-1713889800-1713893400@brunswickforest.com
SUMMARY:Singles & More
DESCRIPTION:Cutlar Community Center \nTuesdays \n@4:30pm \nContact Tena Wright \nwright367@gmail.com \nWebsite: bfsam.org
URL:https://brunswickforest.com/events/singles-more-3/2024-04-23/
LOCATION:Cutler Community Center\, 1120 East Cutlar Crossing\, Leland\, NC\, 28451
CATEGORIES:Resident Activities
ATTACH;FMTTYPE=image/png:https://brunswickforest.com/wpc/uploads/Singles-and-more.png
ORGANIZER;CN="Tena Wright":MAILTO:wright367@gmail.com
END:VEVENT
BEGIN:VEVENT
DTSTART;TZID=America/New_York:20240423T123000
DTEND;TZID=America/New_York:20240423T143000
DTSTAMP:20260425T073406
CREATED:20231012T122946Z
LAST-MODIFIED:20231012T123046Z
UID:10007749-1713875400-1713882600@brunswickforest.com
SUMMARY:Bridge Group
DESCRIPTION:The Cutlar Community Center\, Tuesdays \n@12:30pm \nContact: Ben Reischer \nBen.reischer@gmail.com
URL:https://brunswickforest.com/events/bridge-group-5/2024-04-23/
LOCATION:Cutler Community Center\, 1120 East Cutlar Crossing\, Leland\, NC\, 28451
CATEGORIES:Resident Activities
ATTACH;FMTTYPE=image/png:https://brunswickforest.com/wpc/uploads/bridge-group.png
ORGANIZER;CN="Ben Reischer":MAILTO:Ben.reischer@gmail.com
END:VEVENT
BEGIN:VEVENT
DTSTART;TZID=America/New_York:20240416T163000
DTEND;TZID=America/New_York:20240416T173000
DTSTAMP:20260425T073406
CREATED:20231012T132353Z
LAST-MODIFIED:20231012T132353Z
UID:10009603-1713285000-1713288600@brunswickforest.com
SUMMARY:Singles & More
DESCRIPTION:Cutlar Community Center \nTuesdays \n@4:30pm \nContact Tena Wright \nwright367@gmail.com \nWebsite: bfsam.org
URL:https://brunswickforest.com/events/singles-more-3/2024-04-16/
LOCATION:Cutler Community Center\, 1120 East Cutlar Crossing\, Leland\, NC\, 28451
CATEGORIES:Resident Activities
ATTACH;FMTTYPE=image/png:https://brunswickforest.com/wpc/uploads/Singles-and-more.png
ORGANIZER;CN="Tena Wright":MAILTO:wright367@gmail.com
END:VEVENT
BEGIN:VEVENT
DTSTART;TZID=America/New_York:20240416T123000
DTEND;TZID=America/New_York:20240416T143000
DTSTAMP:20260425T073406
CREATED:20231012T122946Z
LAST-MODIFIED:20231012T123046Z
UID:10007748-1713270600-1713277800@brunswickforest.com
SUMMARY:Bridge Group
DESCRIPTION:The Cutlar Community Center\, Tuesdays \n@12:30pm \nContact: Ben Reischer \nBen.reischer@gmail.com
URL:https://brunswickforest.com/events/bridge-group-5/2024-04-16/
LOCATION:Cutler Community Center\, 1120 East Cutlar Crossing\, Leland\, NC\, 28451
CATEGORIES:Resident Activities
ATTACH;FMTTYPE=image/png:https://brunswickforest.com/wpc/uploads/bridge-group.png
ORGANIZER;CN="Ben Reischer":MAILTO:Ben.reischer@gmail.com
END:VEVENT
BEGIN:VEVENT
DTSTART;TZID=America/New_York:20240409T163000
DTEND;TZID=America/New_York:20240409T173000
DTSTAMP:20260425T073406
CREATED:20231012T132353Z
LAST-MODIFIED:20231012T132353Z
UID:10009602-1712680200-1712683800@brunswickforest.com
SUMMARY:Singles & More
DESCRIPTION:Cutlar Community Center \nTuesdays \n@4:30pm \nContact Tena Wright \nwright367@gmail.com \nWebsite: bfsam.org
URL:https://brunswickforest.com/events/singles-more-3/2024-04-09/
LOCATION:Cutler Community Center\, 1120 East Cutlar Crossing\, Leland\, NC\, 28451
CATEGORIES:Resident Activities
ATTACH;FMTTYPE=image/png:https://brunswickforest.com/wpc/uploads/Singles-and-more.png
ORGANIZER;CN="Tena Wright":MAILTO:wright367@gmail.com
END:VEVENT
BEGIN:VEVENT
DTSTART;TZID=America/New_York:20240409T123000
DTEND;TZID=America/New_York:20240409T143000
DTSTAMP:20260425T073406
CREATED:20231012T122946Z
LAST-MODIFIED:20231012T123046Z
UID:10007747-1712665800-1712673000@brunswickforest.com
SUMMARY:Bridge Group
DESCRIPTION:The Cutlar Community Center\, Tuesdays \n@12:30pm \nContact: Ben Reischer \nBen.reischer@gmail.com
URL:https://brunswickforest.com/events/bridge-group-5/2024-04-09/
LOCATION:Cutler Community Center\, 1120 East Cutlar Crossing\, Leland\, NC\, 28451
CATEGORIES:Resident Activities
ATTACH;FMTTYPE=image/png:https://brunswickforest.com/wpc/uploads/bridge-group.png
ORGANIZER;CN="Ben Reischer":MAILTO:Ben.reischer@gmail.com
END:VEVENT
BEGIN:VEVENT
DTSTART;TZID=America/New_York:20240402T163000
DTEND;TZID=America/New_York:20240402T173000
DTSTAMP:20260425T073406
CREATED:20231012T132353Z
LAST-MODIFIED:20231012T132353Z
UID:10009601-1712075400-1712079000@brunswickforest.com
SUMMARY:Singles & More
DESCRIPTION:Cutlar Community Center \nTuesdays \n@4:30pm \nContact Tena Wright \nwright367@gmail.com \nWebsite: bfsam.org
URL:https://brunswickforest.com/events/singles-more-3/2024-04-02/
LOCATION:Cutler Community Center\, 1120 East Cutlar Crossing\, Leland\, NC\, 28451
CATEGORIES:Resident Activities
ATTACH;FMTTYPE=image/png:https://brunswickforest.com/wpc/uploads/Singles-and-more.png
ORGANIZER;CN="Tena Wright":MAILTO:wright367@gmail.com
END:VEVENT
BEGIN:VEVENT
DTSTART;TZID=America/New_York:20240402T123000
DTEND;TZID=America/New_York:20240402T143000
DTSTAMP:20260425T073406
CREATED:20231012T122946Z
LAST-MODIFIED:20231012T123046Z
UID:10007746-1712061000-1712068200@brunswickforest.com
SUMMARY:Bridge Group
DESCRIPTION:The Cutlar Community Center\, Tuesdays \n@12:30pm \nContact: Ben Reischer \nBen.reischer@gmail.com
URL:https://brunswickforest.com/events/bridge-group-5/2024-04-02/
LOCATION:Cutler Community Center\, 1120 East Cutlar Crossing\, Leland\, NC\, 28451
CATEGORIES:Resident Activities
ATTACH;FMTTYPE=image/png:https://brunswickforest.com/wpc/uploads/bridge-group.png
ORGANIZER;CN="Ben Reischer":MAILTO:Ben.reischer@gmail.com
END:VEVENT
BEGIN:VEVENT
DTSTART;TZID=America/New_York:20240326T163000
DTEND;TZID=America/New_York:20240326T173000
DTSTAMP:20260425T073406
CREATED:20231012T132353Z
LAST-MODIFIED:20231012T132353Z
UID:10009600-1711470600-1711474200@brunswickforest.com
SUMMARY:Singles & More
DESCRIPTION:Cutlar Community Center \nTuesdays \n@4:30pm \nContact Tena Wright \nwright367@gmail.com \nWebsite: bfsam.org
URL:https://brunswickforest.com/events/singles-more-3/2024-03-26/
LOCATION:Cutler Community Center\, 1120 East Cutlar Crossing\, Leland\, NC\, 28451
CATEGORIES:Resident Activities
ATTACH;FMTTYPE=image/png:https://brunswickforest.com/wpc/uploads/Singles-and-more.png
ORGANIZER;CN="Tena Wright":MAILTO:wright367@gmail.com
END:VEVENT
BEGIN:VEVENT
DTSTART;TZID=America/New_York:20240326T123000
DTEND;TZID=America/New_York:20240326T143000
DTSTAMP:20260425T073406
CREATED:20231012T122946Z
LAST-MODIFIED:20231012T123046Z
UID:10007745-1711456200-1711463400@brunswickforest.com
SUMMARY:Bridge Group
DESCRIPTION:The Cutlar Community Center\, Tuesdays \n@12:30pm \nContact: Ben Reischer \nBen.reischer@gmail.com
URL:https://brunswickforest.com/events/bridge-group-5/2024-03-26/
LOCATION:Cutler Community Center\, 1120 East Cutlar Crossing\, Leland\, NC\, 28451
CATEGORIES:Resident Activities
ATTACH;FMTTYPE=image/png:https://brunswickforest.com/wpc/uploads/bridge-group.png
ORGANIZER;CN="Ben Reischer":MAILTO:Ben.reischer@gmail.com
END:VEVENT
BEGIN:VEVENT
DTSTART;TZID=America/New_York:20240319T163000
DTEND;TZID=America/New_York:20240319T173000
DTSTAMP:20260425T073406
CREATED:20231012T132353Z
LAST-MODIFIED:20231012T132353Z
UID:10009599-1710865800-1710869400@brunswickforest.com
SUMMARY:Singles & More
DESCRIPTION:Cutlar Community Center \nTuesdays \n@4:30pm \nContact Tena Wright \nwright367@gmail.com \nWebsite: bfsam.org
URL:https://brunswickforest.com/events/singles-more-3/2024-03-19/
LOCATION:Cutler Community Center\, 1120 East Cutlar Crossing\, Leland\, NC\, 28451
CATEGORIES:Resident Activities
ATTACH;FMTTYPE=image/png:https://brunswickforest.com/wpc/uploads/Singles-and-more.png
ORGANIZER;CN="Tena Wright":MAILTO:wright367@gmail.com
END:VEVENT
BEGIN:VEVENT
DTSTART;TZID=America/New_York:20240319T123000
DTEND;TZID=America/New_York:20240319T143000
DTSTAMP:20260425T073406
CREATED:20231012T122946Z
LAST-MODIFIED:20231012T123046Z
UID:10007744-1710851400-1710858600@brunswickforest.com
SUMMARY:Bridge Group
DESCRIPTION:The Cutlar Community Center\, Tuesdays \n@12:30pm \nContact: Ben Reischer \nBen.reischer@gmail.com
URL:https://brunswickforest.com/events/bridge-group-5/2024-03-19/
LOCATION:Cutler Community Center\, 1120 East Cutlar Crossing\, Leland\, NC\, 28451
CATEGORIES:Resident Activities
ATTACH;FMTTYPE=image/png:https://brunswickforest.com/wpc/uploads/bridge-group.png
ORGANIZER;CN="Ben Reischer":MAILTO:Ben.reischer@gmail.com
END:VEVENT
BEGIN:VEVENT
DTSTART;TZID=America/New_York:20240312T163000
DTEND;TZID=America/New_York:20240312T173000
DTSTAMP:20260425T073406
CREATED:20231012T132353Z
LAST-MODIFIED:20231012T132353Z
UID:10009598-1710261000-1710264600@brunswickforest.com
SUMMARY:Singles & More
DESCRIPTION:Cutlar Community Center \nTuesdays \n@4:30pm \nContact Tena Wright \nwright367@gmail.com \nWebsite: bfsam.org
URL:https://brunswickforest.com/events/singles-more-3/2024-03-12/
LOCATION:Cutler Community Center\, 1120 East Cutlar Crossing\, Leland\, NC\, 28451
CATEGORIES:Resident Activities
ATTACH;FMTTYPE=image/png:https://brunswickforest.com/wpc/uploads/Singles-and-more.png
ORGANIZER;CN="Tena Wright":MAILTO:wright367@gmail.com
END:VEVENT
BEGIN:VEVENT
DTSTART;TZID=America/New_York:20240312T123000
DTEND;TZID=America/New_York:20240312T143000
DTSTAMP:20260425T073406
CREATED:20231012T122946Z
LAST-MODIFIED:20231012T123046Z
UID:10007743-1710246600-1710253800@brunswickforest.com
SUMMARY:Bridge Group
DESCRIPTION:The Cutlar Community Center\, Tuesdays \n@12:30pm \nContact: Ben Reischer \nBen.reischer@gmail.com
URL:https://brunswickforest.com/events/bridge-group-5/2024-03-12/
LOCATION:Cutler Community Center\, 1120 East Cutlar Crossing\, Leland\, NC\, 28451
CATEGORIES:Resident Activities
ATTACH;FMTTYPE=image/png:https://brunswickforest.com/wpc/uploads/bridge-group.png
ORGANIZER;CN="Ben Reischer":MAILTO:Ben.reischer@gmail.com
END:VEVENT
BEGIN:VEVENT
DTSTART;TZID=America/New_York:20240305T163000
DTEND;TZID=America/New_York:20240305T173000
DTSTAMP:20260425T073406
CREATED:20231012T132353Z
LAST-MODIFIED:20231012T132353Z
UID:10009597-1709656200-1709659800@brunswickforest.com
SUMMARY:Singles & More
DESCRIPTION:Cutlar Community Center \nTuesdays \n@4:30pm \nContact Tena Wright \nwright367@gmail.com \nWebsite: bfsam.org
URL:https://brunswickforest.com/events/singles-more-3/2024-03-05/
LOCATION:Cutler Community Center\, 1120 East Cutlar Crossing\, Leland\, NC\, 28451
CATEGORIES:Resident Activities
ATTACH;FMTTYPE=image/png:https://brunswickforest.com/wpc/uploads/Singles-and-more.png
ORGANIZER;CN="Tena Wright":MAILTO:wright367@gmail.com
END:VEVENT
END:VCALENDAR