BEGIN:VCALENDAR
VERSION:2.0
PRODID:-//Brunswick Forest - ECPv6.15.20//NONSGML v1.0//EN
CALSCALE:GREGORIAN
METHOD:PUBLISH
X-ORIGINAL-URL:https://brunswickforest.com
X-WR-CALDESC:Events for Brunswick Forest
REFRESH-INTERVAL;VALUE=DURATION:PT1H
X-Robots-Tag:noindex
X-PUBLISHED-TTL:PT1H
BEGIN:VTIMEZONE
TZID:America/New_York
BEGIN:DAYLIGHT
TZOFFSETFROM:-0500
TZOFFSETTO:-0400
TZNAME:EDT
DTSTART:20230312T070000
END:DAYLIGHT
BEGIN:STANDARD
TZOFFSETFROM:-0400
TZOFFSETTO:-0500
TZNAME:EST
DTSTART:20231105T060000
END:STANDARD
BEGIN:DAYLIGHT
TZOFFSETFROM:-0500
TZOFFSETTO:-0400
TZNAME:EDT
DTSTART:20240310T070000
END:DAYLIGHT
BEGIN:STANDARD
TZOFFSETFROM:-0400
TZOFFSETTO:-0500
TZNAME:EST
DTSTART:20241103T060000
END:STANDARD
BEGIN:DAYLIGHT
TZOFFSETFROM:-0500
TZOFFSETTO:-0400
TZNAME:EDT
DTSTART:20250309T070000
END:DAYLIGHT
BEGIN:STANDARD
TZOFFSETFROM:-0400
TZOFFSETTO:-0500
TZNAME:EST
DTSTART:20251102T060000
END:STANDARD
END:VTIMEZONE
BEGIN:VEVENT
DTSTART;TZID=America/New_York:20240903T163000
DTEND;TZID=America/New_York:20240903T173000
DTSTAMP:20260424T223032
CREATED:20231012T132353Z
LAST-MODIFIED:20231012T132353Z
UID:10009623-1725381000-1725384600@brunswickforest.com
SUMMARY:Singles & More
DESCRIPTION:Cutlar Community Center \nTuesdays \n@4:30pm \nContact Tena Wright \nwright367@gmail.com \nWebsite: bfsam.org
URL:https://brunswickforest.com/events/singles-more-3/2024-09-03/
LOCATION:Cutler Community Center\, 1120 East Cutlar Crossing\, Leland\, NC\, 28451
CATEGORIES:Resident Activities
ATTACH;FMTTYPE=image/png:https://brunswickforest.com/wpc/uploads/Singles-and-more.png
ORGANIZER;CN="Tena Wright":MAILTO:wright367@gmail.com
END:VEVENT
BEGIN:VEVENT
DTSTART;TZID=America/New_York:20240903T123000
DTEND;TZID=America/New_York:20240903T143000
DTSTAMP:20260424T223032
CREATED:20231012T122946Z
LAST-MODIFIED:20231012T123046Z
UID:10007768-1725366600-1725373800@brunswickforest.com
SUMMARY:Bridge Group
DESCRIPTION:The Cutlar Community Center\, Tuesdays \n@12:30pm \nContact: Ben Reischer \nBen.reischer@gmail.com
URL:https://brunswickforest.com/events/bridge-group-5/2024-09-03/
LOCATION:Cutler Community Center\, 1120 East Cutlar Crossing\, Leland\, NC\, 28451
CATEGORIES:Resident Activities
ATTACH;FMTTYPE=image/png:https://brunswickforest.com/wpc/uploads/bridge-group.png
ORGANIZER;CN="Ben Reischer":MAILTO:Ben.reischer@gmail.com
END:VEVENT
BEGIN:VEVENT
DTSTART;TZID=America/New_York:20240827T163000
DTEND;TZID=America/New_York:20240827T173000
DTSTAMP:20260424T223032
CREATED:20231012T132353Z
LAST-MODIFIED:20231012T132353Z
UID:10009622-1724776200-1724779800@brunswickforest.com
SUMMARY:Singles & More
DESCRIPTION:Cutlar Community Center \nTuesdays \n@4:30pm \nContact Tena Wright \nwright367@gmail.com \nWebsite: bfsam.org
URL:https://brunswickforest.com/events/singles-more-3/2024-08-27/
LOCATION:Cutler Community Center\, 1120 East Cutlar Crossing\, Leland\, NC\, 28451
CATEGORIES:Resident Activities
ATTACH;FMTTYPE=image/png:https://brunswickforest.com/wpc/uploads/Singles-and-more.png
ORGANIZER;CN="Tena Wright":MAILTO:wright367@gmail.com
END:VEVENT
BEGIN:VEVENT
DTSTART;TZID=America/New_York:20240827T123000
DTEND;TZID=America/New_York:20240827T143000
DTSTAMP:20260424T223032
CREATED:20231012T122946Z
LAST-MODIFIED:20231012T123046Z
UID:10007767-1724761800-1724769000@brunswickforest.com
SUMMARY:Bridge Group
DESCRIPTION:The Cutlar Community Center\, Tuesdays \n@12:30pm \nContact: Ben Reischer \nBen.reischer@gmail.com
URL:https://brunswickforest.com/events/bridge-group-5/2024-08-27/
LOCATION:Cutler Community Center\, 1120 East Cutlar Crossing\, Leland\, NC\, 28451
CATEGORIES:Resident Activities
ATTACH;FMTTYPE=image/png:https://brunswickforest.com/wpc/uploads/bridge-group.png
ORGANIZER;CN="Ben Reischer":MAILTO:Ben.reischer@gmail.com
END:VEVENT
BEGIN:VEVENT
DTSTART;TZID=America/New_York:20240820T163000
DTEND;TZID=America/New_York:20240820T173000
DTSTAMP:20260424T223032
CREATED:20231012T132353Z
LAST-MODIFIED:20231012T132353Z
UID:10009621-1724171400-1724175000@brunswickforest.com
SUMMARY:Singles & More
DESCRIPTION:Cutlar Community Center \nTuesdays \n@4:30pm \nContact Tena Wright \nwright367@gmail.com \nWebsite: bfsam.org
URL:https://brunswickforest.com/events/singles-more-3/2024-08-20/
LOCATION:Cutler Community Center\, 1120 East Cutlar Crossing\, Leland\, NC\, 28451
CATEGORIES:Resident Activities
ATTACH;FMTTYPE=image/png:https://brunswickforest.com/wpc/uploads/Singles-and-more.png
ORGANIZER;CN="Tena Wright":MAILTO:wright367@gmail.com
END:VEVENT
BEGIN:VEVENT
DTSTART;TZID=America/New_York:20240820T123000
DTEND;TZID=America/New_York:20240820T143000
DTSTAMP:20260424T223032
CREATED:20231012T122946Z
LAST-MODIFIED:20231012T123046Z
UID:10007766-1724157000-1724164200@brunswickforest.com
SUMMARY:Bridge Group
DESCRIPTION:The Cutlar Community Center\, Tuesdays \n@12:30pm \nContact: Ben Reischer \nBen.reischer@gmail.com
URL:https://brunswickforest.com/events/bridge-group-5/2024-08-20/
LOCATION:Cutler Community Center\, 1120 East Cutlar Crossing\, Leland\, NC\, 28451
CATEGORIES:Resident Activities
ATTACH;FMTTYPE=image/png:https://brunswickforest.com/wpc/uploads/bridge-group.png
ORGANIZER;CN="Ben Reischer":MAILTO:Ben.reischer@gmail.com
END:VEVENT
BEGIN:VEVENT
DTSTART;TZID=America/New_York:20240813T163000
DTEND;TZID=America/New_York:20240813T173000
DTSTAMP:20260424T223032
CREATED:20231012T132353Z
LAST-MODIFIED:20231012T132353Z
UID:10009620-1723566600-1723570200@brunswickforest.com
SUMMARY:Singles & More
DESCRIPTION:Cutlar Community Center \nTuesdays \n@4:30pm \nContact Tena Wright \nwright367@gmail.com \nWebsite: bfsam.org
URL:https://brunswickforest.com/events/singles-more-3/2024-08-13/
LOCATION:Cutler Community Center\, 1120 East Cutlar Crossing\, Leland\, NC\, 28451
CATEGORIES:Resident Activities
ATTACH;FMTTYPE=image/png:https://brunswickforest.com/wpc/uploads/Singles-and-more.png
ORGANIZER;CN="Tena Wright":MAILTO:wright367@gmail.com
END:VEVENT
BEGIN:VEVENT
DTSTART;TZID=America/New_York:20240813T123000
DTEND;TZID=America/New_York:20240813T143000
DTSTAMP:20260424T223032
CREATED:20231012T122946Z
LAST-MODIFIED:20231012T123046Z
UID:10007765-1723552200-1723559400@brunswickforest.com
SUMMARY:Bridge Group
DESCRIPTION:The Cutlar Community Center\, Tuesdays \n@12:30pm \nContact: Ben Reischer \nBen.reischer@gmail.com
URL:https://brunswickforest.com/events/bridge-group-5/2024-08-13/
LOCATION:Cutler Community Center\, 1120 East Cutlar Crossing\, Leland\, NC\, 28451
CATEGORIES:Resident Activities
ATTACH;FMTTYPE=image/png:https://brunswickforest.com/wpc/uploads/bridge-group.png
ORGANIZER;CN="Ben Reischer":MAILTO:Ben.reischer@gmail.com
END:VEVENT
BEGIN:VEVENT
DTSTART;TZID=America/New_York:20240806T163000
DTEND;TZID=America/New_York:20240806T173000
DTSTAMP:20260424T223032
CREATED:20231012T132353Z
LAST-MODIFIED:20231012T132353Z
UID:10009619-1722961800-1722965400@brunswickforest.com
SUMMARY:Singles & More
DESCRIPTION:Cutlar Community Center \nTuesdays \n@4:30pm \nContact Tena Wright \nwright367@gmail.com \nWebsite: bfsam.org
URL:https://brunswickforest.com/events/singles-more-3/2024-08-06/
LOCATION:Cutler Community Center\, 1120 East Cutlar Crossing\, Leland\, NC\, 28451
CATEGORIES:Resident Activities
ATTACH;FMTTYPE=image/png:https://brunswickforest.com/wpc/uploads/Singles-and-more.png
ORGANIZER;CN="Tena Wright":MAILTO:wright367@gmail.com
END:VEVENT
BEGIN:VEVENT
DTSTART;TZID=America/New_York:20240806T123000
DTEND;TZID=America/New_York:20240806T143000
DTSTAMP:20260424T223032
CREATED:20231012T122946Z
LAST-MODIFIED:20231012T123046Z
UID:10007764-1722947400-1722954600@brunswickforest.com
SUMMARY:Bridge Group
DESCRIPTION:The Cutlar Community Center\, Tuesdays \n@12:30pm \nContact: Ben Reischer \nBen.reischer@gmail.com
URL:https://brunswickforest.com/events/bridge-group-5/2024-08-06/
LOCATION:Cutler Community Center\, 1120 East Cutlar Crossing\, Leland\, NC\, 28451
CATEGORIES:Resident Activities
ATTACH;FMTTYPE=image/png:https://brunswickforest.com/wpc/uploads/bridge-group.png
ORGANIZER;CN="Ben Reischer":MAILTO:Ben.reischer@gmail.com
END:VEVENT
BEGIN:VEVENT
DTSTART;TZID=America/New_York:20240730T163000
DTEND;TZID=America/New_York:20240730T173000
DTSTAMP:20260424T223032
CREATED:20231012T132353Z
LAST-MODIFIED:20231012T132353Z
UID:10009618-1722357000-1722360600@brunswickforest.com
SUMMARY:Singles & More
DESCRIPTION:Cutlar Community Center \nTuesdays \n@4:30pm \nContact Tena Wright \nwright367@gmail.com \nWebsite: bfsam.org
URL:https://brunswickforest.com/events/singles-more-3/2024-07-30/
LOCATION:Cutler Community Center\, 1120 East Cutlar Crossing\, Leland\, NC\, 28451
CATEGORIES:Resident Activities
ATTACH;FMTTYPE=image/png:https://brunswickforest.com/wpc/uploads/Singles-and-more.png
ORGANIZER;CN="Tena Wright":MAILTO:wright367@gmail.com
END:VEVENT
BEGIN:VEVENT
DTSTART;TZID=America/New_York:20240730T123000
DTEND;TZID=America/New_York:20240730T143000
DTSTAMP:20260424T223032
CREATED:20231012T122946Z
LAST-MODIFIED:20231012T123046Z
UID:10007763-1722342600-1722349800@brunswickforest.com
SUMMARY:Bridge Group
DESCRIPTION:The Cutlar Community Center\, Tuesdays \n@12:30pm \nContact: Ben Reischer \nBen.reischer@gmail.com
URL:https://brunswickforest.com/events/bridge-group-5/2024-07-30/
LOCATION:Cutler Community Center\, 1120 East Cutlar Crossing\, Leland\, NC\, 28451
CATEGORIES:Resident Activities
ATTACH;FMTTYPE=image/png:https://brunswickforest.com/wpc/uploads/bridge-group.png
ORGANIZER;CN="Ben Reischer":MAILTO:Ben.reischer@gmail.com
END:VEVENT
BEGIN:VEVENT
DTSTART;TZID=America/New_York:20240723T163000
DTEND;TZID=America/New_York:20240723T173000
DTSTAMP:20260424T223032
CREATED:20231012T132353Z
LAST-MODIFIED:20231012T132353Z
UID:10009617-1721752200-1721755800@brunswickforest.com
SUMMARY:Singles & More
DESCRIPTION:Cutlar Community Center \nTuesdays \n@4:30pm \nContact Tena Wright \nwright367@gmail.com \nWebsite: bfsam.org
URL:https://brunswickforest.com/events/singles-more-3/2024-07-23/
LOCATION:Cutler Community Center\, 1120 East Cutlar Crossing\, Leland\, NC\, 28451
CATEGORIES:Resident Activities
ATTACH;FMTTYPE=image/png:https://brunswickforest.com/wpc/uploads/Singles-and-more.png
ORGANIZER;CN="Tena Wright":MAILTO:wright367@gmail.com
END:VEVENT
BEGIN:VEVENT
DTSTART;TZID=America/New_York:20240723T123000
DTEND;TZID=America/New_York:20240723T143000
DTSTAMP:20260424T223032
CREATED:20231012T122946Z
LAST-MODIFIED:20231012T123046Z
UID:10007762-1721737800-1721745000@brunswickforest.com
SUMMARY:Bridge Group
DESCRIPTION:The Cutlar Community Center\, Tuesdays \n@12:30pm \nContact: Ben Reischer \nBen.reischer@gmail.com
URL:https://brunswickforest.com/events/bridge-group-5/2024-07-23/
LOCATION:Cutler Community Center\, 1120 East Cutlar Crossing\, Leland\, NC\, 28451
CATEGORIES:Resident Activities
ATTACH;FMTTYPE=image/png:https://brunswickforest.com/wpc/uploads/bridge-group.png
ORGANIZER;CN="Ben Reischer":MAILTO:Ben.reischer@gmail.com
END:VEVENT
BEGIN:VEVENT
DTSTART;TZID=America/New_York:20240716T163000
DTEND;TZID=America/New_York:20240716T173000
DTSTAMP:20260424T223032
CREATED:20231012T132353Z
LAST-MODIFIED:20231012T132353Z
UID:10009616-1721147400-1721151000@brunswickforest.com
SUMMARY:Singles & More
DESCRIPTION:Cutlar Community Center \nTuesdays \n@4:30pm \nContact Tena Wright \nwright367@gmail.com \nWebsite: bfsam.org
URL:https://brunswickforest.com/events/singles-more-3/2024-07-16/
LOCATION:Cutler Community Center\, 1120 East Cutlar Crossing\, Leland\, NC\, 28451
CATEGORIES:Resident Activities
ATTACH;FMTTYPE=image/png:https://brunswickforest.com/wpc/uploads/Singles-and-more.png
ORGANIZER;CN="Tena Wright":MAILTO:wright367@gmail.com
END:VEVENT
BEGIN:VEVENT
DTSTART;TZID=America/New_York:20240716T123000
DTEND;TZID=America/New_York:20240716T143000
DTSTAMP:20260424T223032
CREATED:20231012T122946Z
LAST-MODIFIED:20231012T123046Z
UID:10007761-1721133000-1721140200@brunswickforest.com
SUMMARY:Bridge Group
DESCRIPTION:The Cutlar Community Center\, Tuesdays \n@12:30pm \nContact: Ben Reischer \nBen.reischer@gmail.com
URL:https://brunswickforest.com/events/bridge-group-5/2024-07-16/
LOCATION:Cutler Community Center\, 1120 East Cutlar Crossing\, Leland\, NC\, 28451
CATEGORIES:Resident Activities
ATTACH;FMTTYPE=image/png:https://brunswickforest.com/wpc/uploads/bridge-group.png
ORGANIZER;CN="Ben Reischer":MAILTO:Ben.reischer@gmail.com
END:VEVENT
BEGIN:VEVENT
DTSTART;TZID=America/New_York:20240709T163000
DTEND;TZID=America/New_York:20240709T173000
DTSTAMP:20260424T223032
CREATED:20231012T132353Z
LAST-MODIFIED:20231012T132353Z
UID:10009615-1720542600-1720546200@brunswickforest.com
SUMMARY:Singles & More
DESCRIPTION:Cutlar Community Center \nTuesdays \n@4:30pm \nContact Tena Wright \nwright367@gmail.com \nWebsite: bfsam.org
URL:https://brunswickforest.com/events/singles-more-3/2024-07-09/
LOCATION:Cutler Community Center\, 1120 East Cutlar Crossing\, Leland\, NC\, 28451
CATEGORIES:Resident Activities
ATTACH;FMTTYPE=image/png:https://brunswickforest.com/wpc/uploads/Singles-and-more.png
ORGANIZER;CN="Tena Wright":MAILTO:wright367@gmail.com
END:VEVENT
BEGIN:VEVENT
DTSTART;TZID=America/New_York:20240709T123000
DTEND;TZID=America/New_York:20240709T143000
DTSTAMP:20260424T223032
CREATED:20231012T122946Z
LAST-MODIFIED:20231012T123046Z
UID:10007760-1720528200-1720535400@brunswickforest.com
SUMMARY:Bridge Group
DESCRIPTION:The Cutlar Community Center\, Tuesdays \n@12:30pm \nContact: Ben Reischer \nBen.reischer@gmail.com
URL:https://brunswickforest.com/events/bridge-group-5/2024-07-09/
LOCATION:Cutler Community Center\, 1120 East Cutlar Crossing\, Leland\, NC\, 28451
CATEGORIES:Resident Activities
ATTACH;FMTTYPE=image/png:https://brunswickforest.com/wpc/uploads/bridge-group.png
ORGANIZER;CN="Ben Reischer":MAILTO:Ben.reischer@gmail.com
END:VEVENT
BEGIN:VEVENT
DTSTART;TZID=America/New_York:20240702T170000
DTEND;TZID=America/New_York:20240702T183000
DTSTAMP:20260424T223032
CREATED:20240520T152039Z
LAST-MODIFIED:20240520T202846Z
UID:10014735-1719939600-1719945000@brunswickforest.com
SUMMARY:Leland Networking Women
DESCRIPTION:Aqupressue & Qigong \nJeanne will discuss acupressure and demonstrate some ways to relieve stress. She will also add some simple qigong moves that will also help. \n 
URL:https://brunswickforest.com/events/networking-women/
LOCATION:Cutler Community Center\, 1120 East Cutlar Crossing\, Leland\, NC\, 28451
CATEGORIES:Resident Activities
ATTACH;FMTTYPE=image/png:https://brunswickforest.com/wpc/uploads/networking-women.png
ORGANIZER;CN="Barbara Stanislawski":MAILTO:pccoaching@gmail.com
END:VEVENT
BEGIN:VEVENT
DTSTART;TZID=America/New_York:20240702T163000
DTEND;TZID=America/New_York:20240702T173000
DTSTAMP:20260424T223032
CREATED:20231012T132353Z
LAST-MODIFIED:20231012T132353Z
UID:10009614-1719937800-1719941400@brunswickforest.com
SUMMARY:Singles & More
DESCRIPTION:Cutlar Community Center \nTuesdays \n@4:30pm \nContact Tena Wright \nwright367@gmail.com \nWebsite: bfsam.org
URL:https://brunswickforest.com/events/singles-more-3/2024-07-02/
LOCATION:Cutler Community Center\, 1120 East Cutlar Crossing\, Leland\, NC\, 28451
CATEGORIES:Resident Activities
ATTACH;FMTTYPE=image/png:https://brunswickforest.com/wpc/uploads/Singles-and-more.png
ORGANIZER;CN="Tena Wright":MAILTO:wright367@gmail.com
END:VEVENT
BEGIN:VEVENT
DTSTART;TZID=America/New_York:20240702T123000
DTEND;TZID=America/New_York:20240702T143000
DTSTAMP:20260424T223032
CREATED:20231012T122946Z
LAST-MODIFIED:20231012T123046Z
UID:10007759-1719923400-1719930600@brunswickforest.com
SUMMARY:Bridge Group
DESCRIPTION:The Cutlar Community Center\, Tuesdays \n@12:30pm \nContact: Ben Reischer \nBen.reischer@gmail.com
URL:https://brunswickforest.com/events/bridge-group-5/2024-07-02/
LOCATION:Cutler Community Center\, 1120 East Cutlar Crossing\, Leland\, NC\, 28451
CATEGORIES:Resident Activities
ATTACH;FMTTYPE=image/png:https://brunswickforest.com/wpc/uploads/bridge-group.png
ORGANIZER;CN="Ben Reischer":MAILTO:Ben.reischer@gmail.com
END:VEVENT
BEGIN:VEVENT
DTSTART;TZID=America/New_York:20240625T163000
DTEND;TZID=America/New_York:20240625T173000
DTSTAMP:20260424T223032
CREATED:20231012T132353Z
LAST-MODIFIED:20231012T132353Z
UID:10009613-1719333000-1719336600@brunswickforest.com
SUMMARY:Singles & More
DESCRIPTION:Cutlar Community Center \nTuesdays \n@4:30pm \nContact Tena Wright \nwright367@gmail.com \nWebsite: bfsam.org
URL:https://brunswickforest.com/events/singles-more-3/2024-06-25/
LOCATION:Cutler Community Center\, 1120 East Cutlar Crossing\, Leland\, NC\, 28451
CATEGORIES:Resident Activities
ATTACH;FMTTYPE=image/png:https://brunswickforest.com/wpc/uploads/Singles-and-more.png
ORGANIZER;CN="Tena Wright":MAILTO:wright367@gmail.com
END:VEVENT
BEGIN:VEVENT
DTSTART;TZID=America/New_York:20240625T123000
DTEND;TZID=America/New_York:20240625T143000
DTSTAMP:20260424T223032
CREATED:20231012T122946Z
LAST-MODIFIED:20231012T123046Z
UID:10007758-1719318600-1719325800@brunswickforest.com
SUMMARY:Bridge Group
DESCRIPTION:The Cutlar Community Center\, Tuesdays \n@12:30pm \nContact: Ben Reischer \nBen.reischer@gmail.com
URL:https://brunswickforest.com/events/bridge-group-5/2024-06-25/
LOCATION:Cutler Community Center\, 1120 East Cutlar Crossing\, Leland\, NC\, 28451
CATEGORIES:Resident Activities
ATTACH;FMTTYPE=image/png:https://brunswickforest.com/wpc/uploads/bridge-group.png
ORGANIZER;CN="Ben Reischer":MAILTO:Ben.reischer@gmail.com
END:VEVENT
BEGIN:VEVENT
DTSTART;TZID=America/New_York:20240618T163000
DTEND;TZID=America/New_York:20240618T173000
DTSTAMP:20260424T223032
CREATED:20231012T132353Z
LAST-MODIFIED:20231012T132353Z
UID:10009612-1718728200-1718731800@brunswickforest.com
SUMMARY:Singles & More
DESCRIPTION:Cutlar Community Center \nTuesdays \n@4:30pm \nContact Tena Wright \nwright367@gmail.com \nWebsite: bfsam.org
URL:https://brunswickforest.com/events/singles-more-3/2024-06-18/
LOCATION:Cutler Community Center\, 1120 East Cutlar Crossing\, Leland\, NC\, 28451
CATEGORIES:Resident Activities
ATTACH;FMTTYPE=image/png:https://brunswickforest.com/wpc/uploads/Singles-and-more.png
ORGANIZER;CN="Tena Wright":MAILTO:wright367@gmail.com
END:VEVENT
BEGIN:VEVENT
DTSTART;TZID=America/New_York:20240618T123000
DTEND;TZID=America/New_York:20240618T143000
DTSTAMP:20260424T223032
CREATED:20231012T122946Z
LAST-MODIFIED:20231012T123046Z
UID:10007757-1718713800-1718721000@brunswickforest.com
SUMMARY:Bridge Group
DESCRIPTION:The Cutlar Community Center\, Tuesdays \n@12:30pm \nContact: Ben Reischer \nBen.reischer@gmail.com
URL:https://brunswickforest.com/events/bridge-group-5/2024-06-18/
LOCATION:Cutler Community Center\, 1120 East Cutlar Crossing\, Leland\, NC\, 28451
CATEGORIES:Resident Activities
ATTACH;FMTTYPE=image/png:https://brunswickforest.com/wpc/uploads/bridge-group.png
ORGANIZER;CN="Ben Reischer":MAILTO:Ben.reischer@gmail.com
END:VEVENT
BEGIN:VEVENT
DTSTART;TZID=America/New_York:20240611T163000
DTEND;TZID=America/New_York:20240611T173000
DTSTAMP:20260424T223032
CREATED:20231012T132353Z
LAST-MODIFIED:20231012T132353Z
UID:10009611-1718123400-1718127000@brunswickforest.com
SUMMARY:Singles & More
DESCRIPTION:Cutlar Community Center \nTuesdays \n@4:30pm \nContact Tena Wright \nwright367@gmail.com \nWebsite: bfsam.org
URL:https://brunswickforest.com/events/singles-more-3/2024-06-11/
LOCATION:Cutler Community Center\, 1120 East Cutlar Crossing\, Leland\, NC\, 28451
CATEGORIES:Resident Activities
ATTACH;FMTTYPE=image/png:https://brunswickforest.com/wpc/uploads/Singles-and-more.png
ORGANIZER;CN="Tena Wright":MAILTO:wright367@gmail.com
END:VEVENT
BEGIN:VEVENT
DTSTART;TZID=America/New_York:20240611T123000
DTEND;TZID=America/New_York:20240611T143000
DTSTAMP:20260424T223032
CREATED:20231012T122946Z
LAST-MODIFIED:20231012T123046Z
UID:10007756-1718109000-1718116200@brunswickforest.com
SUMMARY:Bridge Group
DESCRIPTION:The Cutlar Community Center\, Tuesdays \n@12:30pm \nContact: Ben Reischer \nBen.reischer@gmail.com
URL:https://brunswickforest.com/events/bridge-group-5/2024-06-11/
LOCATION:Cutler Community Center\, 1120 East Cutlar Crossing\, Leland\, NC\, 28451
CATEGORIES:Resident Activities
ATTACH;FMTTYPE=image/png:https://brunswickforest.com/wpc/uploads/bridge-group.png
ORGANIZER;CN="Ben Reischer":MAILTO:Ben.reischer@gmail.com
END:VEVENT
BEGIN:VEVENT
DTSTART;TZID=America/New_York:20240604T170000
DTEND;TZID=America/New_York:20240604T183000
DTSTAMP:20260424T223032
CREATED:20240520T145906Z
LAST-MODIFIED:20240520T154134Z
UID:10014476-1717520400-1717525800@brunswickforest.com
SUMMARY:Leland Networking Women
DESCRIPTION:Topic: Life Organized \nThe difference and purpose you may be looking for may just be organization. Everything has energy and disorganized “stuff” creates chaotic energy. Come listen to Michelle help you make the transition from chaotic to calm surroundings.  Are you looking for a fresh perspective in a space that doesn’t quite look and function how you would like? Join us on June 4th.
URL:https://brunswickforest.com/events/leland-networking-women/
LOCATION:Cutler Community Center\, 1120 East Cutlar Crossing\, Leland\, NC\, 28451
CATEGORIES:Resident Activities
ATTACH;FMTTYPE=image/png:https://brunswickforest.com/wpc/uploads/networking-women.png
ORGANIZER;CN="Barbara Stanislawski":MAILTO:pccoaching@gmail.com
END:VEVENT
BEGIN:VEVENT
DTSTART;TZID=America/New_York:20240604T163000
DTEND;TZID=America/New_York:20240604T173000
DTSTAMP:20260424T223032
CREATED:20231012T132353Z
LAST-MODIFIED:20231012T132353Z
UID:10009610-1717518600-1717522200@brunswickforest.com
SUMMARY:Singles & More
DESCRIPTION:Cutlar Community Center \nTuesdays \n@4:30pm \nContact Tena Wright \nwright367@gmail.com \nWebsite: bfsam.org
URL:https://brunswickforest.com/events/singles-more-3/2024-06-04/
LOCATION:Cutler Community Center\, 1120 East Cutlar Crossing\, Leland\, NC\, 28451
CATEGORIES:Resident Activities
ATTACH;FMTTYPE=image/png:https://brunswickforest.com/wpc/uploads/Singles-and-more.png
ORGANIZER;CN="Tena Wright":MAILTO:wright367@gmail.com
END:VEVENT
BEGIN:VEVENT
DTSTART;TZID=America/New_York:20240604T123000
DTEND;TZID=America/New_York:20240604T143000
DTSTAMP:20260424T223032
CREATED:20231012T122946Z
LAST-MODIFIED:20231012T123046Z
UID:10007755-1717504200-1717511400@brunswickforest.com
SUMMARY:Bridge Group
DESCRIPTION:The Cutlar Community Center\, Tuesdays \n@12:30pm \nContact: Ben Reischer \nBen.reischer@gmail.com
URL:https://brunswickforest.com/events/bridge-group-5/2024-06-04/
LOCATION:Cutler Community Center\, 1120 East Cutlar Crossing\, Leland\, NC\, 28451
CATEGORIES:Resident Activities
ATTACH;FMTTYPE=image/png:https://brunswickforest.com/wpc/uploads/bridge-group.png
ORGANIZER;CN="Ben Reischer":MAILTO:Ben.reischer@gmail.com
END:VEVENT
END:VCALENDAR