BEGIN:VCALENDAR
VERSION:2.0
PRODID:-//Brunswick Forest - ECPv6.15.20//NONSGML v1.0//EN
CALSCALE:GREGORIAN
METHOD:PUBLISH
X-ORIGINAL-URL:https://brunswickforest.com
X-WR-CALDESC:Events for Brunswick Forest
REFRESH-INTERVAL;VALUE=DURATION:PT1H
X-Robots-Tag:noindex
X-PUBLISHED-TTL:PT1H
BEGIN:VTIMEZONE
TZID:America/New_York
BEGIN:DAYLIGHT
TZOFFSETFROM:-0500
TZOFFSETTO:-0400
TZNAME:EDT
DTSTART:20260308T070000
END:DAYLIGHT
BEGIN:STANDARD
TZOFFSETFROM:-0400
TZOFFSETTO:-0500
TZNAME:EST
DTSTART:20261101T060000
END:STANDARD
BEGIN:DAYLIGHT
TZOFFSETFROM:-0500
TZOFFSETTO:-0400
TZNAME:EDT
DTSTART:20270314T070000
END:DAYLIGHT
BEGIN:STANDARD
TZOFFSETFROM:-0400
TZOFFSETTO:-0500
TZNAME:EST
DTSTART:20271107T060000
END:STANDARD
BEGIN:DAYLIGHT
TZOFFSETFROM:-0500
TZOFFSETTO:-0400
TZNAME:EDT
DTSTART:20280312T070000
END:DAYLIGHT
BEGIN:STANDARD
TZOFFSETFROM:-0400
TZOFFSETTO:-0500
TZNAME:EST
DTSTART:20281105T060000
END:STANDARD
BEGIN:DAYLIGHT
TZOFFSETFROM:-0500
TZOFFSETTO:-0400
TZNAME:EDT
DTSTART:20290311T070000
END:DAYLIGHT
BEGIN:STANDARD
TZOFFSETFROM:-0400
TZOFFSETTO:-0500
TZNAME:EST
DTSTART:20291104T060000
END:STANDARD
END:VTIMEZONE
BEGIN:VEVENT
DTSTART;TZID=America/New_York:20271123T163000
DTEND;TZID=America/New_York:20271123T173000
DTSTAMP:20260424T124417
CREATED:20231012T132353Z
LAST-MODIFIED:20231012T132353Z
UID:10009791-1826987400-1826991000@brunswickforest.com
SUMMARY:Singles & More
DESCRIPTION:Cutlar Community Center \nTuesdays \n@4:30pm \nContact Tena Wright \nwright367@gmail.com \nWebsite: bfsam.org
URL:https://brunswickforest.com/events/singles-more-3/2027-11-23/
LOCATION:Cutler Community Center\, 1120 East Cutlar Crossing\, Leland\, NC\, 28451
CATEGORIES:Resident Activities
ATTACH;FMTTYPE=image/png:https://brunswickforest.com/wpc/uploads/Singles-and-more.png
ORGANIZER;CN="Tena Wright":MAILTO:wright367@gmail.com
END:VEVENT
BEGIN:VEVENT
DTSTART;TZID=America/New_York:20271130T123000
DTEND;TZID=America/New_York:20271130T143000
DTSTAMP:20260424T124417
CREATED:20231012T122946Z
LAST-MODIFIED:20231012T123046Z
UID:10007937-1827577800-1827585000@brunswickforest.com
SUMMARY:Bridge Group
DESCRIPTION:The Cutlar Community Center\, Tuesdays \n@12:30pm \nContact: Ben Reischer \nBen.reischer@gmail.com
URL:https://brunswickforest.com/events/bridge-group-5/2027-11-30/
LOCATION:Cutler Community Center\, 1120 East Cutlar Crossing\, Leland\, NC\, 28451
CATEGORIES:Resident Activities
ATTACH;FMTTYPE=image/png:https://brunswickforest.com/wpc/uploads/bridge-group.png
ORGANIZER;CN="Ben Reischer":MAILTO:Ben.reischer@gmail.com
END:VEVENT
BEGIN:VEVENT
DTSTART;TZID=America/New_York:20271130T163000
DTEND;TZID=America/New_York:20271130T173000
DTSTAMP:20260424T124417
CREATED:20231012T132353Z
LAST-MODIFIED:20231012T132353Z
UID:10009792-1827592200-1827595800@brunswickforest.com
SUMMARY:Singles & More
DESCRIPTION:Cutlar Community Center \nTuesdays \n@4:30pm \nContact Tena Wright \nwright367@gmail.com \nWebsite: bfsam.org
URL:https://brunswickforest.com/events/singles-more-3/2027-11-30/
LOCATION:Cutler Community Center\, 1120 East Cutlar Crossing\, Leland\, NC\, 28451
CATEGORIES:Resident Activities
ATTACH;FMTTYPE=image/png:https://brunswickforest.com/wpc/uploads/Singles-and-more.png
ORGANIZER;CN="Tena Wright":MAILTO:wright367@gmail.com
END:VEVENT
BEGIN:VEVENT
DTSTART;TZID=America/New_York:20271207T123000
DTEND;TZID=America/New_York:20271207T143000
DTSTAMP:20260424T124417
CREATED:20231012T122946Z
LAST-MODIFIED:20231012T123046Z
UID:10007938-1828182600-1828189800@brunswickforest.com
SUMMARY:Bridge Group
DESCRIPTION:The Cutlar Community Center\, Tuesdays \n@12:30pm \nContact: Ben Reischer \nBen.reischer@gmail.com
URL:https://brunswickforest.com/events/bridge-group-5/2027-12-07/
LOCATION:Cutler Community Center\, 1120 East Cutlar Crossing\, Leland\, NC\, 28451
CATEGORIES:Resident Activities
ATTACH;FMTTYPE=image/png:https://brunswickforest.com/wpc/uploads/bridge-group.png
ORGANIZER;CN="Ben Reischer":MAILTO:Ben.reischer@gmail.com
END:VEVENT
BEGIN:VEVENT
DTSTART;TZID=America/New_York:20271207T163000
DTEND;TZID=America/New_York:20271207T173000
DTSTAMP:20260424T124417
CREATED:20231012T132353Z
LAST-MODIFIED:20231012T132353Z
UID:10009793-1828197000-1828200600@brunswickforest.com
SUMMARY:Singles & More
DESCRIPTION:Cutlar Community Center \nTuesdays \n@4:30pm \nContact Tena Wright \nwright367@gmail.com \nWebsite: bfsam.org
URL:https://brunswickforest.com/events/singles-more-3/2027-12-07/
LOCATION:Cutler Community Center\, 1120 East Cutlar Crossing\, Leland\, NC\, 28451
CATEGORIES:Resident Activities
ATTACH;FMTTYPE=image/png:https://brunswickforest.com/wpc/uploads/Singles-and-more.png
ORGANIZER;CN="Tena Wright":MAILTO:wright367@gmail.com
END:VEVENT
BEGIN:VEVENT
DTSTART;TZID=America/New_York:20271214T123000
DTEND;TZID=America/New_York:20271214T143000
DTSTAMP:20260424T124417
CREATED:20231012T122946Z
LAST-MODIFIED:20231012T123046Z
UID:10007939-1828787400-1828794600@brunswickforest.com
SUMMARY:Bridge Group
DESCRIPTION:The Cutlar Community Center\, Tuesdays \n@12:30pm \nContact: Ben Reischer \nBen.reischer@gmail.com
URL:https://brunswickforest.com/events/bridge-group-5/2027-12-14/
LOCATION:Cutler Community Center\, 1120 East Cutlar Crossing\, Leland\, NC\, 28451
CATEGORIES:Resident Activities
ATTACH;FMTTYPE=image/png:https://brunswickforest.com/wpc/uploads/bridge-group.png
ORGANIZER;CN="Ben Reischer":MAILTO:Ben.reischer@gmail.com
END:VEVENT
BEGIN:VEVENT
DTSTART;TZID=America/New_York:20271214T163000
DTEND;TZID=America/New_York:20271214T173000
DTSTAMP:20260424T124417
CREATED:20231012T132353Z
LAST-MODIFIED:20231012T132353Z
UID:10009794-1828801800-1828805400@brunswickforest.com
SUMMARY:Singles & More
DESCRIPTION:Cutlar Community Center \nTuesdays \n@4:30pm \nContact Tena Wright \nwright367@gmail.com \nWebsite: bfsam.org
URL:https://brunswickforest.com/events/singles-more-3/2027-12-14/
LOCATION:Cutler Community Center\, 1120 East Cutlar Crossing\, Leland\, NC\, 28451
CATEGORIES:Resident Activities
ATTACH;FMTTYPE=image/png:https://brunswickforest.com/wpc/uploads/Singles-and-more.png
ORGANIZER;CN="Tena Wright":MAILTO:wright367@gmail.com
END:VEVENT
BEGIN:VEVENT
DTSTART;TZID=America/New_York:20271221T123000
DTEND;TZID=America/New_York:20271221T143000
DTSTAMP:20260424T124417
CREATED:20231012T122946Z
LAST-MODIFIED:20231012T123046Z
UID:10007940-1829392200-1829399400@brunswickforest.com
SUMMARY:Bridge Group
DESCRIPTION:The Cutlar Community Center\, Tuesdays \n@12:30pm \nContact: Ben Reischer \nBen.reischer@gmail.com
URL:https://brunswickforest.com/events/bridge-group-5/2027-12-21/
LOCATION:Cutler Community Center\, 1120 East Cutlar Crossing\, Leland\, NC\, 28451
CATEGORIES:Resident Activities
ATTACH;FMTTYPE=image/png:https://brunswickforest.com/wpc/uploads/bridge-group.png
ORGANIZER;CN="Ben Reischer":MAILTO:Ben.reischer@gmail.com
END:VEVENT
BEGIN:VEVENT
DTSTART;TZID=America/New_York:20271221T163000
DTEND;TZID=America/New_York:20271221T173000
DTSTAMP:20260424T124417
CREATED:20231012T132353Z
LAST-MODIFIED:20231012T132353Z
UID:10009795-1829406600-1829410200@brunswickforest.com
SUMMARY:Singles & More
DESCRIPTION:Cutlar Community Center \nTuesdays \n@4:30pm \nContact Tena Wright \nwright367@gmail.com \nWebsite: bfsam.org
URL:https://brunswickforest.com/events/singles-more-3/2027-12-21/
LOCATION:Cutler Community Center\, 1120 East Cutlar Crossing\, Leland\, NC\, 28451
CATEGORIES:Resident Activities
ATTACH;FMTTYPE=image/png:https://brunswickforest.com/wpc/uploads/Singles-and-more.png
ORGANIZER;CN="Tena Wright":MAILTO:wright367@gmail.com
END:VEVENT
BEGIN:VEVENT
DTSTART;TZID=America/New_York:20271228T123000
DTEND;TZID=America/New_York:20271228T143000
DTSTAMP:20260424T124417
CREATED:20231012T122946Z
LAST-MODIFIED:20231012T123046Z
UID:10007941-1829997000-1830004200@brunswickforest.com
SUMMARY:Bridge Group
DESCRIPTION:The Cutlar Community Center\, Tuesdays \n@12:30pm \nContact: Ben Reischer \nBen.reischer@gmail.com
URL:https://brunswickforest.com/events/bridge-group-5/2027-12-28/
LOCATION:Cutler Community Center\, 1120 East Cutlar Crossing\, Leland\, NC\, 28451
CATEGORIES:Resident Activities
ATTACH;FMTTYPE=image/png:https://brunswickforest.com/wpc/uploads/bridge-group.png
ORGANIZER;CN="Ben Reischer":MAILTO:Ben.reischer@gmail.com
END:VEVENT
BEGIN:VEVENT
DTSTART;TZID=America/New_York:20271228T163000
DTEND;TZID=America/New_York:20271228T173000
DTSTAMP:20260424T124417
CREATED:20231012T132353Z
LAST-MODIFIED:20231012T132353Z
UID:10009796-1830011400-1830015000@brunswickforest.com
SUMMARY:Singles & More
DESCRIPTION:Cutlar Community Center \nTuesdays \n@4:30pm \nContact Tena Wright \nwright367@gmail.com \nWebsite: bfsam.org
URL:https://brunswickforest.com/events/singles-more-3/2027-12-28/
LOCATION:Cutler Community Center\, 1120 East Cutlar Crossing\, Leland\, NC\, 28451
CATEGORIES:Resident Activities
ATTACH;FMTTYPE=image/png:https://brunswickforest.com/wpc/uploads/Singles-and-more.png
ORGANIZER;CN="Tena Wright":MAILTO:wright367@gmail.com
END:VEVENT
BEGIN:VEVENT
DTSTART;TZID=America/New_York:20280104T123000
DTEND;TZID=America/New_York:20280104T143000
DTSTAMP:20260424T124417
CREATED:20231012T122946Z
LAST-MODIFIED:20231012T123046Z
UID:10007942-1830601800-1830609000@brunswickforest.com
SUMMARY:Bridge Group
DESCRIPTION:The Cutlar Community Center\, Tuesdays \n@12:30pm \nContact: Ben Reischer \nBen.reischer@gmail.com
URL:https://brunswickforest.com/events/bridge-group-5/2028-01-04/
LOCATION:Cutler Community Center\, 1120 East Cutlar Crossing\, Leland\, NC\, 28451
CATEGORIES:Resident Activities
ATTACH;FMTTYPE=image/png:https://brunswickforest.com/wpc/uploads/bridge-group.png
ORGANIZER;CN="Ben Reischer":MAILTO:Ben.reischer@gmail.com
END:VEVENT
BEGIN:VEVENT
DTSTART;TZID=America/New_York:20280104T163000
DTEND;TZID=America/New_York:20280104T173000
DTSTAMP:20260424T124417
CREATED:20231012T132353Z
LAST-MODIFIED:20231012T132353Z
UID:10009797-1830616200-1830619800@brunswickforest.com
SUMMARY:Singles & More
DESCRIPTION:Cutlar Community Center \nTuesdays \n@4:30pm \nContact Tena Wright \nwright367@gmail.com \nWebsite: bfsam.org
URL:https://brunswickforest.com/events/singles-more-3/2028-01-04/
LOCATION:Cutler Community Center\, 1120 East Cutlar Crossing\, Leland\, NC\, 28451
CATEGORIES:Resident Activities
ATTACH;FMTTYPE=image/png:https://brunswickforest.com/wpc/uploads/Singles-and-more.png
ORGANIZER;CN="Tena Wright":MAILTO:wright367@gmail.com
END:VEVENT
BEGIN:VEVENT
DTSTART;TZID=America/New_York:20280111T123000
DTEND;TZID=America/New_York:20280111T143000
DTSTAMP:20260424T124417
CREATED:20231012T122946Z
LAST-MODIFIED:20231012T123046Z
UID:10007943-1831206600-1831213800@brunswickforest.com
SUMMARY:Bridge Group
DESCRIPTION:The Cutlar Community Center\, Tuesdays \n@12:30pm \nContact: Ben Reischer \nBen.reischer@gmail.com
URL:https://brunswickforest.com/events/bridge-group-5/2028-01-11/
LOCATION:Cutler Community Center\, 1120 East Cutlar Crossing\, Leland\, NC\, 28451
CATEGORIES:Resident Activities
ATTACH;FMTTYPE=image/png:https://brunswickforest.com/wpc/uploads/bridge-group.png
ORGANIZER;CN="Ben Reischer":MAILTO:Ben.reischer@gmail.com
END:VEVENT
BEGIN:VEVENT
DTSTART;TZID=America/New_York:20280111T163000
DTEND;TZID=America/New_York:20280111T173000
DTSTAMP:20260424T124417
CREATED:20231012T132353Z
LAST-MODIFIED:20231012T132353Z
UID:10009798-1831221000-1831224600@brunswickforest.com
SUMMARY:Singles & More
DESCRIPTION:Cutlar Community Center \nTuesdays \n@4:30pm \nContact Tena Wright \nwright367@gmail.com \nWebsite: bfsam.org
URL:https://brunswickforest.com/events/singles-more-3/2028-01-11/
LOCATION:Cutler Community Center\, 1120 East Cutlar Crossing\, Leland\, NC\, 28451
CATEGORIES:Resident Activities
ATTACH;FMTTYPE=image/png:https://brunswickforest.com/wpc/uploads/Singles-and-more.png
ORGANIZER;CN="Tena Wright":MAILTO:wright367@gmail.com
END:VEVENT
BEGIN:VEVENT
DTSTART;TZID=America/New_York:20280118T123000
DTEND;TZID=America/New_York:20280118T143000
DTSTAMP:20260424T124417
CREATED:20231012T122946Z
LAST-MODIFIED:20231012T123046Z
UID:10007944-1831811400-1831818600@brunswickforest.com
SUMMARY:Bridge Group
DESCRIPTION:The Cutlar Community Center\, Tuesdays \n@12:30pm \nContact: Ben Reischer \nBen.reischer@gmail.com
URL:https://brunswickforest.com/events/bridge-group-5/2028-01-18/
LOCATION:Cutler Community Center\, 1120 East Cutlar Crossing\, Leland\, NC\, 28451
CATEGORIES:Resident Activities
ATTACH;FMTTYPE=image/png:https://brunswickforest.com/wpc/uploads/bridge-group.png
ORGANIZER;CN="Ben Reischer":MAILTO:Ben.reischer@gmail.com
END:VEVENT
BEGIN:VEVENT
DTSTART;TZID=America/New_York:20280118T163000
DTEND;TZID=America/New_York:20280118T173000
DTSTAMP:20260424T124417
CREATED:20231012T132353Z
LAST-MODIFIED:20231012T132353Z
UID:10009799-1831825800-1831829400@brunswickforest.com
SUMMARY:Singles & More
DESCRIPTION:Cutlar Community Center \nTuesdays \n@4:30pm \nContact Tena Wright \nwright367@gmail.com \nWebsite: bfsam.org
URL:https://brunswickforest.com/events/singles-more-3/2028-01-18/
LOCATION:Cutler Community Center\, 1120 East Cutlar Crossing\, Leland\, NC\, 28451
CATEGORIES:Resident Activities
ATTACH;FMTTYPE=image/png:https://brunswickforest.com/wpc/uploads/Singles-and-more.png
ORGANIZER;CN="Tena Wright":MAILTO:wright367@gmail.com
END:VEVENT
BEGIN:VEVENT
DTSTART;TZID=America/New_York:20280125T123000
DTEND;TZID=America/New_York:20280125T143000
DTSTAMP:20260424T124417
CREATED:20231012T122946Z
LAST-MODIFIED:20231012T123046Z
UID:10007945-1832416200-1832423400@brunswickforest.com
SUMMARY:Bridge Group
DESCRIPTION:The Cutlar Community Center\, Tuesdays \n@12:30pm \nContact: Ben Reischer \nBen.reischer@gmail.com
URL:https://brunswickforest.com/events/bridge-group-5/2028-01-25/
LOCATION:Cutler Community Center\, 1120 East Cutlar Crossing\, Leland\, NC\, 28451
CATEGORIES:Resident Activities
ATTACH;FMTTYPE=image/png:https://brunswickforest.com/wpc/uploads/bridge-group.png
ORGANIZER;CN="Ben Reischer":MAILTO:Ben.reischer@gmail.com
END:VEVENT
BEGIN:VEVENT
DTSTART;TZID=America/New_York:20280125T163000
DTEND;TZID=America/New_York:20280125T173000
DTSTAMP:20260424T124417
CREATED:20231012T132353Z
LAST-MODIFIED:20231012T132353Z
UID:10009800-1832430600-1832434200@brunswickforest.com
SUMMARY:Singles & More
DESCRIPTION:Cutlar Community Center \nTuesdays \n@4:30pm \nContact Tena Wright \nwright367@gmail.com \nWebsite: bfsam.org
URL:https://brunswickforest.com/events/singles-more-3/2028-01-25/
LOCATION:Cutler Community Center\, 1120 East Cutlar Crossing\, Leland\, NC\, 28451
CATEGORIES:Resident Activities
ATTACH;FMTTYPE=image/png:https://brunswickforest.com/wpc/uploads/Singles-and-more.png
ORGANIZER;CN="Tena Wright":MAILTO:wright367@gmail.com
END:VEVENT
BEGIN:VEVENT
DTSTART;TZID=America/New_York:20280201T123000
DTEND;TZID=America/New_York:20280201T143000
DTSTAMP:20260424T124417
CREATED:20231012T122946Z
LAST-MODIFIED:20231012T123046Z
UID:10007946-1833021000-1833028200@brunswickforest.com
SUMMARY:Bridge Group
DESCRIPTION:The Cutlar Community Center\, Tuesdays \n@12:30pm \nContact: Ben Reischer \nBen.reischer@gmail.com
URL:https://brunswickforest.com/events/bridge-group-5/2028-02-01/
LOCATION:Cutler Community Center\, 1120 East Cutlar Crossing\, Leland\, NC\, 28451
CATEGORIES:Resident Activities
ATTACH;FMTTYPE=image/png:https://brunswickforest.com/wpc/uploads/bridge-group.png
ORGANIZER;CN="Ben Reischer":MAILTO:Ben.reischer@gmail.com
END:VEVENT
BEGIN:VEVENT
DTSTART;TZID=America/New_York:20280201T163000
DTEND;TZID=America/New_York:20280201T173000
DTSTAMP:20260424T124417
CREATED:20231012T132353Z
LAST-MODIFIED:20231012T132353Z
UID:10009801-1833035400-1833039000@brunswickforest.com
SUMMARY:Singles & More
DESCRIPTION:Cutlar Community Center \nTuesdays \n@4:30pm \nContact Tena Wright \nwright367@gmail.com \nWebsite: bfsam.org
URL:https://brunswickforest.com/events/singles-more-3/2028-02-01/
LOCATION:Cutler Community Center\, 1120 East Cutlar Crossing\, Leland\, NC\, 28451
CATEGORIES:Resident Activities
ATTACH;FMTTYPE=image/png:https://brunswickforest.com/wpc/uploads/Singles-and-more.png
ORGANIZER;CN="Tena Wright":MAILTO:wright367@gmail.com
END:VEVENT
BEGIN:VEVENT
DTSTART;TZID=America/New_York:20280208T123000
DTEND;TZID=America/New_York:20280208T143000
DTSTAMP:20260424T124417
CREATED:20231012T122946Z
LAST-MODIFIED:20231012T123046Z
UID:10007947-1833625800-1833633000@brunswickforest.com
SUMMARY:Bridge Group
DESCRIPTION:The Cutlar Community Center\, Tuesdays \n@12:30pm \nContact: Ben Reischer \nBen.reischer@gmail.com
URL:https://brunswickforest.com/events/bridge-group-5/2028-02-08/
LOCATION:Cutler Community Center\, 1120 East Cutlar Crossing\, Leland\, NC\, 28451
CATEGORIES:Resident Activities
ATTACH;FMTTYPE=image/png:https://brunswickforest.com/wpc/uploads/bridge-group.png
ORGANIZER;CN="Ben Reischer":MAILTO:Ben.reischer@gmail.com
END:VEVENT
BEGIN:VEVENT
DTSTART;TZID=America/New_York:20280208T163000
DTEND;TZID=America/New_York:20280208T173000
DTSTAMP:20260424T124417
CREATED:20231012T132353Z
LAST-MODIFIED:20231012T132353Z
UID:10009802-1833640200-1833643800@brunswickforest.com
SUMMARY:Singles & More
DESCRIPTION:Cutlar Community Center \nTuesdays \n@4:30pm \nContact Tena Wright \nwright367@gmail.com \nWebsite: bfsam.org
URL:https://brunswickforest.com/events/singles-more-3/2028-02-08/
LOCATION:Cutler Community Center\, 1120 East Cutlar Crossing\, Leland\, NC\, 28451
CATEGORIES:Resident Activities
ATTACH;FMTTYPE=image/png:https://brunswickforest.com/wpc/uploads/Singles-and-more.png
ORGANIZER;CN="Tena Wright":MAILTO:wright367@gmail.com
END:VEVENT
BEGIN:VEVENT
DTSTART;TZID=America/New_York:20280215T123000
DTEND;TZID=America/New_York:20280215T143000
DTSTAMP:20260424T124417
CREATED:20231012T122946Z
LAST-MODIFIED:20231012T123046Z
UID:10007948-1834230600-1834237800@brunswickforest.com
SUMMARY:Bridge Group
DESCRIPTION:The Cutlar Community Center\, Tuesdays \n@12:30pm \nContact: Ben Reischer \nBen.reischer@gmail.com
URL:https://brunswickforest.com/events/bridge-group-5/2028-02-15/
LOCATION:Cutler Community Center\, 1120 East Cutlar Crossing\, Leland\, NC\, 28451
CATEGORIES:Resident Activities
ATTACH;FMTTYPE=image/png:https://brunswickforest.com/wpc/uploads/bridge-group.png
ORGANIZER;CN="Ben Reischer":MAILTO:Ben.reischer@gmail.com
END:VEVENT
BEGIN:VEVENT
DTSTART;TZID=America/New_York:20280215T163000
DTEND;TZID=America/New_York:20280215T173000
DTSTAMP:20260424T124417
CREATED:20231012T132353Z
LAST-MODIFIED:20231012T132353Z
UID:10009803-1834245000-1834248600@brunswickforest.com
SUMMARY:Singles & More
DESCRIPTION:Cutlar Community Center \nTuesdays \n@4:30pm \nContact Tena Wright \nwright367@gmail.com \nWebsite: bfsam.org
URL:https://brunswickforest.com/events/singles-more-3/2028-02-15/
LOCATION:Cutler Community Center\, 1120 East Cutlar Crossing\, Leland\, NC\, 28451
CATEGORIES:Resident Activities
ATTACH;FMTTYPE=image/png:https://brunswickforest.com/wpc/uploads/Singles-and-more.png
ORGANIZER;CN="Tena Wright":MAILTO:wright367@gmail.com
END:VEVENT
BEGIN:VEVENT
DTSTART;TZID=America/New_York:20280222T123000
DTEND;TZID=America/New_York:20280222T143000
DTSTAMP:20260424T124417
CREATED:20231012T122946Z
LAST-MODIFIED:20231012T123046Z
UID:10007949-1834835400-1834842600@brunswickforest.com
SUMMARY:Bridge Group
DESCRIPTION:The Cutlar Community Center\, Tuesdays \n@12:30pm \nContact: Ben Reischer \nBen.reischer@gmail.com
URL:https://brunswickforest.com/events/bridge-group-5/2028-02-22/
LOCATION:Cutler Community Center\, 1120 East Cutlar Crossing\, Leland\, NC\, 28451
CATEGORIES:Resident Activities
ATTACH;FMTTYPE=image/png:https://brunswickforest.com/wpc/uploads/bridge-group.png
ORGANIZER;CN="Ben Reischer":MAILTO:Ben.reischer@gmail.com
END:VEVENT
BEGIN:VEVENT
DTSTART;TZID=America/New_York:20280222T163000
DTEND;TZID=America/New_York:20280222T173000
DTSTAMP:20260424T124417
CREATED:20231012T132353Z
LAST-MODIFIED:20231012T132353Z
UID:10009804-1834849800-1834853400@brunswickforest.com
SUMMARY:Singles & More
DESCRIPTION:Cutlar Community Center \nTuesdays \n@4:30pm \nContact Tena Wright \nwright367@gmail.com \nWebsite: bfsam.org
URL:https://brunswickforest.com/events/singles-more-3/2028-02-22/
LOCATION:Cutler Community Center\, 1120 East Cutlar Crossing\, Leland\, NC\, 28451
CATEGORIES:Resident Activities
ATTACH;FMTTYPE=image/png:https://brunswickforest.com/wpc/uploads/Singles-and-more.png
ORGANIZER;CN="Tena Wright":MAILTO:wright367@gmail.com
END:VEVENT
BEGIN:VEVENT
DTSTART;TZID=America/New_York:20280229T123000
DTEND;TZID=America/New_York:20280229T143000
DTSTAMP:20260424T124417
CREATED:20231012T122946Z
LAST-MODIFIED:20231012T123046Z
UID:10007950-1835440200-1835447400@brunswickforest.com
SUMMARY:Bridge Group
DESCRIPTION:The Cutlar Community Center\, Tuesdays \n@12:30pm \nContact: Ben Reischer \nBen.reischer@gmail.com
URL:https://brunswickforest.com/events/bridge-group-5/2028-02-29/
LOCATION:Cutler Community Center\, 1120 East Cutlar Crossing\, Leland\, NC\, 28451
CATEGORIES:Resident Activities
ATTACH;FMTTYPE=image/png:https://brunswickforest.com/wpc/uploads/bridge-group.png
ORGANIZER;CN="Ben Reischer":MAILTO:Ben.reischer@gmail.com
END:VEVENT
BEGIN:VEVENT
DTSTART;TZID=America/New_York:20280229T163000
DTEND;TZID=America/New_York:20280229T173000
DTSTAMP:20260424T124417
CREATED:20231012T132353Z
LAST-MODIFIED:20231012T132353Z
UID:10009805-1835454600-1835458200@brunswickforest.com
SUMMARY:Singles & More
DESCRIPTION:Cutlar Community Center \nTuesdays \n@4:30pm \nContact Tena Wright \nwright367@gmail.com \nWebsite: bfsam.org
URL:https://brunswickforest.com/events/singles-more-3/2028-02-29/
LOCATION:Cutler Community Center\, 1120 East Cutlar Crossing\, Leland\, NC\, 28451
CATEGORIES:Resident Activities
ATTACH;FMTTYPE=image/png:https://brunswickforest.com/wpc/uploads/Singles-and-more.png
ORGANIZER;CN="Tena Wright":MAILTO:wright367@gmail.com
END:VEVENT
BEGIN:VEVENT
DTSTART;TZID=America/New_York:20280307T123000
DTEND;TZID=America/New_York:20280307T143000
DTSTAMP:20260424T124417
CREATED:20231012T122946Z
LAST-MODIFIED:20231012T123046Z
UID:10007951-1836045000-1836052200@brunswickforest.com
SUMMARY:Bridge Group
DESCRIPTION:The Cutlar Community Center\, Tuesdays \n@12:30pm \nContact: Ben Reischer \nBen.reischer@gmail.com
URL:https://brunswickforest.com/events/bridge-group-5/2028-03-07/
LOCATION:Cutler Community Center\, 1120 East Cutlar Crossing\, Leland\, NC\, 28451
CATEGORIES:Resident Activities
ATTACH;FMTTYPE=image/png:https://brunswickforest.com/wpc/uploads/bridge-group.png
ORGANIZER;CN="Ben Reischer":MAILTO:Ben.reischer@gmail.com
END:VEVENT
END:VCALENDAR