BEGIN:VCALENDAR
VERSION:2.0
PRODID:-//Brunswick Forest - ECPv6.15.20//NONSGML v1.0//EN
CALSCALE:GREGORIAN
METHOD:PUBLISH
X-ORIGINAL-URL:https://brunswickforest.com
X-WR-CALDESC:Events for Brunswick Forest
REFRESH-INTERVAL;VALUE=DURATION:PT1H
X-Robots-Tag:noindex
X-PUBLISHED-TTL:PT1H
BEGIN:VTIMEZONE
TZID:America/New_York
BEGIN:DAYLIGHT
TZOFFSETFROM:-0500
TZOFFSETTO:-0400
TZNAME:EDT
DTSTART:20260308T070000
END:DAYLIGHT
BEGIN:STANDARD
TZOFFSETFROM:-0400
TZOFFSETTO:-0500
TZNAME:EST
DTSTART:20261101T060000
END:STANDARD
BEGIN:DAYLIGHT
TZOFFSETFROM:-0500
TZOFFSETTO:-0400
TZNAME:EDT
DTSTART:20270314T070000
END:DAYLIGHT
BEGIN:STANDARD
TZOFFSETFROM:-0400
TZOFFSETTO:-0500
TZNAME:EST
DTSTART:20271107T060000
END:STANDARD
BEGIN:DAYLIGHT
TZOFFSETFROM:-0500
TZOFFSETTO:-0400
TZNAME:EDT
DTSTART:20280312T070000
END:DAYLIGHT
BEGIN:STANDARD
TZOFFSETFROM:-0400
TZOFFSETTO:-0500
TZNAME:EST
DTSTART:20281105T060000
END:STANDARD
END:VTIMEZONE
BEGIN:VEVENT
DTSTART;TZID=America/New_York:20270615T123000
DTEND;TZID=America/New_York:20270615T143000
DTSTAMP:20260419T225732
CREATED:20231012T122946Z
LAST-MODIFIED:20231012T123046Z
UID:10007913-1813062600-1813069800@brunswickforest.com
SUMMARY:Bridge Group
DESCRIPTION:The Cutlar Community Center\, Tuesdays \n@12:30pm \nContact: Ben Reischer \nBen.reischer@gmail.com
URL:https://brunswickforest.com/events/bridge-group-5/2027-06-15/
LOCATION:Cutler Community Center\, 1120 East Cutlar Crossing\, Leland\, NC\, 28451
CATEGORIES:Resident Activities
ATTACH;FMTTYPE=image/png:https://brunswickforest.com/wpc/uploads/bridge-group.png
ORGANIZER;CN="Ben Reischer":MAILTO:Ben.reischer@gmail.com
END:VEVENT
BEGIN:VEVENT
DTSTART;TZID=America/New_York:20270615T163000
DTEND;TZID=America/New_York:20270615T173000
DTSTAMP:20260419T225732
CREATED:20231012T132353Z
LAST-MODIFIED:20231012T132353Z
UID:10009768-1813077000-1813080600@brunswickforest.com
SUMMARY:Singles & More
DESCRIPTION:Cutlar Community Center \nTuesdays \n@4:30pm \nContact Tena Wright \nwright367@gmail.com \nWebsite: bfsam.org
URL:https://brunswickforest.com/events/singles-more-3/2027-06-15/
LOCATION:Cutler Community Center\, 1120 East Cutlar Crossing\, Leland\, NC\, 28451
CATEGORIES:Resident Activities
ATTACH;FMTTYPE=image/png:https://brunswickforest.com/wpc/uploads/Singles-and-more.png
ORGANIZER;CN="Tena Wright":MAILTO:wright367@gmail.com
END:VEVENT
BEGIN:VEVENT
DTSTART;TZID=America/New_York:20270622T123000
DTEND;TZID=America/New_York:20270622T143000
DTSTAMP:20260419T225732
CREATED:20231012T122946Z
LAST-MODIFIED:20231012T123046Z
UID:10007914-1813667400-1813674600@brunswickforest.com
SUMMARY:Bridge Group
DESCRIPTION:The Cutlar Community Center\, Tuesdays \n@12:30pm \nContact: Ben Reischer \nBen.reischer@gmail.com
URL:https://brunswickforest.com/events/bridge-group-5/2027-06-22/
LOCATION:Cutler Community Center\, 1120 East Cutlar Crossing\, Leland\, NC\, 28451
CATEGORIES:Resident Activities
ATTACH;FMTTYPE=image/png:https://brunswickforest.com/wpc/uploads/bridge-group.png
ORGANIZER;CN="Ben Reischer":MAILTO:Ben.reischer@gmail.com
END:VEVENT
BEGIN:VEVENT
DTSTART;TZID=America/New_York:20270622T163000
DTEND;TZID=America/New_York:20270622T173000
DTSTAMP:20260419T225732
CREATED:20231012T132353Z
LAST-MODIFIED:20231012T132353Z
UID:10009769-1813681800-1813685400@brunswickforest.com
SUMMARY:Singles & More
DESCRIPTION:Cutlar Community Center \nTuesdays \n@4:30pm \nContact Tena Wright \nwright367@gmail.com \nWebsite: bfsam.org
URL:https://brunswickforest.com/events/singles-more-3/2027-06-22/
LOCATION:Cutler Community Center\, 1120 East Cutlar Crossing\, Leland\, NC\, 28451
CATEGORIES:Resident Activities
ATTACH;FMTTYPE=image/png:https://brunswickforest.com/wpc/uploads/Singles-and-more.png
ORGANIZER;CN="Tena Wright":MAILTO:wright367@gmail.com
END:VEVENT
BEGIN:VEVENT
DTSTART;TZID=America/New_York:20270629T123000
DTEND;TZID=America/New_York:20270629T143000
DTSTAMP:20260419T225732
CREATED:20231012T122946Z
LAST-MODIFIED:20231012T123046Z
UID:10007915-1814272200-1814279400@brunswickforest.com
SUMMARY:Bridge Group
DESCRIPTION:The Cutlar Community Center\, Tuesdays \n@12:30pm \nContact: Ben Reischer \nBen.reischer@gmail.com
URL:https://brunswickforest.com/events/bridge-group-5/2027-06-29/
LOCATION:Cutler Community Center\, 1120 East Cutlar Crossing\, Leland\, NC\, 28451
CATEGORIES:Resident Activities
ATTACH;FMTTYPE=image/png:https://brunswickforest.com/wpc/uploads/bridge-group.png
ORGANIZER;CN="Ben Reischer":MAILTO:Ben.reischer@gmail.com
END:VEVENT
BEGIN:VEVENT
DTSTART;TZID=America/New_York:20270629T163000
DTEND;TZID=America/New_York:20270629T173000
DTSTAMP:20260419T225732
CREATED:20231012T132353Z
LAST-MODIFIED:20231012T132353Z
UID:10009770-1814286600-1814290200@brunswickforest.com
SUMMARY:Singles & More
DESCRIPTION:Cutlar Community Center \nTuesdays \n@4:30pm \nContact Tena Wright \nwright367@gmail.com \nWebsite: bfsam.org
URL:https://brunswickforest.com/events/singles-more-3/2027-06-29/
LOCATION:Cutler Community Center\, 1120 East Cutlar Crossing\, Leland\, NC\, 28451
CATEGORIES:Resident Activities
ATTACH;FMTTYPE=image/png:https://brunswickforest.com/wpc/uploads/Singles-and-more.png
ORGANIZER;CN="Tena Wright":MAILTO:wright367@gmail.com
END:VEVENT
BEGIN:VEVENT
DTSTART;TZID=America/New_York:20270706T123000
DTEND;TZID=America/New_York:20270706T143000
DTSTAMP:20260419T225732
CREATED:20231012T122946Z
LAST-MODIFIED:20231012T123046Z
UID:10007916-1814877000-1814884200@brunswickforest.com
SUMMARY:Bridge Group
DESCRIPTION:The Cutlar Community Center\, Tuesdays \n@12:30pm \nContact: Ben Reischer \nBen.reischer@gmail.com
URL:https://brunswickforest.com/events/bridge-group-5/2027-07-06/
LOCATION:Cutler Community Center\, 1120 East Cutlar Crossing\, Leland\, NC\, 28451
CATEGORIES:Resident Activities
ATTACH;FMTTYPE=image/png:https://brunswickforest.com/wpc/uploads/bridge-group.png
ORGANIZER;CN="Ben Reischer":MAILTO:Ben.reischer@gmail.com
END:VEVENT
BEGIN:VEVENT
DTSTART;TZID=America/New_York:20270706T163000
DTEND;TZID=America/New_York:20270706T173000
DTSTAMP:20260419T225732
CREATED:20231012T132353Z
LAST-MODIFIED:20231012T132353Z
UID:10009771-1814891400-1814895000@brunswickforest.com
SUMMARY:Singles & More
DESCRIPTION:Cutlar Community Center \nTuesdays \n@4:30pm \nContact Tena Wright \nwright367@gmail.com \nWebsite: bfsam.org
URL:https://brunswickforest.com/events/singles-more-3/2027-07-06/
LOCATION:Cutler Community Center\, 1120 East Cutlar Crossing\, Leland\, NC\, 28451
CATEGORIES:Resident Activities
ATTACH;FMTTYPE=image/png:https://brunswickforest.com/wpc/uploads/Singles-and-more.png
ORGANIZER;CN="Tena Wright":MAILTO:wright367@gmail.com
END:VEVENT
BEGIN:VEVENT
DTSTART;TZID=America/New_York:20270713T123000
DTEND;TZID=America/New_York:20270713T143000
DTSTAMP:20260419T225732
CREATED:20231012T122946Z
LAST-MODIFIED:20231012T123046Z
UID:10007917-1815481800-1815489000@brunswickforest.com
SUMMARY:Bridge Group
DESCRIPTION:The Cutlar Community Center\, Tuesdays \n@12:30pm \nContact: Ben Reischer \nBen.reischer@gmail.com
URL:https://brunswickforest.com/events/bridge-group-5/2027-07-13/
LOCATION:Cutler Community Center\, 1120 East Cutlar Crossing\, Leland\, NC\, 28451
CATEGORIES:Resident Activities
ATTACH;FMTTYPE=image/png:https://brunswickforest.com/wpc/uploads/bridge-group.png
ORGANIZER;CN="Ben Reischer":MAILTO:Ben.reischer@gmail.com
END:VEVENT
BEGIN:VEVENT
DTSTART;TZID=America/New_York:20270713T163000
DTEND;TZID=America/New_York:20270713T173000
DTSTAMP:20260419T225732
CREATED:20231012T132353Z
LAST-MODIFIED:20231012T132353Z
UID:10009772-1815496200-1815499800@brunswickforest.com
SUMMARY:Singles & More
DESCRIPTION:Cutlar Community Center \nTuesdays \n@4:30pm \nContact Tena Wright \nwright367@gmail.com \nWebsite: bfsam.org
URL:https://brunswickforest.com/events/singles-more-3/2027-07-13/
LOCATION:Cutler Community Center\, 1120 East Cutlar Crossing\, Leland\, NC\, 28451
CATEGORIES:Resident Activities
ATTACH;FMTTYPE=image/png:https://brunswickforest.com/wpc/uploads/Singles-and-more.png
ORGANIZER;CN="Tena Wright":MAILTO:wright367@gmail.com
END:VEVENT
BEGIN:VEVENT
DTSTART;TZID=America/New_York:20270720T123000
DTEND;TZID=America/New_York:20270720T143000
DTSTAMP:20260419T225732
CREATED:20231012T122946Z
LAST-MODIFIED:20231012T123046Z
UID:10007918-1816086600-1816093800@brunswickforest.com
SUMMARY:Bridge Group
DESCRIPTION:The Cutlar Community Center\, Tuesdays \n@12:30pm \nContact: Ben Reischer \nBen.reischer@gmail.com
URL:https://brunswickforest.com/events/bridge-group-5/2027-07-20/
LOCATION:Cutler Community Center\, 1120 East Cutlar Crossing\, Leland\, NC\, 28451
CATEGORIES:Resident Activities
ATTACH;FMTTYPE=image/png:https://brunswickforest.com/wpc/uploads/bridge-group.png
ORGANIZER;CN="Ben Reischer":MAILTO:Ben.reischer@gmail.com
END:VEVENT
BEGIN:VEVENT
DTSTART;TZID=America/New_York:20270720T163000
DTEND;TZID=America/New_York:20270720T173000
DTSTAMP:20260419T225732
CREATED:20231012T132353Z
LAST-MODIFIED:20231012T132353Z
UID:10009773-1816101000-1816104600@brunswickforest.com
SUMMARY:Singles & More
DESCRIPTION:Cutlar Community Center \nTuesdays \n@4:30pm \nContact Tena Wright \nwright367@gmail.com \nWebsite: bfsam.org
URL:https://brunswickforest.com/events/singles-more-3/2027-07-20/
LOCATION:Cutler Community Center\, 1120 East Cutlar Crossing\, Leland\, NC\, 28451
CATEGORIES:Resident Activities
ATTACH;FMTTYPE=image/png:https://brunswickforest.com/wpc/uploads/Singles-and-more.png
ORGANIZER;CN="Tena Wright":MAILTO:wright367@gmail.com
END:VEVENT
BEGIN:VEVENT
DTSTART;TZID=America/New_York:20270727T123000
DTEND;TZID=America/New_York:20270727T143000
DTSTAMP:20260419T225732
CREATED:20231012T122946Z
LAST-MODIFIED:20231012T123046Z
UID:10007919-1816691400-1816698600@brunswickforest.com
SUMMARY:Bridge Group
DESCRIPTION:The Cutlar Community Center\, Tuesdays \n@12:30pm \nContact: Ben Reischer \nBen.reischer@gmail.com
URL:https://brunswickforest.com/events/bridge-group-5/2027-07-27/
LOCATION:Cutler Community Center\, 1120 East Cutlar Crossing\, Leland\, NC\, 28451
CATEGORIES:Resident Activities
ATTACH;FMTTYPE=image/png:https://brunswickforest.com/wpc/uploads/bridge-group.png
ORGANIZER;CN="Ben Reischer":MAILTO:Ben.reischer@gmail.com
END:VEVENT
BEGIN:VEVENT
DTSTART;TZID=America/New_York:20270727T163000
DTEND;TZID=America/New_York:20270727T173000
DTSTAMP:20260419T225732
CREATED:20231012T132353Z
LAST-MODIFIED:20231012T132353Z
UID:10009774-1816705800-1816709400@brunswickforest.com
SUMMARY:Singles & More
DESCRIPTION:Cutlar Community Center \nTuesdays \n@4:30pm \nContact Tena Wright \nwright367@gmail.com \nWebsite: bfsam.org
URL:https://brunswickforest.com/events/singles-more-3/2027-07-27/
LOCATION:Cutler Community Center\, 1120 East Cutlar Crossing\, Leland\, NC\, 28451
CATEGORIES:Resident Activities
ATTACH;FMTTYPE=image/png:https://brunswickforest.com/wpc/uploads/Singles-and-more.png
ORGANIZER;CN="Tena Wright":MAILTO:wright367@gmail.com
END:VEVENT
BEGIN:VEVENT
DTSTART;TZID=America/New_York:20270803T123000
DTEND;TZID=America/New_York:20270803T143000
DTSTAMP:20260419T225732
CREATED:20231012T122946Z
LAST-MODIFIED:20231012T123046Z
UID:10007920-1817296200-1817303400@brunswickforest.com
SUMMARY:Bridge Group
DESCRIPTION:The Cutlar Community Center\, Tuesdays \n@12:30pm \nContact: Ben Reischer \nBen.reischer@gmail.com
URL:https://brunswickforest.com/events/bridge-group-5/2027-08-03/
LOCATION:Cutler Community Center\, 1120 East Cutlar Crossing\, Leland\, NC\, 28451
CATEGORIES:Resident Activities
ATTACH;FMTTYPE=image/png:https://brunswickforest.com/wpc/uploads/bridge-group.png
ORGANIZER;CN="Ben Reischer":MAILTO:Ben.reischer@gmail.com
END:VEVENT
BEGIN:VEVENT
DTSTART;TZID=America/New_York:20270803T163000
DTEND;TZID=America/New_York:20270803T173000
DTSTAMP:20260419T225732
CREATED:20231012T132353Z
LAST-MODIFIED:20231012T132353Z
UID:10009775-1817310600-1817314200@brunswickforest.com
SUMMARY:Singles & More
DESCRIPTION:Cutlar Community Center \nTuesdays \n@4:30pm \nContact Tena Wright \nwright367@gmail.com \nWebsite: bfsam.org
URL:https://brunswickforest.com/events/singles-more-3/2027-08-03/
LOCATION:Cutler Community Center\, 1120 East Cutlar Crossing\, Leland\, NC\, 28451
CATEGORIES:Resident Activities
ATTACH;FMTTYPE=image/png:https://brunswickforest.com/wpc/uploads/Singles-and-more.png
ORGANIZER;CN="Tena Wright":MAILTO:wright367@gmail.com
END:VEVENT
BEGIN:VEVENT
DTSTART;TZID=America/New_York:20270810T123000
DTEND;TZID=America/New_York:20270810T143000
DTSTAMP:20260419T225732
CREATED:20231012T122946Z
LAST-MODIFIED:20231012T123046Z
UID:10007921-1817901000-1817908200@brunswickforest.com
SUMMARY:Bridge Group
DESCRIPTION:The Cutlar Community Center\, Tuesdays \n@12:30pm \nContact: Ben Reischer \nBen.reischer@gmail.com
URL:https://brunswickforest.com/events/bridge-group-5/2027-08-10/
LOCATION:Cutler Community Center\, 1120 East Cutlar Crossing\, Leland\, NC\, 28451
CATEGORIES:Resident Activities
ATTACH;FMTTYPE=image/png:https://brunswickforest.com/wpc/uploads/bridge-group.png
ORGANIZER;CN="Ben Reischer":MAILTO:Ben.reischer@gmail.com
END:VEVENT
BEGIN:VEVENT
DTSTART;TZID=America/New_York:20270810T163000
DTEND;TZID=America/New_York:20270810T173000
DTSTAMP:20260419T225732
CREATED:20231012T132353Z
LAST-MODIFIED:20231012T132353Z
UID:10009776-1817915400-1817919000@brunswickforest.com
SUMMARY:Singles & More
DESCRIPTION:Cutlar Community Center \nTuesdays \n@4:30pm \nContact Tena Wright \nwright367@gmail.com \nWebsite: bfsam.org
URL:https://brunswickforest.com/events/singles-more-3/2027-08-10/
LOCATION:Cutler Community Center\, 1120 East Cutlar Crossing\, Leland\, NC\, 28451
CATEGORIES:Resident Activities
ATTACH;FMTTYPE=image/png:https://brunswickforest.com/wpc/uploads/Singles-and-more.png
ORGANIZER;CN="Tena Wright":MAILTO:wright367@gmail.com
END:VEVENT
BEGIN:VEVENT
DTSTART;TZID=America/New_York:20270817T123000
DTEND;TZID=America/New_York:20270817T143000
DTSTAMP:20260419T225732
CREATED:20231012T122946Z
LAST-MODIFIED:20231012T123046Z
UID:10007922-1818505800-1818513000@brunswickforest.com
SUMMARY:Bridge Group
DESCRIPTION:The Cutlar Community Center\, Tuesdays \n@12:30pm \nContact: Ben Reischer \nBen.reischer@gmail.com
URL:https://brunswickforest.com/events/bridge-group-5/2027-08-17/
LOCATION:Cutler Community Center\, 1120 East Cutlar Crossing\, Leland\, NC\, 28451
CATEGORIES:Resident Activities
ATTACH;FMTTYPE=image/png:https://brunswickforest.com/wpc/uploads/bridge-group.png
ORGANIZER;CN="Ben Reischer":MAILTO:Ben.reischer@gmail.com
END:VEVENT
BEGIN:VEVENT
DTSTART;TZID=America/New_York:20270817T163000
DTEND;TZID=America/New_York:20270817T173000
DTSTAMP:20260419T225732
CREATED:20231012T132353Z
LAST-MODIFIED:20231012T132353Z
UID:10009777-1818520200-1818523800@brunswickforest.com
SUMMARY:Singles & More
DESCRIPTION:Cutlar Community Center \nTuesdays \n@4:30pm \nContact Tena Wright \nwright367@gmail.com \nWebsite: bfsam.org
URL:https://brunswickforest.com/events/singles-more-3/2027-08-17/
LOCATION:Cutler Community Center\, 1120 East Cutlar Crossing\, Leland\, NC\, 28451
CATEGORIES:Resident Activities
ATTACH;FMTTYPE=image/png:https://brunswickforest.com/wpc/uploads/Singles-and-more.png
ORGANIZER;CN="Tena Wright":MAILTO:wright367@gmail.com
END:VEVENT
BEGIN:VEVENT
DTSTART;TZID=America/New_York:20270824T123000
DTEND;TZID=America/New_York:20270824T143000
DTSTAMP:20260419T225732
CREATED:20231012T122946Z
LAST-MODIFIED:20231012T123046Z
UID:10007923-1819110600-1819117800@brunswickforest.com
SUMMARY:Bridge Group
DESCRIPTION:The Cutlar Community Center\, Tuesdays \n@12:30pm \nContact: Ben Reischer \nBen.reischer@gmail.com
URL:https://brunswickforest.com/events/bridge-group-5/2027-08-24/
LOCATION:Cutler Community Center\, 1120 East Cutlar Crossing\, Leland\, NC\, 28451
CATEGORIES:Resident Activities
ATTACH;FMTTYPE=image/png:https://brunswickforest.com/wpc/uploads/bridge-group.png
ORGANIZER;CN="Ben Reischer":MAILTO:Ben.reischer@gmail.com
END:VEVENT
BEGIN:VEVENT
DTSTART;TZID=America/New_York:20270824T163000
DTEND;TZID=America/New_York:20270824T173000
DTSTAMP:20260419T225732
CREATED:20231012T132353Z
LAST-MODIFIED:20231012T132353Z
UID:10009778-1819125000-1819128600@brunswickforest.com
SUMMARY:Singles & More
DESCRIPTION:Cutlar Community Center \nTuesdays \n@4:30pm \nContact Tena Wright \nwright367@gmail.com \nWebsite: bfsam.org
URL:https://brunswickforest.com/events/singles-more-3/2027-08-24/
LOCATION:Cutler Community Center\, 1120 East Cutlar Crossing\, Leland\, NC\, 28451
CATEGORIES:Resident Activities
ATTACH;FMTTYPE=image/png:https://brunswickforest.com/wpc/uploads/Singles-and-more.png
ORGANIZER;CN="Tena Wright":MAILTO:wright367@gmail.com
END:VEVENT
BEGIN:VEVENT
DTSTART;TZID=America/New_York:20270831T123000
DTEND;TZID=America/New_York:20270831T143000
DTSTAMP:20260419T225732
CREATED:20231012T122946Z
LAST-MODIFIED:20231012T123046Z
UID:10007924-1819715400-1819722600@brunswickforest.com
SUMMARY:Bridge Group
DESCRIPTION:The Cutlar Community Center\, Tuesdays \n@12:30pm \nContact: Ben Reischer \nBen.reischer@gmail.com
URL:https://brunswickforest.com/events/bridge-group-5/2027-08-31/
LOCATION:Cutler Community Center\, 1120 East Cutlar Crossing\, Leland\, NC\, 28451
CATEGORIES:Resident Activities
ATTACH;FMTTYPE=image/png:https://brunswickforest.com/wpc/uploads/bridge-group.png
ORGANIZER;CN="Ben Reischer":MAILTO:Ben.reischer@gmail.com
END:VEVENT
BEGIN:VEVENT
DTSTART;TZID=America/New_York:20270831T163000
DTEND;TZID=America/New_York:20270831T173000
DTSTAMP:20260419T225732
CREATED:20231012T132353Z
LAST-MODIFIED:20231012T132353Z
UID:10009779-1819729800-1819733400@brunswickforest.com
SUMMARY:Singles & More
DESCRIPTION:Cutlar Community Center \nTuesdays \n@4:30pm \nContact Tena Wright \nwright367@gmail.com \nWebsite: bfsam.org
URL:https://brunswickforest.com/events/singles-more-3/2027-08-31/
LOCATION:Cutler Community Center\, 1120 East Cutlar Crossing\, Leland\, NC\, 28451
CATEGORIES:Resident Activities
ATTACH;FMTTYPE=image/png:https://brunswickforest.com/wpc/uploads/Singles-and-more.png
ORGANIZER;CN="Tena Wright":MAILTO:wright367@gmail.com
END:VEVENT
BEGIN:VEVENT
DTSTART;TZID=America/New_York:20270907T123000
DTEND;TZID=America/New_York:20270907T143000
DTSTAMP:20260419T225732
CREATED:20231012T122946Z
LAST-MODIFIED:20231012T123046Z
UID:10007925-1820320200-1820327400@brunswickforest.com
SUMMARY:Bridge Group
DESCRIPTION:The Cutlar Community Center\, Tuesdays \n@12:30pm \nContact: Ben Reischer \nBen.reischer@gmail.com
URL:https://brunswickforest.com/events/bridge-group-5/2027-09-07/
LOCATION:Cutler Community Center\, 1120 East Cutlar Crossing\, Leland\, NC\, 28451
CATEGORIES:Resident Activities
ATTACH;FMTTYPE=image/png:https://brunswickforest.com/wpc/uploads/bridge-group.png
ORGANIZER;CN="Ben Reischer":MAILTO:Ben.reischer@gmail.com
END:VEVENT
BEGIN:VEVENT
DTSTART;TZID=America/New_York:20270907T163000
DTEND;TZID=America/New_York:20270907T173000
DTSTAMP:20260419T225732
CREATED:20231012T132353Z
LAST-MODIFIED:20231012T132353Z
UID:10009780-1820334600-1820338200@brunswickforest.com
SUMMARY:Singles & More
DESCRIPTION:Cutlar Community Center \nTuesdays \n@4:30pm \nContact Tena Wright \nwright367@gmail.com \nWebsite: bfsam.org
URL:https://brunswickforest.com/events/singles-more-3/2027-09-07/
LOCATION:Cutler Community Center\, 1120 East Cutlar Crossing\, Leland\, NC\, 28451
CATEGORIES:Resident Activities
ATTACH;FMTTYPE=image/png:https://brunswickforest.com/wpc/uploads/Singles-and-more.png
ORGANIZER;CN="Tena Wright":MAILTO:wright367@gmail.com
END:VEVENT
BEGIN:VEVENT
DTSTART;TZID=America/New_York:20270914T123000
DTEND;TZID=America/New_York:20270914T143000
DTSTAMP:20260419T225732
CREATED:20231012T122946Z
LAST-MODIFIED:20231012T123046Z
UID:10007926-1820925000-1820932200@brunswickforest.com
SUMMARY:Bridge Group
DESCRIPTION:The Cutlar Community Center\, Tuesdays \n@12:30pm \nContact: Ben Reischer \nBen.reischer@gmail.com
URL:https://brunswickforest.com/events/bridge-group-5/2027-09-14/
LOCATION:Cutler Community Center\, 1120 East Cutlar Crossing\, Leland\, NC\, 28451
CATEGORIES:Resident Activities
ATTACH;FMTTYPE=image/png:https://brunswickforest.com/wpc/uploads/bridge-group.png
ORGANIZER;CN="Ben Reischer":MAILTO:Ben.reischer@gmail.com
END:VEVENT
BEGIN:VEVENT
DTSTART;TZID=America/New_York:20270914T163000
DTEND;TZID=America/New_York:20270914T173000
DTSTAMP:20260419T225732
CREATED:20231012T132353Z
LAST-MODIFIED:20231012T132353Z
UID:10009781-1820939400-1820943000@brunswickforest.com
SUMMARY:Singles & More
DESCRIPTION:Cutlar Community Center \nTuesdays \n@4:30pm \nContact Tena Wright \nwright367@gmail.com \nWebsite: bfsam.org
URL:https://brunswickforest.com/events/singles-more-3/2027-09-14/
LOCATION:Cutler Community Center\, 1120 East Cutlar Crossing\, Leland\, NC\, 28451
CATEGORIES:Resident Activities
ATTACH;FMTTYPE=image/png:https://brunswickforest.com/wpc/uploads/Singles-and-more.png
ORGANIZER;CN="Tena Wright":MAILTO:wright367@gmail.com
END:VEVENT
BEGIN:VEVENT
DTSTART;TZID=America/New_York:20270921T123000
DTEND;TZID=America/New_York:20270921T143000
DTSTAMP:20260419T225732
CREATED:20231012T122946Z
LAST-MODIFIED:20231012T123046Z
UID:10007927-1821529800-1821537000@brunswickforest.com
SUMMARY:Bridge Group
DESCRIPTION:The Cutlar Community Center\, Tuesdays \n@12:30pm \nContact: Ben Reischer \nBen.reischer@gmail.com
URL:https://brunswickforest.com/events/bridge-group-5/2027-09-21/
LOCATION:Cutler Community Center\, 1120 East Cutlar Crossing\, Leland\, NC\, 28451
CATEGORIES:Resident Activities
ATTACH;FMTTYPE=image/png:https://brunswickforest.com/wpc/uploads/bridge-group.png
ORGANIZER;CN="Ben Reischer":MAILTO:Ben.reischer@gmail.com
END:VEVENT
BEGIN:VEVENT
DTSTART;TZID=America/New_York:20270921T163000
DTEND;TZID=America/New_York:20270921T173000
DTSTAMP:20260419T225732
CREATED:20231012T132353Z
LAST-MODIFIED:20231012T132353Z
UID:10009782-1821544200-1821547800@brunswickforest.com
SUMMARY:Singles & More
DESCRIPTION:Cutlar Community Center \nTuesdays \n@4:30pm \nContact Tena Wright \nwright367@gmail.com \nWebsite: bfsam.org
URL:https://brunswickforest.com/events/singles-more-3/2027-09-21/
LOCATION:Cutler Community Center\, 1120 East Cutlar Crossing\, Leland\, NC\, 28451
CATEGORIES:Resident Activities
ATTACH;FMTTYPE=image/png:https://brunswickforest.com/wpc/uploads/Singles-and-more.png
ORGANIZER;CN="Tena Wright":MAILTO:wright367@gmail.com
END:VEVENT
END:VCALENDAR