BEGIN:VCALENDAR
VERSION:2.0
PRODID:-//Brunswick Forest - ECPv6.15.20//NONSGML v1.0//EN
CALSCALE:GREGORIAN
METHOD:PUBLISH
X-ORIGINAL-URL:https://brunswickforest.com
X-WR-CALDESC:Events for Brunswick Forest
REFRESH-INTERVAL;VALUE=DURATION:PT1H
X-Robots-Tag:noindex
X-PUBLISHED-TTL:PT1H
BEGIN:VTIMEZONE
TZID:America/New_York
BEGIN:DAYLIGHT
TZOFFSETFROM:-0500
TZOFFSETTO:-0400
TZNAME:EDT
DTSTART:20240310T070000
END:DAYLIGHT
BEGIN:STANDARD
TZOFFSETFROM:-0400
TZOFFSETTO:-0500
TZNAME:EST
DTSTART:20241103T060000
END:STANDARD
BEGIN:DAYLIGHT
TZOFFSETFROM:-0500
TZOFFSETTO:-0400
TZNAME:EDT
DTSTART:20250309T070000
END:DAYLIGHT
BEGIN:STANDARD
TZOFFSETFROM:-0400
TZOFFSETTO:-0500
TZNAME:EST
DTSTART:20251102T060000
END:STANDARD
BEGIN:DAYLIGHT
TZOFFSETFROM:-0500
TZOFFSETTO:-0400
TZNAME:EDT
DTSTART:20260308T070000
END:DAYLIGHT
BEGIN:STANDARD
TZOFFSETFROM:-0400
TZOFFSETTO:-0500
TZNAME:EST
DTSTART:20261101T060000
END:STANDARD
END:VTIMEZONE
BEGIN:VEVENT
DTSTART;TZID=America/New_York:20250624T163000
DTEND;TZID=America/New_York:20250624T173000
DTSTAMP:20260421T162342
CREATED:20231012T132353Z
LAST-MODIFIED:20231012T132353Z
UID:10009665-1750782600-1750786200@brunswickforest.com
SUMMARY:Singles & More
DESCRIPTION:Cutlar Community Center \nTuesdays \n@4:30pm \nContact Tena Wright \nwright367@gmail.com \nWebsite: bfsam.org
URL:https://brunswickforest.com/events/singles-more-3/2025-06-24/
LOCATION:Cutler Community Center\, 1120 East Cutlar Crossing\, Leland\, NC\, 28451
CATEGORIES:Resident Activities
ATTACH;FMTTYPE=image/png:https://brunswickforest.com/wpc/uploads/Singles-and-more.png
ORGANIZER;CN="Tena Wright":MAILTO:wright367@gmail.com
END:VEVENT
BEGIN:VEVENT
DTSTART;TZID=America/New_York:20250624T123000
DTEND;TZID=America/New_York:20250624T143000
DTSTAMP:20260421T162342
CREATED:20231012T122946Z
LAST-MODIFIED:20231012T123046Z
UID:10007810-1750768200-1750775400@brunswickforest.com
SUMMARY:Bridge Group
DESCRIPTION:The Cutlar Community Center\, Tuesdays \n@12:30pm \nContact: Ben Reischer \nBen.reischer@gmail.com
URL:https://brunswickforest.com/events/bridge-group-5/2025-06-24/
LOCATION:Cutler Community Center\, 1120 East Cutlar Crossing\, Leland\, NC\, 28451
CATEGORIES:Resident Activities
ATTACH;FMTTYPE=image/png:https://brunswickforest.com/wpc/uploads/bridge-group.png
ORGANIZER;CN="Ben Reischer":MAILTO:Ben.reischer@gmail.com
END:VEVENT
BEGIN:VEVENT
DTSTART;TZID=America/New_York:20250617T163000
DTEND;TZID=America/New_York:20250617T173000
DTSTAMP:20260421T162342
CREATED:20231012T132353Z
LAST-MODIFIED:20231012T132353Z
UID:10009664-1750177800-1750181400@brunswickforest.com
SUMMARY:Singles & More
DESCRIPTION:Cutlar Community Center \nTuesdays \n@4:30pm \nContact Tena Wright \nwright367@gmail.com \nWebsite: bfsam.org
URL:https://brunswickforest.com/events/singles-more-3/2025-06-17/
LOCATION:Cutler Community Center\, 1120 East Cutlar Crossing\, Leland\, NC\, 28451
CATEGORIES:Resident Activities
ATTACH;FMTTYPE=image/png:https://brunswickforest.com/wpc/uploads/Singles-and-more.png
ORGANIZER;CN="Tena Wright":MAILTO:wright367@gmail.com
END:VEVENT
BEGIN:VEVENT
DTSTART;TZID=America/New_York:20250617T123000
DTEND;TZID=America/New_York:20250617T143000
DTSTAMP:20260421T162342
CREATED:20231012T122946Z
LAST-MODIFIED:20231012T123046Z
UID:10007809-1750163400-1750170600@brunswickforest.com
SUMMARY:Bridge Group
DESCRIPTION:The Cutlar Community Center\, Tuesdays \n@12:30pm \nContact: Ben Reischer \nBen.reischer@gmail.com
URL:https://brunswickforest.com/events/bridge-group-5/2025-06-17/
LOCATION:Cutler Community Center\, 1120 East Cutlar Crossing\, Leland\, NC\, 28451
CATEGORIES:Resident Activities
ATTACH;FMTTYPE=image/png:https://brunswickforest.com/wpc/uploads/bridge-group.png
ORGANIZER;CN="Ben Reischer":MAILTO:Ben.reischer@gmail.com
END:VEVENT
BEGIN:VEVENT
DTSTART;TZID=America/New_York:20250610T163000
DTEND;TZID=America/New_York:20250610T173000
DTSTAMP:20260421T162342
CREATED:20231012T132353Z
LAST-MODIFIED:20231012T132353Z
UID:10009663-1749573000-1749576600@brunswickforest.com
SUMMARY:Singles & More
DESCRIPTION:Cutlar Community Center \nTuesdays \n@4:30pm \nContact Tena Wright \nwright367@gmail.com \nWebsite: bfsam.org
URL:https://brunswickforest.com/events/singles-more-3/2025-06-10/
LOCATION:Cutler Community Center\, 1120 East Cutlar Crossing\, Leland\, NC\, 28451
CATEGORIES:Resident Activities
ATTACH;FMTTYPE=image/png:https://brunswickforest.com/wpc/uploads/Singles-and-more.png
ORGANIZER;CN="Tena Wright":MAILTO:wright367@gmail.com
END:VEVENT
BEGIN:VEVENT
DTSTART;TZID=America/New_York:20250610T123000
DTEND;TZID=America/New_York:20250610T143000
DTSTAMP:20260421T162342
CREATED:20231012T122946Z
LAST-MODIFIED:20231012T123046Z
UID:10007808-1749558600-1749565800@brunswickforest.com
SUMMARY:Bridge Group
DESCRIPTION:The Cutlar Community Center\, Tuesdays \n@12:30pm \nContact: Ben Reischer \nBen.reischer@gmail.com
URL:https://brunswickforest.com/events/bridge-group-5/2025-06-10/
LOCATION:Cutler Community Center\, 1120 East Cutlar Crossing\, Leland\, NC\, 28451
CATEGORIES:Resident Activities
ATTACH;FMTTYPE=image/png:https://brunswickforest.com/wpc/uploads/bridge-group.png
ORGANIZER;CN="Ben Reischer":MAILTO:Ben.reischer@gmail.com
END:VEVENT
BEGIN:VEVENT
DTSTART;TZID=America/New_York:20250603T163000
DTEND;TZID=America/New_York:20250603T173000
DTSTAMP:20260421T162342
CREATED:20231012T132353Z
LAST-MODIFIED:20231012T132353Z
UID:10009662-1748968200-1748971800@brunswickforest.com
SUMMARY:Singles & More
DESCRIPTION:Cutlar Community Center \nTuesdays \n@4:30pm \nContact Tena Wright \nwright367@gmail.com \nWebsite: bfsam.org
URL:https://brunswickforest.com/events/singles-more-3/2025-06-03/
LOCATION:Cutler Community Center\, 1120 East Cutlar Crossing\, Leland\, NC\, 28451
CATEGORIES:Resident Activities
ATTACH;FMTTYPE=image/png:https://brunswickforest.com/wpc/uploads/Singles-and-more.png
ORGANIZER;CN="Tena Wright":MAILTO:wright367@gmail.com
END:VEVENT
BEGIN:VEVENT
DTSTART;TZID=America/New_York:20250603T123000
DTEND;TZID=America/New_York:20250603T143000
DTSTAMP:20260421T162342
CREATED:20231012T122946Z
LAST-MODIFIED:20231012T123046Z
UID:10007807-1748953800-1748961000@brunswickforest.com
SUMMARY:Bridge Group
DESCRIPTION:The Cutlar Community Center\, Tuesdays \n@12:30pm \nContact: Ben Reischer \nBen.reischer@gmail.com
URL:https://brunswickforest.com/events/bridge-group-5/2025-06-03/
LOCATION:Cutler Community Center\, 1120 East Cutlar Crossing\, Leland\, NC\, 28451
CATEGORIES:Resident Activities
ATTACH;FMTTYPE=image/png:https://brunswickforest.com/wpc/uploads/bridge-group.png
ORGANIZER;CN="Ben Reischer":MAILTO:Ben.reischer@gmail.com
END:VEVENT
BEGIN:VEVENT
DTSTART;TZID=America/New_York:20250527T163000
DTEND;TZID=America/New_York:20250527T173000
DTSTAMP:20260421T162342
CREATED:20231012T132353Z
LAST-MODIFIED:20231012T132353Z
UID:10009661-1748363400-1748367000@brunswickforest.com
SUMMARY:Singles & More
DESCRIPTION:Cutlar Community Center \nTuesdays \n@4:30pm \nContact Tena Wright \nwright367@gmail.com \nWebsite: bfsam.org
URL:https://brunswickforest.com/events/singles-more-3/2025-05-27/
LOCATION:Cutler Community Center\, 1120 East Cutlar Crossing\, Leland\, NC\, 28451
CATEGORIES:Resident Activities
ATTACH;FMTTYPE=image/png:https://brunswickforest.com/wpc/uploads/Singles-and-more.png
ORGANIZER;CN="Tena Wright":MAILTO:wright367@gmail.com
END:VEVENT
BEGIN:VEVENT
DTSTART;TZID=America/New_York:20250527T123000
DTEND;TZID=America/New_York:20250527T143000
DTSTAMP:20260421T162342
CREATED:20231012T122946Z
LAST-MODIFIED:20231012T123046Z
UID:10007806-1748349000-1748356200@brunswickforest.com
SUMMARY:Bridge Group
DESCRIPTION:The Cutlar Community Center\, Tuesdays \n@12:30pm \nContact: Ben Reischer \nBen.reischer@gmail.com
URL:https://brunswickforest.com/events/bridge-group-5/2025-05-27/
LOCATION:Cutler Community Center\, 1120 East Cutlar Crossing\, Leland\, NC\, 28451
CATEGORIES:Resident Activities
ATTACH;FMTTYPE=image/png:https://brunswickforest.com/wpc/uploads/bridge-group.png
ORGANIZER;CN="Ben Reischer":MAILTO:Ben.reischer@gmail.com
END:VEVENT
BEGIN:VEVENT
DTSTART;TZID=America/New_York:20250520T163000
DTEND;TZID=America/New_York:20250520T173000
DTSTAMP:20260421T162342
CREATED:20231012T132353Z
LAST-MODIFIED:20231012T132353Z
UID:10009660-1747758600-1747762200@brunswickforest.com
SUMMARY:Singles & More
DESCRIPTION:Cutlar Community Center \nTuesdays \n@4:30pm \nContact Tena Wright \nwright367@gmail.com \nWebsite: bfsam.org
URL:https://brunswickforest.com/events/singles-more-3/2025-05-20/
LOCATION:Cutler Community Center\, 1120 East Cutlar Crossing\, Leland\, NC\, 28451
CATEGORIES:Resident Activities
ATTACH;FMTTYPE=image/png:https://brunswickforest.com/wpc/uploads/Singles-and-more.png
ORGANIZER;CN="Tena Wright":MAILTO:wright367@gmail.com
END:VEVENT
BEGIN:VEVENT
DTSTART;TZID=America/New_York:20250520T123000
DTEND;TZID=America/New_York:20250520T143000
DTSTAMP:20260421T162342
CREATED:20231012T122946Z
LAST-MODIFIED:20231012T123046Z
UID:10007805-1747744200-1747751400@brunswickforest.com
SUMMARY:Bridge Group
DESCRIPTION:The Cutlar Community Center\, Tuesdays \n@12:30pm \nContact: Ben Reischer \nBen.reischer@gmail.com
URL:https://brunswickforest.com/events/bridge-group-5/2025-05-20/
LOCATION:Cutler Community Center\, 1120 East Cutlar Crossing\, Leland\, NC\, 28451
CATEGORIES:Resident Activities
ATTACH;FMTTYPE=image/png:https://brunswickforest.com/wpc/uploads/bridge-group.png
ORGANIZER;CN="Ben Reischer":MAILTO:Ben.reischer@gmail.com
END:VEVENT
BEGIN:VEVENT
DTSTART;TZID=America/New_York:20250513T163000
DTEND;TZID=America/New_York:20250513T173000
DTSTAMP:20260421T162342
CREATED:20231012T132353Z
LAST-MODIFIED:20231012T132353Z
UID:10009659-1747153800-1747157400@brunswickforest.com
SUMMARY:Singles & More
DESCRIPTION:Cutlar Community Center \nTuesdays \n@4:30pm \nContact Tena Wright \nwright367@gmail.com \nWebsite: bfsam.org
URL:https://brunswickforest.com/events/singles-more-3/2025-05-13/
LOCATION:Cutler Community Center\, 1120 East Cutlar Crossing\, Leland\, NC\, 28451
CATEGORIES:Resident Activities
ATTACH;FMTTYPE=image/png:https://brunswickforest.com/wpc/uploads/Singles-and-more.png
ORGANIZER;CN="Tena Wright":MAILTO:wright367@gmail.com
END:VEVENT
BEGIN:VEVENT
DTSTART;TZID=America/New_York:20250513T123000
DTEND;TZID=America/New_York:20250513T143000
DTSTAMP:20260421T162342
CREATED:20231012T122946Z
LAST-MODIFIED:20231012T123046Z
UID:10007804-1747139400-1747146600@brunswickforest.com
SUMMARY:Bridge Group
DESCRIPTION:The Cutlar Community Center\, Tuesdays \n@12:30pm \nContact: Ben Reischer \nBen.reischer@gmail.com
URL:https://brunswickforest.com/events/bridge-group-5/2025-05-13/
LOCATION:Cutler Community Center\, 1120 East Cutlar Crossing\, Leland\, NC\, 28451
CATEGORIES:Resident Activities
ATTACH;FMTTYPE=image/png:https://brunswickforest.com/wpc/uploads/bridge-group.png
ORGANIZER;CN="Ben Reischer":MAILTO:Ben.reischer@gmail.com
END:VEVENT
BEGIN:VEVENT
DTSTART;TZID=America/New_York:20250506T163000
DTEND;TZID=America/New_York:20250506T173000
DTSTAMP:20260421T162342
CREATED:20231012T132353Z
LAST-MODIFIED:20231012T132353Z
UID:10009658-1746549000-1746552600@brunswickforest.com
SUMMARY:Singles & More
DESCRIPTION:Cutlar Community Center \nTuesdays \n@4:30pm \nContact Tena Wright \nwright367@gmail.com \nWebsite: bfsam.org
URL:https://brunswickforest.com/events/singles-more-3/2025-05-06/
LOCATION:Cutler Community Center\, 1120 East Cutlar Crossing\, Leland\, NC\, 28451
CATEGORIES:Resident Activities
ATTACH;FMTTYPE=image/png:https://brunswickforest.com/wpc/uploads/Singles-and-more.png
ORGANIZER;CN="Tena Wright":MAILTO:wright367@gmail.com
END:VEVENT
BEGIN:VEVENT
DTSTART;TZID=America/New_York:20250506T123000
DTEND;TZID=America/New_York:20250506T143000
DTSTAMP:20260421T162342
CREATED:20231012T122946Z
LAST-MODIFIED:20231012T123046Z
UID:10007803-1746534600-1746541800@brunswickforest.com
SUMMARY:Bridge Group
DESCRIPTION:The Cutlar Community Center\, Tuesdays \n@12:30pm \nContact: Ben Reischer \nBen.reischer@gmail.com
URL:https://brunswickforest.com/events/bridge-group-5/2025-05-06/
LOCATION:Cutler Community Center\, 1120 East Cutlar Crossing\, Leland\, NC\, 28451
CATEGORIES:Resident Activities
ATTACH;FMTTYPE=image/png:https://brunswickforest.com/wpc/uploads/bridge-group.png
ORGANIZER;CN="Ben Reischer":MAILTO:Ben.reischer@gmail.com
END:VEVENT
BEGIN:VEVENT
DTSTART;TZID=America/New_York:20250429T163000
DTEND;TZID=America/New_York:20250429T173000
DTSTAMP:20260421T162342
CREATED:20231012T132353Z
LAST-MODIFIED:20231012T132353Z
UID:10009657-1745944200-1745947800@brunswickforest.com
SUMMARY:Singles & More
DESCRIPTION:Cutlar Community Center \nTuesdays \n@4:30pm \nContact Tena Wright \nwright367@gmail.com \nWebsite: bfsam.org
URL:https://brunswickforest.com/events/singles-more-3/2025-04-29/
LOCATION:Cutler Community Center\, 1120 East Cutlar Crossing\, Leland\, NC\, 28451
CATEGORIES:Resident Activities
ATTACH;FMTTYPE=image/png:https://brunswickforest.com/wpc/uploads/Singles-and-more.png
ORGANIZER;CN="Tena Wright":MAILTO:wright367@gmail.com
END:VEVENT
BEGIN:VEVENT
DTSTART;TZID=America/New_York:20250429T123000
DTEND;TZID=America/New_York:20250429T143000
DTSTAMP:20260421T162342
CREATED:20231012T122946Z
LAST-MODIFIED:20231012T123046Z
UID:10007802-1745929800-1745937000@brunswickforest.com
SUMMARY:Bridge Group
DESCRIPTION:The Cutlar Community Center\, Tuesdays \n@12:30pm \nContact: Ben Reischer \nBen.reischer@gmail.com
URL:https://brunswickforest.com/events/bridge-group-5/2025-04-29/
LOCATION:Cutler Community Center\, 1120 East Cutlar Crossing\, Leland\, NC\, 28451
CATEGORIES:Resident Activities
ATTACH;FMTTYPE=image/png:https://brunswickforest.com/wpc/uploads/bridge-group.png
ORGANIZER;CN="Ben Reischer":MAILTO:Ben.reischer@gmail.com
END:VEVENT
BEGIN:VEVENT
DTSTART;TZID=America/New_York:20250422T163000
DTEND;TZID=America/New_York:20250422T173000
DTSTAMP:20260421T162342
CREATED:20231012T132353Z
LAST-MODIFIED:20231012T132353Z
UID:10009656-1745339400-1745343000@brunswickforest.com
SUMMARY:Singles & More
DESCRIPTION:Cutlar Community Center \nTuesdays \n@4:30pm \nContact Tena Wright \nwright367@gmail.com \nWebsite: bfsam.org
URL:https://brunswickforest.com/events/singles-more-3/2025-04-22/
LOCATION:Cutler Community Center\, 1120 East Cutlar Crossing\, Leland\, NC\, 28451
CATEGORIES:Resident Activities
ATTACH;FMTTYPE=image/png:https://brunswickforest.com/wpc/uploads/Singles-and-more.png
ORGANIZER;CN="Tena Wright":MAILTO:wright367@gmail.com
END:VEVENT
BEGIN:VEVENT
DTSTART;TZID=America/New_York:20250422T123000
DTEND;TZID=America/New_York:20250422T143000
DTSTAMP:20260421T162342
CREATED:20231012T122946Z
LAST-MODIFIED:20231012T123046Z
UID:10007801-1745325000-1745332200@brunswickforest.com
SUMMARY:Bridge Group
DESCRIPTION:The Cutlar Community Center\, Tuesdays \n@12:30pm \nContact: Ben Reischer \nBen.reischer@gmail.com
URL:https://brunswickforest.com/events/bridge-group-5/2025-04-22/
LOCATION:Cutler Community Center\, 1120 East Cutlar Crossing\, Leland\, NC\, 28451
CATEGORIES:Resident Activities
ATTACH;FMTTYPE=image/png:https://brunswickforest.com/wpc/uploads/bridge-group.png
ORGANIZER;CN="Ben Reischer":MAILTO:Ben.reischer@gmail.com
END:VEVENT
BEGIN:VEVENT
DTSTART;TZID=America/New_York:20250415T163000
DTEND;TZID=America/New_York:20250415T173000
DTSTAMP:20260421T162342
CREATED:20231012T132353Z
LAST-MODIFIED:20231012T132353Z
UID:10009655-1744734600-1744738200@brunswickforest.com
SUMMARY:Singles & More
DESCRIPTION:Cutlar Community Center \nTuesdays \n@4:30pm \nContact Tena Wright \nwright367@gmail.com \nWebsite: bfsam.org
URL:https://brunswickforest.com/events/singles-more-3/2025-04-15/
LOCATION:Cutler Community Center\, 1120 East Cutlar Crossing\, Leland\, NC\, 28451
CATEGORIES:Resident Activities
ATTACH;FMTTYPE=image/png:https://brunswickforest.com/wpc/uploads/Singles-and-more.png
ORGANIZER;CN="Tena Wright":MAILTO:wright367@gmail.com
END:VEVENT
BEGIN:VEVENT
DTSTART;TZID=America/New_York:20250415T123000
DTEND;TZID=America/New_York:20250415T143000
DTSTAMP:20260421T162342
CREATED:20231012T122946Z
LAST-MODIFIED:20231012T123046Z
UID:10007800-1744720200-1744727400@brunswickforest.com
SUMMARY:Bridge Group
DESCRIPTION:The Cutlar Community Center\, Tuesdays \n@12:30pm \nContact: Ben Reischer \nBen.reischer@gmail.com
URL:https://brunswickforest.com/events/bridge-group-5/2025-04-15/
LOCATION:Cutler Community Center\, 1120 East Cutlar Crossing\, Leland\, NC\, 28451
CATEGORIES:Resident Activities
ATTACH;FMTTYPE=image/png:https://brunswickforest.com/wpc/uploads/bridge-group.png
ORGANIZER;CN="Ben Reischer":MAILTO:Ben.reischer@gmail.com
END:VEVENT
BEGIN:VEVENT
DTSTART;TZID=America/New_York:20250408T163000
DTEND;TZID=America/New_York:20250408T173000
DTSTAMP:20260421T162342
CREATED:20231012T132353Z
LAST-MODIFIED:20231012T132353Z
UID:10009654-1744129800-1744133400@brunswickforest.com
SUMMARY:Singles & More
DESCRIPTION:Cutlar Community Center \nTuesdays \n@4:30pm \nContact Tena Wright \nwright367@gmail.com \nWebsite: bfsam.org
URL:https://brunswickforest.com/events/singles-more-3/2025-04-08/
LOCATION:Cutler Community Center\, 1120 East Cutlar Crossing\, Leland\, NC\, 28451
CATEGORIES:Resident Activities
ATTACH;FMTTYPE=image/png:https://brunswickforest.com/wpc/uploads/Singles-and-more.png
ORGANIZER;CN="Tena Wright":MAILTO:wright367@gmail.com
END:VEVENT
BEGIN:VEVENT
DTSTART;TZID=America/New_York:20250408T123000
DTEND;TZID=America/New_York:20250408T143000
DTSTAMP:20260421T162342
CREATED:20231012T122946Z
LAST-MODIFIED:20231012T123046Z
UID:10007799-1744115400-1744122600@brunswickforest.com
SUMMARY:Bridge Group
DESCRIPTION:The Cutlar Community Center\, Tuesdays \n@12:30pm \nContact: Ben Reischer \nBen.reischer@gmail.com
URL:https://brunswickforest.com/events/bridge-group-5/2025-04-08/
LOCATION:Cutler Community Center\, 1120 East Cutlar Crossing\, Leland\, NC\, 28451
CATEGORIES:Resident Activities
ATTACH;FMTTYPE=image/png:https://brunswickforest.com/wpc/uploads/bridge-group.png
ORGANIZER;CN="Ben Reischer":MAILTO:Ben.reischer@gmail.com
END:VEVENT
BEGIN:VEVENT
DTSTART;TZID=America/New_York:20250401T163000
DTEND;TZID=America/New_York:20250401T173000
DTSTAMP:20260421T162342
CREATED:20231012T132353Z
LAST-MODIFIED:20231012T132353Z
UID:10009653-1743525000-1743528600@brunswickforest.com
SUMMARY:Singles & More
DESCRIPTION:Cutlar Community Center \nTuesdays \n@4:30pm \nContact Tena Wright \nwright367@gmail.com \nWebsite: bfsam.org
URL:https://brunswickforest.com/events/singles-more-3/2025-04-01/
LOCATION:Cutler Community Center\, 1120 East Cutlar Crossing\, Leland\, NC\, 28451
CATEGORIES:Resident Activities
ATTACH;FMTTYPE=image/png:https://brunswickforest.com/wpc/uploads/Singles-and-more.png
ORGANIZER;CN="Tena Wright":MAILTO:wright367@gmail.com
END:VEVENT
BEGIN:VEVENT
DTSTART;TZID=America/New_York:20250401T123000
DTEND;TZID=America/New_York:20250401T143000
DTSTAMP:20260421T162342
CREATED:20231012T122946Z
LAST-MODIFIED:20231012T123046Z
UID:10007798-1743510600-1743517800@brunswickforest.com
SUMMARY:Bridge Group
DESCRIPTION:The Cutlar Community Center\, Tuesdays \n@12:30pm \nContact: Ben Reischer \nBen.reischer@gmail.com
URL:https://brunswickforest.com/events/bridge-group-5/2025-04-01/
LOCATION:Cutler Community Center\, 1120 East Cutlar Crossing\, Leland\, NC\, 28451
CATEGORIES:Resident Activities
ATTACH;FMTTYPE=image/png:https://brunswickforest.com/wpc/uploads/bridge-group.png
ORGANIZER;CN="Ben Reischer":MAILTO:Ben.reischer@gmail.com
END:VEVENT
BEGIN:VEVENT
DTSTART;TZID=America/New_York:20250325T163000
DTEND;TZID=America/New_York:20250325T173000
DTSTAMP:20260421T162342
CREATED:20231012T132353Z
LAST-MODIFIED:20231012T132353Z
UID:10009652-1742920200-1742923800@brunswickforest.com
SUMMARY:Singles & More
DESCRIPTION:Cutlar Community Center \nTuesdays \n@4:30pm \nContact Tena Wright \nwright367@gmail.com \nWebsite: bfsam.org
URL:https://brunswickforest.com/events/singles-more-3/2025-03-25/
LOCATION:Cutler Community Center\, 1120 East Cutlar Crossing\, Leland\, NC\, 28451
CATEGORIES:Resident Activities
ATTACH;FMTTYPE=image/png:https://brunswickforest.com/wpc/uploads/Singles-and-more.png
ORGANIZER;CN="Tena Wright":MAILTO:wright367@gmail.com
END:VEVENT
BEGIN:VEVENT
DTSTART;TZID=America/New_York:20250325T123000
DTEND;TZID=America/New_York:20250325T143000
DTSTAMP:20260421T162342
CREATED:20231012T122946Z
LAST-MODIFIED:20231012T123046Z
UID:10007797-1742905800-1742913000@brunswickforest.com
SUMMARY:Bridge Group
DESCRIPTION:The Cutlar Community Center\, Tuesdays \n@12:30pm \nContact: Ben Reischer \nBen.reischer@gmail.com
URL:https://brunswickforest.com/events/bridge-group-5/2025-03-25/
LOCATION:Cutler Community Center\, 1120 East Cutlar Crossing\, Leland\, NC\, 28451
CATEGORIES:Resident Activities
ATTACH;FMTTYPE=image/png:https://brunswickforest.com/wpc/uploads/bridge-group.png
ORGANIZER;CN="Ben Reischer":MAILTO:Ben.reischer@gmail.com
END:VEVENT
BEGIN:VEVENT
DTSTART;TZID=America/New_York:20250318T163000
DTEND;TZID=America/New_York:20250318T173000
DTSTAMP:20260421T162342
CREATED:20231012T132353Z
LAST-MODIFIED:20231012T132353Z
UID:10009651-1742315400-1742319000@brunswickforest.com
SUMMARY:Singles & More
DESCRIPTION:Cutlar Community Center \nTuesdays \n@4:30pm \nContact Tena Wright \nwright367@gmail.com \nWebsite: bfsam.org
URL:https://brunswickforest.com/events/singles-more-3/2025-03-18/
LOCATION:Cutler Community Center\, 1120 East Cutlar Crossing\, Leland\, NC\, 28451
CATEGORIES:Resident Activities
ATTACH;FMTTYPE=image/png:https://brunswickforest.com/wpc/uploads/Singles-and-more.png
ORGANIZER;CN="Tena Wright":MAILTO:wright367@gmail.com
END:VEVENT
BEGIN:VEVENT
DTSTART;TZID=America/New_York:20250318T123000
DTEND;TZID=America/New_York:20250318T143000
DTSTAMP:20260421T162342
CREATED:20231012T122946Z
LAST-MODIFIED:20231012T123046Z
UID:10007796-1742301000-1742308200@brunswickforest.com
SUMMARY:Bridge Group
DESCRIPTION:The Cutlar Community Center\, Tuesdays \n@12:30pm \nContact: Ben Reischer \nBen.reischer@gmail.com
URL:https://brunswickforest.com/events/bridge-group-5/2025-03-18/
LOCATION:Cutler Community Center\, 1120 East Cutlar Crossing\, Leland\, NC\, 28451
CATEGORIES:Resident Activities
ATTACH;FMTTYPE=image/png:https://brunswickforest.com/wpc/uploads/bridge-group.png
ORGANIZER;CN="Ben Reischer":MAILTO:Ben.reischer@gmail.com
END:VEVENT
END:VCALENDAR