BEGIN:VCALENDAR
VERSION:2.0
PRODID:-//Brunswick Forest - ECPv6.15.20//NONSGML v1.0//EN
CALSCALE:GREGORIAN
METHOD:PUBLISH
X-WR-CALNAME:Brunswick Forest
X-ORIGINAL-URL:https://brunswickforest.com
X-WR-CALDESC:Events for Brunswick Forest
REFRESH-INTERVAL;VALUE=DURATION:PT1H
X-Robots-Tag:noindex
X-PUBLISHED-TTL:PT1H
BEGIN:VTIMEZONE
TZID:America/New_York
BEGIN:DAYLIGHT
TZOFFSETFROM:-0500
TZOFFSETTO:-0400
TZNAME:EDT
DTSTART:20250309T070000
END:DAYLIGHT
BEGIN:STANDARD
TZOFFSETFROM:-0400
TZOFFSETTO:-0500
TZNAME:EST
DTSTART:20251102T060000
END:STANDARD
BEGIN:DAYLIGHT
TZOFFSETFROM:-0500
TZOFFSETTO:-0400
TZNAME:EDT
DTSTART:20260308T070000
END:DAYLIGHT
BEGIN:STANDARD
TZOFFSETFROM:-0400
TZOFFSETTO:-0500
TZNAME:EST
DTSTART:20261101T060000
END:STANDARD
BEGIN:DAYLIGHT
TZOFFSETFROM:-0500
TZOFFSETTO:-0400
TZNAME:EDT
DTSTART:20270314T070000
END:DAYLIGHT
BEGIN:STANDARD
TZOFFSETFROM:-0400
TZOFFSETTO:-0500
TZNAME:EST
DTSTART:20271107T060000
END:STANDARD
BEGIN:DAYLIGHT
TZOFFSETFROM:-0500
TZOFFSETTO:-0400
TZNAME:EDT
DTSTART:20280312T070000
END:DAYLIGHT
BEGIN:STANDARD
TZOFFSETFROM:-0400
TZOFFSETTO:-0500
TZNAME:EST
DTSTART:20281105T060000
END:STANDARD
END:VTIMEZONE
BEGIN:VEVENT
DTSTART;TZID=America/New_York:20260907T090000
DTEND;TZID=America/New_York:20260907T230000
DTSTAMP:20260419T141808
CREATED:20231012T122133Z
LAST-MODIFIED:20231012T122133Z
UID:10006808-1788771600-1788822000@brunswickforest.com
SUMMARY:Forest Quilters
DESCRIPTION:Textile Art & Quilting \nThe Community Commons \n@9am \nContact: Sallie Minnich \nSdminnich1@yahooo.com
URL:https://brunswickforest.com/events/forest-quilters-3/2026-09-07/
LOCATION:Community Commons
CATEGORIES:Resident Activities
ATTACH;FMTTYPE=image/png:https://brunswickforest.com/wpc/uploads/quilting-1.png
ORGANIZER;CN="Sallie Minnich":MAILTO:Sdminnich1@yahooo.com
END:VEVENT
BEGIN:VEVENT
DTSTART;TZID=America/New_York:20260914T090000
DTEND;TZID=America/New_York:20260914T230000
DTSTAMP:20260419T141808
CREATED:20231012T122133Z
LAST-MODIFIED:20231012T122133Z
UID:10006809-1789376400-1789426800@brunswickforest.com
SUMMARY:Forest Quilters
DESCRIPTION:Textile Art & Quilting \nThe Community Commons \n@9am \nContact: Sallie Minnich \nSdminnich1@yahooo.com
URL:https://brunswickforest.com/events/forest-quilters-3/2026-09-14/
LOCATION:Community Commons
CATEGORIES:Resident Activities
ATTACH;FMTTYPE=image/png:https://brunswickforest.com/wpc/uploads/quilting-1.png
ORGANIZER;CN="Sallie Minnich":MAILTO:Sdminnich1@yahooo.com
END:VEVENT
BEGIN:VEVENT
DTSTART;TZID=America/New_York:20260921T090000
DTEND;TZID=America/New_York:20260921T230000
DTSTAMP:20260419T141808
CREATED:20231012T122133Z
LAST-MODIFIED:20231012T122133Z
UID:10006810-1789981200-1790031600@brunswickforest.com
SUMMARY:Forest Quilters
DESCRIPTION:Textile Art & Quilting \nThe Community Commons \n@9am \nContact: Sallie Minnich \nSdminnich1@yahooo.com
URL:https://brunswickforest.com/events/forest-quilters-3/2026-09-21/
LOCATION:Community Commons
CATEGORIES:Resident Activities
ATTACH;FMTTYPE=image/png:https://brunswickforest.com/wpc/uploads/quilting-1.png
ORGANIZER;CN="Sallie Minnich":MAILTO:Sdminnich1@yahooo.com
END:VEVENT
BEGIN:VEVENT
DTSTART;TZID=America/New_York:20260928T090000
DTEND;TZID=America/New_York:20260928T230000
DTSTAMP:20260419T141808
CREATED:20231012T122133Z
LAST-MODIFIED:20231012T122133Z
UID:10006811-1790586000-1790636400@brunswickforest.com
SUMMARY:Forest Quilters
DESCRIPTION:Textile Art & Quilting \nThe Community Commons \n@9am \nContact: Sallie Minnich \nSdminnich1@yahooo.com
URL:https://brunswickforest.com/events/forest-quilters-3/2026-09-28/
LOCATION:Community Commons
CATEGORIES:Resident Activities
ATTACH;FMTTYPE=image/png:https://brunswickforest.com/wpc/uploads/quilting-1.png
ORGANIZER;CN="Sallie Minnich":MAILTO:Sdminnich1@yahooo.com
END:VEVENT
BEGIN:VEVENT
DTSTART;TZID=America/New_York:20261005T090000
DTEND;TZID=America/New_York:20261005T230000
DTSTAMP:20260419T141808
CREATED:20231012T122133Z
LAST-MODIFIED:20231012T122133Z
UID:10006812-1791190800-1791241200@brunswickforest.com
SUMMARY:Forest Quilters
DESCRIPTION:Textile Art & Quilting \nThe Community Commons \n@9am \nContact: Sallie Minnich \nSdminnich1@yahooo.com
URL:https://brunswickforest.com/events/forest-quilters-3/2026-10-05/
LOCATION:Community Commons
CATEGORIES:Resident Activities
ATTACH;FMTTYPE=image/png:https://brunswickforest.com/wpc/uploads/quilting-1.png
ORGANIZER;CN="Sallie Minnich":MAILTO:Sdminnich1@yahooo.com
END:VEVENT
BEGIN:VEVENT
DTSTART;TZID=America/New_York:20261012T090000
DTEND;TZID=America/New_York:20261012T230000
DTSTAMP:20260419T141808
CREATED:20231012T122133Z
LAST-MODIFIED:20231012T122133Z
UID:10006813-1791795600-1791846000@brunswickforest.com
SUMMARY:Forest Quilters
DESCRIPTION:Textile Art & Quilting \nThe Community Commons \n@9am \nContact: Sallie Minnich \nSdminnich1@yahooo.com
URL:https://brunswickforest.com/events/forest-quilters-3/2026-10-12/
LOCATION:Community Commons
CATEGORIES:Resident Activities
ATTACH;FMTTYPE=image/png:https://brunswickforest.com/wpc/uploads/quilting-1.png
ORGANIZER;CN="Sallie Minnich":MAILTO:Sdminnich1@yahooo.com
END:VEVENT
BEGIN:VEVENT
DTSTART;TZID=America/New_York:20261019T090000
DTEND;TZID=America/New_York:20261019T230000
DTSTAMP:20260419T141808
CREATED:20231012T122133Z
LAST-MODIFIED:20231012T122133Z
UID:10006814-1792400400-1792450800@brunswickforest.com
SUMMARY:Forest Quilters
DESCRIPTION:Textile Art & Quilting \nThe Community Commons \n@9am \nContact: Sallie Minnich \nSdminnich1@yahooo.com
URL:https://brunswickforest.com/events/forest-quilters-3/2026-10-19/
LOCATION:Community Commons
CATEGORIES:Resident Activities
ATTACH;FMTTYPE=image/png:https://brunswickforest.com/wpc/uploads/quilting-1.png
ORGANIZER;CN="Sallie Minnich":MAILTO:Sdminnich1@yahooo.com
END:VEVENT
BEGIN:VEVENT
DTSTART;TZID=America/New_York:20261026T090000
DTEND;TZID=America/New_York:20261026T230000
DTSTAMP:20260419T141808
CREATED:20231012T122133Z
LAST-MODIFIED:20231012T122133Z
UID:10006815-1793005200-1793055600@brunswickforest.com
SUMMARY:Forest Quilters
DESCRIPTION:Textile Art & Quilting \nThe Community Commons \n@9am \nContact: Sallie Minnich \nSdminnich1@yahooo.com
URL:https://brunswickforest.com/events/forest-quilters-3/2026-10-26/
LOCATION:Community Commons
CATEGORIES:Resident Activities
ATTACH;FMTTYPE=image/png:https://brunswickforest.com/wpc/uploads/quilting-1.png
ORGANIZER;CN="Sallie Minnich":MAILTO:Sdminnich1@yahooo.com
END:VEVENT
BEGIN:VEVENT
DTSTART;TZID=America/New_York:20261102T090000
DTEND;TZID=America/New_York:20261102T230000
DTSTAMP:20260419T141808
CREATED:20231012T122133Z
LAST-MODIFIED:20231012T122133Z
UID:10006816-1793610000-1793660400@brunswickforest.com
SUMMARY:Forest Quilters
DESCRIPTION:Textile Art & Quilting \nThe Community Commons \n@9am \nContact: Sallie Minnich \nSdminnich1@yahooo.com
URL:https://brunswickforest.com/events/forest-quilters-3/2026-11-02/
LOCATION:Community Commons
CATEGORIES:Resident Activities
ATTACH;FMTTYPE=image/png:https://brunswickforest.com/wpc/uploads/quilting-1.png
ORGANIZER;CN="Sallie Minnich":MAILTO:Sdminnich1@yahooo.com
END:VEVENT
BEGIN:VEVENT
DTSTART;TZID=America/New_York:20261109T090000
DTEND;TZID=America/New_York:20261109T230000
DTSTAMP:20260419T141808
CREATED:20231012T122133Z
LAST-MODIFIED:20231012T122133Z
UID:10006817-1794214800-1794265200@brunswickforest.com
SUMMARY:Forest Quilters
DESCRIPTION:Textile Art & Quilting \nThe Community Commons \n@9am \nContact: Sallie Minnich \nSdminnich1@yahooo.com
URL:https://brunswickforest.com/events/forest-quilters-3/2026-11-09/
LOCATION:Community Commons
CATEGORIES:Resident Activities
ATTACH;FMTTYPE=image/png:https://brunswickforest.com/wpc/uploads/quilting-1.png
ORGANIZER;CN="Sallie Minnich":MAILTO:Sdminnich1@yahooo.com
END:VEVENT
BEGIN:VEVENT
DTSTART;TZID=America/New_York:20261116T090000
DTEND;TZID=America/New_York:20261116T230000
DTSTAMP:20260419T141808
CREATED:20231012T122133Z
LAST-MODIFIED:20231012T122133Z
UID:10006818-1794819600-1794870000@brunswickforest.com
SUMMARY:Forest Quilters
DESCRIPTION:Textile Art & Quilting \nThe Community Commons \n@9am \nContact: Sallie Minnich \nSdminnich1@yahooo.com
URL:https://brunswickforest.com/events/forest-quilters-3/2026-11-16/
LOCATION:Community Commons
CATEGORIES:Resident Activities
ATTACH;FMTTYPE=image/png:https://brunswickforest.com/wpc/uploads/quilting-1.png
ORGANIZER;CN="Sallie Minnich":MAILTO:Sdminnich1@yahooo.com
END:VEVENT
BEGIN:VEVENT
DTSTART;TZID=America/New_York:20261123T090000
DTEND;TZID=America/New_York:20261123T230000
DTSTAMP:20260419T141808
CREATED:20231012T122133Z
LAST-MODIFIED:20231012T122133Z
UID:10006819-1795424400-1795474800@brunswickforest.com
SUMMARY:Forest Quilters
DESCRIPTION:Textile Art & Quilting \nThe Community Commons \n@9am \nContact: Sallie Minnich \nSdminnich1@yahooo.com
URL:https://brunswickforest.com/events/forest-quilters-3/2026-11-23/
LOCATION:Community Commons
CATEGORIES:Resident Activities
ATTACH;FMTTYPE=image/png:https://brunswickforest.com/wpc/uploads/quilting-1.png
ORGANIZER;CN="Sallie Minnich":MAILTO:Sdminnich1@yahooo.com
END:VEVENT
BEGIN:VEVENT
DTSTART;TZID=America/New_York:20261130T090000
DTEND;TZID=America/New_York:20261130T230000
DTSTAMP:20260419T141808
CREATED:20231012T122133Z
LAST-MODIFIED:20231012T122133Z
UID:10006820-1796029200-1796079600@brunswickforest.com
SUMMARY:Forest Quilters
DESCRIPTION:Textile Art & Quilting \nThe Community Commons \n@9am \nContact: Sallie Minnich \nSdminnich1@yahooo.com
URL:https://brunswickforest.com/events/forest-quilters-3/2026-11-30/
LOCATION:Community Commons
CATEGORIES:Resident Activities
ATTACH;FMTTYPE=image/png:https://brunswickforest.com/wpc/uploads/quilting-1.png
ORGANIZER;CN="Sallie Minnich":MAILTO:Sdminnich1@yahooo.com
END:VEVENT
BEGIN:VEVENT
DTSTART;TZID=America/New_York:20261207T090000
DTEND;TZID=America/New_York:20261207T230000
DTSTAMP:20260419T141808
CREATED:20231012T122133Z
LAST-MODIFIED:20231012T122133Z
UID:10006821-1796634000-1796684400@brunswickforest.com
SUMMARY:Forest Quilters
DESCRIPTION:Textile Art & Quilting \nThe Community Commons \n@9am \nContact: Sallie Minnich \nSdminnich1@yahooo.com
URL:https://brunswickforest.com/events/forest-quilters-3/2026-12-07/
LOCATION:Community Commons
CATEGORIES:Resident Activities
ATTACH;FMTTYPE=image/png:https://brunswickforest.com/wpc/uploads/quilting-1.png
ORGANIZER;CN="Sallie Minnich":MAILTO:Sdminnich1@yahooo.com
END:VEVENT
BEGIN:VEVENT
DTSTART;TZID=America/New_York:20261214T090000
DTEND;TZID=America/New_York:20261214T230000
DTSTAMP:20260419T141808
CREATED:20231012T122133Z
LAST-MODIFIED:20231012T122133Z
UID:10006822-1797238800-1797289200@brunswickforest.com
SUMMARY:Forest Quilters
DESCRIPTION:Textile Art & Quilting \nThe Community Commons \n@9am \nContact: Sallie Minnich \nSdminnich1@yahooo.com
URL:https://brunswickforest.com/events/forest-quilters-3/2026-12-14/
LOCATION:Community Commons
CATEGORIES:Resident Activities
ATTACH;FMTTYPE=image/png:https://brunswickforest.com/wpc/uploads/quilting-1.png
ORGANIZER;CN="Sallie Minnich":MAILTO:Sdminnich1@yahooo.com
END:VEVENT
BEGIN:VEVENT
DTSTART;TZID=America/New_York:20261221T090000
DTEND;TZID=America/New_York:20261221T230000
DTSTAMP:20260419T141808
CREATED:20231012T122133Z
LAST-MODIFIED:20231012T122133Z
UID:10006823-1797843600-1797894000@brunswickforest.com
SUMMARY:Forest Quilters
DESCRIPTION:Textile Art & Quilting \nThe Community Commons \n@9am \nContact: Sallie Minnich \nSdminnich1@yahooo.com
URL:https://brunswickforest.com/events/forest-quilters-3/2026-12-21/
LOCATION:Community Commons
CATEGORIES:Resident Activities
ATTACH;FMTTYPE=image/png:https://brunswickforest.com/wpc/uploads/quilting-1.png
ORGANIZER;CN="Sallie Minnich":MAILTO:Sdminnich1@yahooo.com
END:VEVENT
BEGIN:VEVENT
DTSTART;TZID=America/New_York:20261228T090000
DTEND;TZID=America/New_York:20261228T230000
DTSTAMP:20260419T141808
CREATED:20231012T122133Z
LAST-MODIFIED:20231012T122133Z
UID:10006824-1798448400-1798498800@brunswickforest.com
SUMMARY:Forest Quilters
DESCRIPTION:Textile Art & Quilting \nThe Community Commons \n@9am \nContact: Sallie Minnich \nSdminnich1@yahooo.com
URL:https://brunswickforest.com/events/forest-quilters-3/2026-12-28/
LOCATION:Community Commons
CATEGORIES:Resident Activities
ATTACH;FMTTYPE=image/png:https://brunswickforest.com/wpc/uploads/quilting-1.png
ORGANIZER;CN="Sallie Minnich":MAILTO:Sdminnich1@yahooo.com
END:VEVENT
BEGIN:VEVENT
DTSTART;TZID=America/New_York:20270104T090000
DTEND;TZID=America/New_York:20270104T230000
DTSTAMP:20260419T141808
CREATED:20231012T122133Z
LAST-MODIFIED:20231012T122133Z
UID:10006825-1799053200-1799103600@brunswickforest.com
SUMMARY:Forest Quilters
DESCRIPTION:Textile Art & Quilting \nThe Community Commons \n@9am \nContact: Sallie Minnich \nSdminnich1@yahooo.com
URL:https://brunswickforest.com/events/forest-quilters-3/2027-01-04/
LOCATION:Community Commons
CATEGORIES:Resident Activities
ATTACH;FMTTYPE=image/png:https://brunswickforest.com/wpc/uploads/quilting-1.png
ORGANIZER;CN="Sallie Minnich":MAILTO:Sdminnich1@yahooo.com
END:VEVENT
BEGIN:VEVENT
DTSTART;TZID=America/New_York:20270111T090000
DTEND;TZID=America/New_York:20270111T230000
DTSTAMP:20260419T141808
CREATED:20231012T122133Z
LAST-MODIFIED:20231012T122133Z
UID:10006826-1799658000-1799708400@brunswickforest.com
SUMMARY:Forest Quilters
DESCRIPTION:Textile Art & Quilting \nThe Community Commons \n@9am \nContact: Sallie Minnich \nSdminnich1@yahooo.com
URL:https://brunswickforest.com/events/forest-quilters-3/2027-01-11/
LOCATION:Community Commons
CATEGORIES:Resident Activities
ATTACH;FMTTYPE=image/png:https://brunswickforest.com/wpc/uploads/quilting-1.png
ORGANIZER;CN="Sallie Minnich":MAILTO:Sdminnich1@yahooo.com
END:VEVENT
BEGIN:VEVENT
DTSTART;TZID=America/New_York:20270118T090000
DTEND;TZID=America/New_York:20270118T230000
DTSTAMP:20260419T141808
CREATED:20231012T122133Z
LAST-MODIFIED:20231012T122133Z
UID:10006827-1800262800-1800313200@brunswickforest.com
SUMMARY:Forest Quilters
DESCRIPTION:Textile Art & Quilting \nThe Community Commons \n@9am \nContact: Sallie Minnich \nSdminnich1@yahooo.com
URL:https://brunswickforest.com/events/forest-quilters-3/2027-01-18/
LOCATION:Community Commons
CATEGORIES:Resident Activities
ATTACH;FMTTYPE=image/png:https://brunswickforest.com/wpc/uploads/quilting-1.png
ORGANIZER;CN="Sallie Minnich":MAILTO:Sdminnich1@yahooo.com
END:VEVENT
BEGIN:VEVENT
DTSTART;TZID=America/New_York:20270125T090000
DTEND;TZID=America/New_York:20270125T230000
DTSTAMP:20260419T141808
CREATED:20231012T122133Z
LAST-MODIFIED:20231012T122133Z
UID:10006828-1800867600-1800918000@brunswickforest.com
SUMMARY:Forest Quilters
DESCRIPTION:Textile Art & Quilting \nThe Community Commons \n@9am \nContact: Sallie Minnich \nSdminnich1@yahooo.com
URL:https://brunswickforest.com/events/forest-quilters-3/2027-01-25/
LOCATION:Community Commons
CATEGORIES:Resident Activities
ATTACH;FMTTYPE=image/png:https://brunswickforest.com/wpc/uploads/quilting-1.png
ORGANIZER;CN="Sallie Minnich":MAILTO:Sdminnich1@yahooo.com
END:VEVENT
BEGIN:VEVENT
DTSTART;TZID=America/New_York:20270201T090000
DTEND;TZID=America/New_York:20270201T230000
DTSTAMP:20260419T141808
CREATED:20231012T122133Z
LAST-MODIFIED:20231012T122133Z
UID:10006829-1801472400-1801522800@brunswickforest.com
SUMMARY:Forest Quilters
DESCRIPTION:Textile Art & Quilting \nThe Community Commons \n@9am \nContact: Sallie Minnich \nSdminnich1@yahooo.com
URL:https://brunswickforest.com/events/forest-quilters-3/2027-02-01/
LOCATION:Community Commons
CATEGORIES:Resident Activities
ATTACH;FMTTYPE=image/png:https://brunswickforest.com/wpc/uploads/quilting-1.png
ORGANIZER;CN="Sallie Minnich":MAILTO:Sdminnich1@yahooo.com
END:VEVENT
BEGIN:VEVENT
DTSTART;TZID=America/New_York:20270208T090000
DTEND;TZID=America/New_York:20270208T230000
DTSTAMP:20260419T141808
CREATED:20231012T122133Z
LAST-MODIFIED:20231012T122133Z
UID:10006830-1802077200-1802127600@brunswickforest.com
SUMMARY:Forest Quilters
DESCRIPTION:Textile Art & Quilting \nThe Community Commons \n@9am \nContact: Sallie Minnich \nSdminnich1@yahooo.com
URL:https://brunswickforest.com/events/forest-quilters-3/2027-02-08/
LOCATION:Community Commons
CATEGORIES:Resident Activities
ATTACH;FMTTYPE=image/png:https://brunswickforest.com/wpc/uploads/quilting-1.png
ORGANIZER;CN="Sallie Minnich":MAILTO:Sdminnich1@yahooo.com
END:VEVENT
BEGIN:VEVENT
DTSTART;TZID=America/New_York:20270215T090000
DTEND;TZID=America/New_York:20270215T230000
DTSTAMP:20260419T141808
CREATED:20231012T122133Z
LAST-MODIFIED:20231012T122133Z
UID:10006831-1802682000-1802732400@brunswickforest.com
SUMMARY:Forest Quilters
DESCRIPTION:Textile Art & Quilting \nThe Community Commons \n@9am \nContact: Sallie Minnich \nSdminnich1@yahooo.com
URL:https://brunswickforest.com/events/forest-quilters-3/2027-02-15/
LOCATION:Community Commons
CATEGORIES:Resident Activities
ATTACH;FMTTYPE=image/png:https://brunswickforest.com/wpc/uploads/quilting-1.png
ORGANIZER;CN="Sallie Minnich":MAILTO:Sdminnich1@yahooo.com
END:VEVENT
BEGIN:VEVENT
DTSTART;TZID=America/New_York:20270222T090000
DTEND;TZID=America/New_York:20270222T230000
DTSTAMP:20260419T141808
CREATED:20231012T122133Z
LAST-MODIFIED:20231012T122133Z
UID:10006832-1803286800-1803337200@brunswickforest.com
SUMMARY:Forest Quilters
DESCRIPTION:Textile Art & Quilting \nThe Community Commons \n@9am \nContact: Sallie Minnich \nSdminnich1@yahooo.com
URL:https://brunswickforest.com/events/forest-quilters-3/2027-02-22/
LOCATION:Community Commons
CATEGORIES:Resident Activities
ATTACH;FMTTYPE=image/png:https://brunswickforest.com/wpc/uploads/quilting-1.png
ORGANIZER;CN="Sallie Minnich":MAILTO:Sdminnich1@yahooo.com
END:VEVENT
BEGIN:VEVENT
DTSTART;TZID=America/New_York:20270301T090000
DTEND;TZID=America/New_York:20270301T230000
DTSTAMP:20260419T141808
CREATED:20231012T122133Z
LAST-MODIFIED:20231012T122133Z
UID:10006833-1803891600-1803942000@brunswickforest.com
SUMMARY:Forest Quilters
DESCRIPTION:Textile Art & Quilting \nThe Community Commons \n@9am \nContact: Sallie Minnich \nSdminnich1@yahooo.com
URL:https://brunswickforest.com/events/forest-quilters-3/2027-03-01/
LOCATION:Community Commons
CATEGORIES:Resident Activities
ATTACH;FMTTYPE=image/png:https://brunswickforest.com/wpc/uploads/quilting-1.png
ORGANIZER;CN="Sallie Minnich":MAILTO:Sdminnich1@yahooo.com
END:VEVENT
BEGIN:VEVENT
DTSTART;TZID=America/New_York:20270308T090000
DTEND;TZID=America/New_York:20270308T230000
DTSTAMP:20260419T141808
CREATED:20231012T122133Z
LAST-MODIFIED:20231012T122133Z
UID:10006834-1804496400-1804546800@brunswickforest.com
SUMMARY:Forest Quilters
DESCRIPTION:Textile Art & Quilting \nThe Community Commons \n@9am \nContact: Sallie Minnich \nSdminnich1@yahooo.com
URL:https://brunswickforest.com/events/forest-quilters-3/2027-03-08/
LOCATION:Community Commons
CATEGORIES:Resident Activities
ATTACH;FMTTYPE=image/png:https://brunswickforest.com/wpc/uploads/quilting-1.png
ORGANIZER;CN="Sallie Minnich":MAILTO:Sdminnich1@yahooo.com
END:VEVENT
BEGIN:VEVENT
DTSTART;TZID=America/New_York:20270315T090000
DTEND;TZID=America/New_York:20270315T230000
DTSTAMP:20260419T141808
CREATED:20231012T122133Z
LAST-MODIFIED:20231012T122133Z
UID:10006835-1805101200-1805151600@brunswickforest.com
SUMMARY:Forest Quilters
DESCRIPTION:Textile Art & Quilting \nThe Community Commons \n@9am \nContact: Sallie Minnich \nSdminnich1@yahooo.com
URL:https://brunswickforest.com/events/forest-quilters-3/2027-03-15/
LOCATION:Community Commons
CATEGORIES:Resident Activities
ATTACH;FMTTYPE=image/png:https://brunswickforest.com/wpc/uploads/quilting-1.png
ORGANIZER;CN="Sallie Minnich":MAILTO:Sdminnich1@yahooo.com
END:VEVENT
BEGIN:VEVENT
DTSTART;TZID=America/New_York:20270322T090000
DTEND;TZID=America/New_York:20270322T230000
DTSTAMP:20260419T141808
CREATED:20231012T122133Z
LAST-MODIFIED:20231012T122133Z
UID:10006836-1805706000-1805756400@brunswickforest.com
SUMMARY:Forest Quilters
DESCRIPTION:Textile Art & Quilting \nThe Community Commons \n@9am \nContact: Sallie Minnich \nSdminnich1@yahooo.com
URL:https://brunswickforest.com/events/forest-quilters-3/2027-03-22/
LOCATION:Community Commons
CATEGORIES:Resident Activities
ATTACH;FMTTYPE=image/png:https://brunswickforest.com/wpc/uploads/quilting-1.png
ORGANIZER;CN="Sallie Minnich":MAILTO:Sdminnich1@yahooo.com
END:VEVENT
BEGIN:VEVENT
DTSTART;TZID=America/New_York:20270329T090000
DTEND;TZID=America/New_York:20270329T230000
DTSTAMP:20260419T141808
CREATED:20231012T122133Z
LAST-MODIFIED:20231012T122133Z
UID:10006837-1806310800-1806361200@brunswickforest.com
SUMMARY:Forest Quilters
DESCRIPTION:Textile Art & Quilting \nThe Community Commons \n@9am \nContact: Sallie Minnich \nSdminnich1@yahooo.com
URL:https://brunswickforest.com/events/forest-quilters-3/2027-03-29/
LOCATION:Community Commons
CATEGORIES:Resident Activities
ATTACH;FMTTYPE=image/png:https://brunswickforest.com/wpc/uploads/quilting-1.png
ORGANIZER;CN="Sallie Minnich":MAILTO:Sdminnich1@yahooo.com
END:VEVENT
END:VCALENDAR