BEGIN:VCALENDAR
VERSION:2.0
PRODID:-//Brunswick Forest - ECPv6.15.20//NONSGML v1.0//EN
CALSCALE:GREGORIAN
METHOD:PUBLISH
X-WR-CALNAME:Brunswick Forest
X-ORIGINAL-URL:https://brunswickforest.com
X-WR-CALDESC:Events for Brunswick Forest
REFRESH-INTERVAL;VALUE=DURATION:PT1H
X-Robots-Tag:noindex
X-PUBLISHED-TTL:PT1H
BEGIN:VTIMEZONE
TZID:America/New_York
BEGIN:DAYLIGHT
TZOFFSETFROM:-0500
TZOFFSETTO:-0400
TZNAME:EDT
DTSTART:20270314T070000
END:DAYLIGHT
BEGIN:STANDARD
TZOFFSETFROM:-0400
TZOFFSETTO:-0500
TZNAME:EST
DTSTART:20271107T060000
END:STANDARD
BEGIN:DAYLIGHT
TZOFFSETFROM:-0500
TZOFFSETTO:-0400
TZNAME:EDT
DTSTART:20280312T070000
END:DAYLIGHT
BEGIN:STANDARD
TZOFFSETFROM:-0400
TZOFFSETTO:-0500
TZNAME:EST
DTSTART:20281105T060000
END:STANDARD
BEGIN:DAYLIGHT
TZOFFSETFROM:-0500
TZOFFSETTO:-0400
TZNAME:EDT
DTSTART:20290311T070000
END:DAYLIGHT
BEGIN:STANDARD
TZOFFSETFROM:-0400
TZOFFSETTO:-0500
TZNAME:EST
DTSTART:20291104T060000
END:STANDARD
END:VTIMEZONE
BEGIN:VEVENT
DTSTART;TZID=America/New_York:20280221T090000
DTEND;TZID=America/New_York:20280221T230000
DTSTAMP:20260424T124705
CREATED:20231012T122133Z
LAST-MODIFIED:20231012T122133Z
UID:10006884-1834736400-1834786800@brunswickforest.com
SUMMARY:Forest Quilters
DESCRIPTION:Textile Art & Quilting \nThe Community Commons \n@9am \nContact: Sallie Minnich \nSdminnich1@yahooo.com
URL:https://brunswickforest.com/events/forest-quilters-3/2028-02-21/
LOCATION:Community Commons
CATEGORIES:Resident Activities
ATTACH;FMTTYPE=image/png:https://brunswickforest.com/wpc/uploads/quilting-1.png
ORGANIZER;CN="Sallie Minnich":MAILTO:Sdminnich1@yahooo.com
END:VEVENT
BEGIN:VEVENT
DTSTART;TZID=America/New_York:20280228T090000
DTEND;TZID=America/New_York:20280228T230000
DTSTAMP:20260424T124705
CREATED:20231012T122133Z
LAST-MODIFIED:20231012T122133Z
UID:10006885-1835341200-1835391600@brunswickforest.com
SUMMARY:Forest Quilters
DESCRIPTION:Textile Art & Quilting \nThe Community Commons \n@9am \nContact: Sallie Minnich \nSdminnich1@yahooo.com
URL:https://brunswickforest.com/events/forest-quilters-3/2028-02-28/
LOCATION:Community Commons
CATEGORIES:Resident Activities
ATTACH;FMTTYPE=image/png:https://brunswickforest.com/wpc/uploads/quilting-1.png
ORGANIZER;CN="Sallie Minnich":MAILTO:Sdminnich1@yahooo.com
END:VEVENT
BEGIN:VEVENT
DTSTART;TZID=America/New_York:20280306T090000
DTEND;TZID=America/New_York:20280306T230000
DTSTAMP:20260424T124705
CREATED:20231012T122133Z
LAST-MODIFIED:20231012T122133Z
UID:10006886-1835946000-1835996400@brunswickforest.com
SUMMARY:Forest Quilters
DESCRIPTION:Textile Art & Quilting \nThe Community Commons \n@9am \nContact: Sallie Minnich \nSdminnich1@yahooo.com
URL:https://brunswickforest.com/events/forest-quilters-3/2028-03-06/
LOCATION:Community Commons
CATEGORIES:Resident Activities
ATTACH;FMTTYPE=image/png:https://brunswickforest.com/wpc/uploads/quilting-1.png
ORGANIZER;CN="Sallie Minnich":MAILTO:Sdminnich1@yahooo.com
END:VEVENT
BEGIN:VEVENT
DTSTART;TZID=America/New_York:20280313T090000
DTEND;TZID=America/New_York:20280313T230000
DTSTAMP:20260424T124705
CREATED:20231012T122133Z
LAST-MODIFIED:20231012T122133Z
UID:10006887-1836550800-1836601200@brunswickforest.com
SUMMARY:Forest Quilters
DESCRIPTION:Textile Art & Quilting \nThe Community Commons \n@9am \nContact: Sallie Minnich \nSdminnich1@yahooo.com
URL:https://brunswickforest.com/events/forest-quilters-3/2028-03-13/
LOCATION:Community Commons
CATEGORIES:Resident Activities
ATTACH;FMTTYPE=image/png:https://brunswickforest.com/wpc/uploads/quilting-1.png
ORGANIZER;CN="Sallie Minnich":MAILTO:Sdminnich1@yahooo.com
END:VEVENT
BEGIN:VEVENT
DTSTART;TZID=America/New_York:20280320T090000
DTEND;TZID=America/New_York:20280320T230000
DTSTAMP:20260424T124705
CREATED:20231012T122133Z
LAST-MODIFIED:20231012T122133Z
UID:10006888-1837155600-1837206000@brunswickforest.com
SUMMARY:Forest Quilters
DESCRIPTION:Textile Art & Quilting \nThe Community Commons \n@9am \nContact: Sallie Minnich \nSdminnich1@yahooo.com
URL:https://brunswickforest.com/events/forest-quilters-3/2028-03-20/
LOCATION:Community Commons
CATEGORIES:Resident Activities
ATTACH;FMTTYPE=image/png:https://brunswickforest.com/wpc/uploads/quilting-1.png
ORGANIZER;CN="Sallie Minnich":MAILTO:Sdminnich1@yahooo.com
END:VEVENT
BEGIN:VEVENT
DTSTART;TZID=America/New_York:20280327T090000
DTEND;TZID=America/New_York:20280327T230000
DTSTAMP:20260424T124705
CREATED:20231012T122133Z
LAST-MODIFIED:20231012T122133Z
UID:10006889-1837760400-1837810800@brunswickforest.com
SUMMARY:Forest Quilters
DESCRIPTION:Textile Art & Quilting \nThe Community Commons \n@9am \nContact: Sallie Minnich \nSdminnich1@yahooo.com
URL:https://brunswickforest.com/events/forest-quilters-3/2028-03-27/
LOCATION:Community Commons
CATEGORIES:Resident Activities
ATTACH;FMTTYPE=image/png:https://brunswickforest.com/wpc/uploads/quilting-1.png
ORGANIZER;CN="Sallie Minnich":MAILTO:Sdminnich1@yahooo.com
END:VEVENT
BEGIN:VEVENT
DTSTART;TZID=America/New_York:20280403T090000
DTEND;TZID=America/New_York:20280403T230000
DTSTAMP:20260424T124705
CREATED:20231012T122133Z
LAST-MODIFIED:20231012T122133Z
UID:10006890-1838365200-1838415600@brunswickforest.com
SUMMARY:Forest Quilters
DESCRIPTION:Textile Art & Quilting \nThe Community Commons \n@9am \nContact: Sallie Minnich \nSdminnich1@yahooo.com
URL:https://brunswickforest.com/events/forest-quilters-3/2028-04-03/
LOCATION:Community Commons
CATEGORIES:Resident Activities
ATTACH;FMTTYPE=image/png:https://brunswickforest.com/wpc/uploads/quilting-1.png
ORGANIZER;CN="Sallie Minnich":MAILTO:Sdminnich1@yahooo.com
END:VEVENT
BEGIN:VEVENT
DTSTART;TZID=America/New_York:20280410T090000
DTEND;TZID=America/New_York:20280410T230000
DTSTAMP:20260424T124705
CREATED:20231012T122133Z
LAST-MODIFIED:20231012T122133Z
UID:10006891-1838970000-1839020400@brunswickforest.com
SUMMARY:Forest Quilters
DESCRIPTION:Textile Art & Quilting \nThe Community Commons \n@9am \nContact: Sallie Minnich \nSdminnich1@yahooo.com
URL:https://brunswickforest.com/events/forest-quilters-3/2028-04-10/
LOCATION:Community Commons
CATEGORIES:Resident Activities
ATTACH;FMTTYPE=image/png:https://brunswickforest.com/wpc/uploads/quilting-1.png
ORGANIZER;CN="Sallie Minnich":MAILTO:Sdminnich1@yahooo.com
END:VEVENT
BEGIN:VEVENT
DTSTART;TZID=America/New_York:20280417T090000
DTEND;TZID=America/New_York:20280417T230000
DTSTAMP:20260424T124705
CREATED:20231012T122133Z
LAST-MODIFIED:20231012T122133Z
UID:10006892-1839574800-1839625200@brunswickforest.com
SUMMARY:Forest Quilters
DESCRIPTION:Textile Art & Quilting \nThe Community Commons \n@9am \nContact: Sallie Minnich \nSdminnich1@yahooo.com
URL:https://brunswickforest.com/events/forest-quilters-3/2028-04-17/
LOCATION:Community Commons
CATEGORIES:Resident Activities
ATTACH;FMTTYPE=image/png:https://brunswickforest.com/wpc/uploads/quilting-1.png
ORGANIZER;CN="Sallie Minnich":MAILTO:Sdminnich1@yahooo.com
END:VEVENT
BEGIN:VEVENT
DTSTART;TZID=America/New_York:20280424T090000
DTEND;TZID=America/New_York:20280424T230000
DTSTAMP:20260424T124705
CREATED:20231012T122133Z
LAST-MODIFIED:20231012T122133Z
UID:10006893-1840179600-1840230000@brunswickforest.com
SUMMARY:Forest Quilters
DESCRIPTION:Textile Art & Quilting \nThe Community Commons \n@9am \nContact: Sallie Minnich \nSdminnich1@yahooo.com
URL:https://brunswickforest.com/events/forest-quilters-3/2028-04-24/
LOCATION:Community Commons
CATEGORIES:Resident Activities
ATTACH;FMTTYPE=image/png:https://brunswickforest.com/wpc/uploads/quilting-1.png
ORGANIZER;CN="Sallie Minnich":MAILTO:Sdminnich1@yahooo.com
END:VEVENT
BEGIN:VEVENT
DTSTART;TZID=America/New_York:20280501T090000
DTEND;TZID=America/New_York:20280501T230000
DTSTAMP:20260424T124705
CREATED:20231012T122133Z
LAST-MODIFIED:20231012T122133Z
UID:10006894-1840784400-1840834800@brunswickforest.com
SUMMARY:Forest Quilters
DESCRIPTION:Textile Art & Quilting \nThe Community Commons \n@9am \nContact: Sallie Minnich \nSdminnich1@yahooo.com
URL:https://brunswickforest.com/events/forest-quilters-3/2028-05-01/
LOCATION:Community Commons
CATEGORIES:Resident Activities
ATTACH;FMTTYPE=image/png:https://brunswickforest.com/wpc/uploads/quilting-1.png
ORGANIZER;CN="Sallie Minnich":MAILTO:Sdminnich1@yahooo.com
END:VEVENT
BEGIN:VEVENT
DTSTART;TZID=America/New_York:20280508T090000
DTEND;TZID=America/New_York:20280508T230000
DTSTAMP:20260424T124705
CREATED:20231012T122133Z
LAST-MODIFIED:20231012T122133Z
UID:10006895-1841389200-1841439600@brunswickforest.com
SUMMARY:Forest Quilters
DESCRIPTION:Textile Art & Quilting \nThe Community Commons \n@9am \nContact: Sallie Minnich \nSdminnich1@yahooo.com
URL:https://brunswickforest.com/events/forest-quilters-3/2028-05-08/
LOCATION:Community Commons
CATEGORIES:Resident Activities
ATTACH;FMTTYPE=image/png:https://brunswickforest.com/wpc/uploads/quilting-1.png
ORGANIZER;CN="Sallie Minnich":MAILTO:Sdminnich1@yahooo.com
END:VEVENT
BEGIN:VEVENT
DTSTART;TZID=America/New_York:20280515T090000
DTEND;TZID=America/New_York:20280515T230000
DTSTAMP:20260424T124705
CREATED:20231012T122133Z
LAST-MODIFIED:20231012T122133Z
UID:10006896-1841994000-1842044400@brunswickforest.com
SUMMARY:Forest Quilters
DESCRIPTION:Textile Art & Quilting \nThe Community Commons \n@9am \nContact: Sallie Minnich \nSdminnich1@yahooo.com
URL:https://brunswickforest.com/events/forest-quilters-3/2028-05-15/
LOCATION:Community Commons
CATEGORIES:Resident Activities
ATTACH;FMTTYPE=image/png:https://brunswickforest.com/wpc/uploads/quilting-1.png
ORGANIZER;CN="Sallie Minnich":MAILTO:Sdminnich1@yahooo.com
END:VEVENT
BEGIN:VEVENT
DTSTART;TZID=America/New_York:20280522T090000
DTEND;TZID=America/New_York:20280522T230000
DTSTAMP:20260424T124705
CREATED:20231012T122133Z
LAST-MODIFIED:20231012T122133Z
UID:10006897-1842598800-1842649200@brunswickforest.com
SUMMARY:Forest Quilters
DESCRIPTION:Textile Art & Quilting \nThe Community Commons \n@9am \nContact: Sallie Minnich \nSdminnich1@yahooo.com
URL:https://brunswickforest.com/events/forest-quilters-3/2028-05-22/
LOCATION:Community Commons
CATEGORIES:Resident Activities
ATTACH;FMTTYPE=image/png:https://brunswickforest.com/wpc/uploads/quilting-1.png
ORGANIZER;CN="Sallie Minnich":MAILTO:Sdminnich1@yahooo.com
END:VEVENT
BEGIN:VEVENT
DTSTART;TZID=America/New_York:20280529T090000
DTEND;TZID=America/New_York:20280529T230000
DTSTAMP:20260424T124705
CREATED:20231012T122133Z
LAST-MODIFIED:20231012T122133Z
UID:10006898-1843203600-1843254000@brunswickforest.com
SUMMARY:Forest Quilters
DESCRIPTION:Textile Art & Quilting \nThe Community Commons \n@9am \nContact: Sallie Minnich \nSdminnich1@yahooo.com
URL:https://brunswickforest.com/events/forest-quilters-3/2028-05-29/
LOCATION:Community Commons
CATEGORIES:Resident Activities
ATTACH;FMTTYPE=image/png:https://brunswickforest.com/wpc/uploads/quilting-1.png
ORGANIZER;CN="Sallie Minnich":MAILTO:Sdminnich1@yahooo.com
END:VEVENT
BEGIN:VEVENT
DTSTART;TZID=America/New_York:20280605T090000
DTEND;TZID=America/New_York:20280605T230000
DTSTAMP:20260424T124705
CREATED:20231012T122133Z
LAST-MODIFIED:20231012T122133Z
UID:10006899-1843808400-1843858800@brunswickforest.com
SUMMARY:Forest Quilters
DESCRIPTION:Textile Art & Quilting \nThe Community Commons \n@9am \nContact: Sallie Minnich \nSdminnich1@yahooo.com
URL:https://brunswickforest.com/events/forest-quilters-3/2028-06-05/
LOCATION:Community Commons
CATEGORIES:Resident Activities
ATTACH;FMTTYPE=image/png:https://brunswickforest.com/wpc/uploads/quilting-1.png
ORGANIZER;CN="Sallie Minnich":MAILTO:Sdminnich1@yahooo.com
END:VEVENT
BEGIN:VEVENT
DTSTART;TZID=America/New_York:20280612T090000
DTEND;TZID=America/New_York:20280612T230000
DTSTAMP:20260424T124705
CREATED:20231012T122133Z
LAST-MODIFIED:20231012T122133Z
UID:10006900-1844413200-1844463600@brunswickforest.com
SUMMARY:Forest Quilters
DESCRIPTION:Textile Art & Quilting \nThe Community Commons \n@9am \nContact: Sallie Minnich \nSdminnich1@yahooo.com
URL:https://brunswickforest.com/events/forest-quilters-3/2028-06-12/
LOCATION:Community Commons
CATEGORIES:Resident Activities
ATTACH;FMTTYPE=image/png:https://brunswickforest.com/wpc/uploads/quilting-1.png
ORGANIZER;CN="Sallie Minnich":MAILTO:Sdminnich1@yahooo.com
END:VEVENT
BEGIN:VEVENT
DTSTART;TZID=America/New_York:20280619T090000
DTEND;TZID=America/New_York:20280619T230000
DTSTAMP:20260424T124705
CREATED:20231012T122133Z
LAST-MODIFIED:20231012T122133Z
UID:10006901-1845018000-1845068400@brunswickforest.com
SUMMARY:Forest Quilters
DESCRIPTION:Textile Art & Quilting \nThe Community Commons \n@9am \nContact: Sallie Minnich \nSdminnich1@yahooo.com
URL:https://brunswickforest.com/events/forest-quilters-3/2028-06-19/
LOCATION:Community Commons
CATEGORIES:Resident Activities
ATTACH;FMTTYPE=image/png:https://brunswickforest.com/wpc/uploads/quilting-1.png
ORGANIZER;CN="Sallie Minnich":MAILTO:Sdminnich1@yahooo.com
END:VEVENT
BEGIN:VEVENT
DTSTART;TZID=America/New_York:20280626T090000
DTEND;TZID=America/New_York:20280626T230000
DTSTAMP:20260424T124705
CREATED:20231012T122133Z
LAST-MODIFIED:20231012T122133Z
UID:10006902-1845622800-1845673200@brunswickforest.com
SUMMARY:Forest Quilters
DESCRIPTION:Textile Art & Quilting \nThe Community Commons \n@9am \nContact: Sallie Minnich \nSdminnich1@yahooo.com
URL:https://brunswickforest.com/events/forest-quilters-3/2028-06-26/
LOCATION:Community Commons
CATEGORIES:Resident Activities
ATTACH;FMTTYPE=image/png:https://brunswickforest.com/wpc/uploads/quilting-1.png
ORGANIZER;CN="Sallie Minnich":MAILTO:Sdminnich1@yahooo.com
END:VEVENT
BEGIN:VEVENT
DTSTART;TZID=America/New_York:20280703T090000
DTEND;TZID=America/New_York:20280703T230000
DTSTAMP:20260424T124705
CREATED:20231012T122133Z
LAST-MODIFIED:20231012T122133Z
UID:10006903-1846227600-1846278000@brunswickforest.com
SUMMARY:Forest Quilters
DESCRIPTION:Textile Art & Quilting \nThe Community Commons \n@9am \nContact: Sallie Minnich \nSdminnich1@yahooo.com
URL:https://brunswickforest.com/events/forest-quilters-3/2028-07-03/
LOCATION:Community Commons
CATEGORIES:Resident Activities
ATTACH;FMTTYPE=image/png:https://brunswickforest.com/wpc/uploads/quilting-1.png
ORGANIZER;CN="Sallie Minnich":MAILTO:Sdminnich1@yahooo.com
END:VEVENT
BEGIN:VEVENT
DTSTART;TZID=America/New_York:20280710T090000
DTEND;TZID=America/New_York:20280710T230000
DTSTAMP:20260424T124705
CREATED:20231012T122133Z
LAST-MODIFIED:20231012T122133Z
UID:10006904-1846832400-1846882800@brunswickforest.com
SUMMARY:Forest Quilters
DESCRIPTION:Textile Art & Quilting \nThe Community Commons \n@9am \nContact: Sallie Minnich \nSdminnich1@yahooo.com
URL:https://brunswickforest.com/events/forest-quilters-3/2028-07-10/
LOCATION:Community Commons
CATEGORIES:Resident Activities
ATTACH;FMTTYPE=image/png:https://brunswickforest.com/wpc/uploads/quilting-1.png
ORGANIZER;CN="Sallie Minnich":MAILTO:Sdminnich1@yahooo.com
END:VEVENT
BEGIN:VEVENT
DTSTART;TZID=America/New_York:20280717T090000
DTEND;TZID=America/New_York:20280717T230000
DTSTAMP:20260424T124705
CREATED:20231012T122133Z
LAST-MODIFIED:20231012T122133Z
UID:10006905-1847437200-1847487600@brunswickforest.com
SUMMARY:Forest Quilters
DESCRIPTION:Textile Art & Quilting \nThe Community Commons \n@9am \nContact: Sallie Minnich \nSdminnich1@yahooo.com
URL:https://brunswickforest.com/events/forest-quilters-3/2028-07-17/
LOCATION:Community Commons
CATEGORIES:Resident Activities
ATTACH;FMTTYPE=image/png:https://brunswickforest.com/wpc/uploads/quilting-1.png
ORGANIZER;CN="Sallie Minnich":MAILTO:Sdminnich1@yahooo.com
END:VEVENT
BEGIN:VEVENT
DTSTART;TZID=America/New_York:20280724T090000
DTEND;TZID=America/New_York:20280724T230000
DTSTAMP:20260424T124705
CREATED:20231012T122133Z
LAST-MODIFIED:20231012T122133Z
UID:10006906-1848042000-1848092400@brunswickforest.com
SUMMARY:Forest Quilters
DESCRIPTION:Textile Art & Quilting \nThe Community Commons \n@9am \nContact: Sallie Minnich \nSdminnich1@yahooo.com
URL:https://brunswickforest.com/events/forest-quilters-3/2028-07-24/
LOCATION:Community Commons
CATEGORIES:Resident Activities
ATTACH;FMTTYPE=image/png:https://brunswickforest.com/wpc/uploads/quilting-1.png
ORGANIZER;CN="Sallie Minnich":MAILTO:Sdminnich1@yahooo.com
END:VEVENT
BEGIN:VEVENT
DTSTART;TZID=America/New_York:20280731T090000
DTEND;TZID=America/New_York:20280731T230000
DTSTAMP:20260424T124705
CREATED:20231012T122133Z
LAST-MODIFIED:20231012T122133Z
UID:10006907-1848646800-1848697200@brunswickforest.com
SUMMARY:Forest Quilters
DESCRIPTION:Textile Art & Quilting \nThe Community Commons \n@9am \nContact: Sallie Minnich \nSdminnich1@yahooo.com
URL:https://brunswickforest.com/events/forest-quilters-3/2028-07-31/
LOCATION:Community Commons
CATEGORIES:Resident Activities
ATTACH;FMTTYPE=image/png:https://brunswickforest.com/wpc/uploads/quilting-1.png
ORGANIZER;CN="Sallie Minnich":MAILTO:Sdminnich1@yahooo.com
END:VEVENT
BEGIN:VEVENT
DTSTART;TZID=America/New_York:20280807T090000
DTEND;TZID=America/New_York:20280807T230000
DTSTAMP:20260424T124705
CREATED:20231012T122133Z
LAST-MODIFIED:20231012T122133Z
UID:10006908-1849251600-1849302000@brunswickforest.com
SUMMARY:Forest Quilters
DESCRIPTION:Textile Art & Quilting \nThe Community Commons \n@9am \nContact: Sallie Minnich \nSdminnich1@yahooo.com
URL:https://brunswickforest.com/events/forest-quilters-3/2028-08-07/
LOCATION:Community Commons
CATEGORIES:Resident Activities
ATTACH;FMTTYPE=image/png:https://brunswickforest.com/wpc/uploads/quilting-1.png
ORGANIZER;CN="Sallie Minnich":MAILTO:Sdminnich1@yahooo.com
END:VEVENT
BEGIN:VEVENT
DTSTART;TZID=America/New_York:20280814T090000
DTEND;TZID=America/New_York:20280814T230000
DTSTAMP:20260424T124705
CREATED:20231012T122133Z
LAST-MODIFIED:20231012T122133Z
UID:10006909-1849856400-1849906800@brunswickforest.com
SUMMARY:Forest Quilters
DESCRIPTION:Textile Art & Quilting \nThe Community Commons \n@9am \nContact: Sallie Minnich \nSdminnich1@yahooo.com
URL:https://brunswickforest.com/events/forest-quilters-3/2028-08-14/
LOCATION:Community Commons
CATEGORIES:Resident Activities
ATTACH;FMTTYPE=image/png:https://brunswickforest.com/wpc/uploads/quilting-1.png
ORGANIZER;CN="Sallie Minnich":MAILTO:Sdminnich1@yahooo.com
END:VEVENT
BEGIN:VEVENT
DTSTART;TZID=America/New_York:20280821T090000
DTEND;TZID=America/New_York:20280821T230000
DTSTAMP:20260424T124705
CREATED:20231012T122133Z
LAST-MODIFIED:20231012T122133Z
UID:10006910-1850461200-1850511600@brunswickforest.com
SUMMARY:Forest Quilters
DESCRIPTION:Textile Art & Quilting \nThe Community Commons \n@9am \nContact: Sallie Minnich \nSdminnich1@yahooo.com
URL:https://brunswickforest.com/events/forest-quilters-3/2028-08-21/
LOCATION:Community Commons
CATEGORIES:Resident Activities
ATTACH;FMTTYPE=image/png:https://brunswickforest.com/wpc/uploads/quilting-1.png
ORGANIZER;CN="Sallie Minnich":MAILTO:Sdminnich1@yahooo.com
END:VEVENT
BEGIN:VEVENT
DTSTART;TZID=America/New_York:20280828T090000
DTEND;TZID=America/New_York:20280828T230000
DTSTAMP:20260424T124705
CREATED:20231012T122133Z
LAST-MODIFIED:20231012T122133Z
UID:10006911-1851066000-1851116400@brunswickforest.com
SUMMARY:Forest Quilters
DESCRIPTION:Textile Art & Quilting \nThe Community Commons \n@9am \nContact: Sallie Minnich \nSdminnich1@yahooo.com
URL:https://brunswickforest.com/events/forest-quilters-3/2028-08-28/
LOCATION:Community Commons
CATEGORIES:Resident Activities
ATTACH;FMTTYPE=image/png:https://brunswickforest.com/wpc/uploads/quilting-1.png
ORGANIZER;CN="Sallie Minnich":MAILTO:Sdminnich1@yahooo.com
END:VEVENT
BEGIN:VEVENT
DTSTART;TZID=America/New_York:20280904T090000
DTEND;TZID=America/New_York:20280904T230000
DTSTAMP:20260424T124705
CREATED:20231012T122133Z
LAST-MODIFIED:20231012T122133Z
UID:10006912-1851670800-1851721200@brunswickforest.com
SUMMARY:Forest Quilters
DESCRIPTION:Textile Art & Quilting \nThe Community Commons \n@9am \nContact: Sallie Minnich \nSdminnich1@yahooo.com
URL:https://brunswickforest.com/events/forest-quilters-3/2028-09-04/
LOCATION:Community Commons
CATEGORIES:Resident Activities
ATTACH;FMTTYPE=image/png:https://brunswickforest.com/wpc/uploads/quilting-1.png
ORGANIZER;CN="Sallie Minnich":MAILTO:Sdminnich1@yahooo.com
END:VEVENT
BEGIN:VEVENT
DTSTART;TZID=America/New_York:20280911T090000
DTEND;TZID=America/New_York:20280911T230000
DTSTAMP:20260424T124705
CREATED:20231012T122133Z
LAST-MODIFIED:20231012T122133Z
UID:10006913-1852275600-1852326000@brunswickforest.com
SUMMARY:Forest Quilters
DESCRIPTION:Textile Art & Quilting \nThe Community Commons \n@9am \nContact: Sallie Minnich \nSdminnich1@yahooo.com
URL:https://brunswickforest.com/events/forest-quilters-3/2028-09-11/
LOCATION:Community Commons
CATEGORIES:Resident Activities
ATTACH;FMTTYPE=image/png:https://brunswickforest.com/wpc/uploads/quilting-1.png
ORGANIZER;CN="Sallie Minnich":MAILTO:Sdminnich1@yahooo.com
END:VEVENT
END:VCALENDAR