BEGIN:VCALENDAR
VERSION:2.0
PRODID:-//Brunswick Forest - ECPv6.15.20//NONSGML v1.0//EN
CALSCALE:GREGORIAN
METHOD:PUBLISH
X-WR-CALNAME:Brunswick Forest
X-ORIGINAL-URL:https://brunswickforest.com
X-WR-CALDESC:Events for Brunswick Forest
REFRESH-INTERVAL;VALUE=DURATION:PT1H
X-Robots-Tag:noindex
X-PUBLISHED-TTL:PT1H
BEGIN:VTIMEZONE
TZID:America/New_York
BEGIN:DAYLIGHT
TZOFFSETFROM:-0500
TZOFFSETTO:-0400
TZNAME:EDT
DTSTART:20260308T070000
END:DAYLIGHT
BEGIN:STANDARD
TZOFFSETFROM:-0400
TZOFFSETTO:-0500
TZNAME:EST
DTSTART:20261101T060000
END:STANDARD
BEGIN:DAYLIGHT
TZOFFSETFROM:-0500
TZOFFSETTO:-0400
TZNAME:EDT
DTSTART:20270314T070000
END:DAYLIGHT
BEGIN:STANDARD
TZOFFSETFROM:-0400
TZOFFSETTO:-0500
TZNAME:EST
DTSTART:20271107T060000
END:STANDARD
BEGIN:DAYLIGHT
TZOFFSETFROM:-0500
TZOFFSETTO:-0400
TZNAME:EDT
DTSTART:20280312T070000
END:DAYLIGHT
BEGIN:STANDARD
TZOFFSETFROM:-0400
TZOFFSETTO:-0500
TZNAME:EST
DTSTART:20281105T060000
END:STANDARD
END:VTIMEZONE
BEGIN:VEVENT
DTSTART;TZID=America/New_York:20270510T090000
DTEND;TZID=America/New_York:20270510T230000
DTSTAMP:20260420T014354
CREATED:20231012T122133Z
LAST-MODIFIED:20231012T122133Z
UID:10006843-1809939600-1809990000@brunswickforest.com
SUMMARY:Forest Quilters
DESCRIPTION:Textile Art & Quilting \nThe Community Commons \n@9am \nContact: Sallie Minnich \nSdminnich1@yahooo.com
URL:https://brunswickforest.com/events/forest-quilters-3/2027-05-10/
LOCATION:Community Commons
CATEGORIES:Resident Activities
ATTACH;FMTTYPE=image/png:https://brunswickforest.com/wpc/uploads/quilting-1.png
ORGANIZER;CN="Sallie Minnich":MAILTO:Sdminnich1@yahooo.com
END:VEVENT
BEGIN:VEVENT
DTSTART;TZID=America/New_York:20270517T090000
DTEND;TZID=America/New_York:20270517T230000
DTSTAMP:20260420T014354
CREATED:20231012T122133Z
LAST-MODIFIED:20231012T122133Z
UID:10006844-1810544400-1810594800@brunswickforest.com
SUMMARY:Forest Quilters
DESCRIPTION:Textile Art & Quilting \nThe Community Commons \n@9am \nContact: Sallie Minnich \nSdminnich1@yahooo.com
URL:https://brunswickforest.com/events/forest-quilters-3/2027-05-17/
LOCATION:Community Commons
CATEGORIES:Resident Activities
ATTACH;FMTTYPE=image/png:https://brunswickforest.com/wpc/uploads/quilting-1.png
ORGANIZER;CN="Sallie Minnich":MAILTO:Sdminnich1@yahooo.com
END:VEVENT
BEGIN:VEVENT
DTSTART;TZID=America/New_York:20270524T090000
DTEND;TZID=America/New_York:20270524T230000
DTSTAMP:20260420T014354
CREATED:20231012T122133Z
LAST-MODIFIED:20231012T122133Z
UID:10006845-1811149200-1811199600@brunswickforest.com
SUMMARY:Forest Quilters
DESCRIPTION:Textile Art & Quilting \nThe Community Commons \n@9am \nContact: Sallie Minnich \nSdminnich1@yahooo.com
URL:https://brunswickforest.com/events/forest-quilters-3/2027-05-24/
LOCATION:Community Commons
CATEGORIES:Resident Activities
ATTACH;FMTTYPE=image/png:https://brunswickforest.com/wpc/uploads/quilting-1.png
ORGANIZER;CN="Sallie Minnich":MAILTO:Sdminnich1@yahooo.com
END:VEVENT
BEGIN:VEVENT
DTSTART;TZID=America/New_York:20270531T090000
DTEND;TZID=America/New_York:20270531T230000
DTSTAMP:20260420T014354
CREATED:20231012T122133Z
LAST-MODIFIED:20231012T122133Z
UID:10006846-1811754000-1811804400@brunswickforest.com
SUMMARY:Forest Quilters
DESCRIPTION:Textile Art & Quilting \nThe Community Commons \n@9am \nContact: Sallie Minnich \nSdminnich1@yahooo.com
URL:https://brunswickforest.com/events/forest-quilters-3/2027-05-31/
LOCATION:Community Commons
CATEGORIES:Resident Activities
ATTACH;FMTTYPE=image/png:https://brunswickforest.com/wpc/uploads/quilting-1.png
ORGANIZER;CN="Sallie Minnich":MAILTO:Sdminnich1@yahooo.com
END:VEVENT
BEGIN:VEVENT
DTSTART;TZID=America/New_York:20270607T090000
DTEND;TZID=America/New_York:20270607T230000
DTSTAMP:20260420T014354
CREATED:20231012T122133Z
LAST-MODIFIED:20231012T122133Z
UID:10006847-1812358800-1812409200@brunswickforest.com
SUMMARY:Forest Quilters
DESCRIPTION:Textile Art & Quilting \nThe Community Commons \n@9am \nContact: Sallie Minnich \nSdminnich1@yahooo.com
URL:https://brunswickforest.com/events/forest-quilters-3/2027-06-07/
LOCATION:Community Commons
CATEGORIES:Resident Activities
ATTACH;FMTTYPE=image/png:https://brunswickforest.com/wpc/uploads/quilting-1.png
ORGANIZER;CN="Sallie Minnich":MAILTO:Sdminnich1@yahooo.com
END:VEVENT
BEGIN:VEVENT
DTSTART;TZID=America/New_York:20270614T090000
DTEND;TZID=America/New_York:20270614T230000
DTSTAMP:20260420T014354
CREATED:20231012T122133Z
LAST-MODIFIED:20231012T122133Z
UID:10006848-1812963600-1813014000@brunswickforest.com
SUMMARY:Forest Quilters
DESCRIPTION:Textile Art & Quilting \nThe Community Commons \n@9am \nContact: Sallie Minnich \nSdminnich1@yahooo.com
URL:https://brunswickforest.com/events/forest-quilters-3/2027-06-14/
LOCATION:Community Commons
CATEGORIES:Resident Activities
ATTACH;FMTTYPE=image/png:https://brunswickforest.com/wpc/uploads/quilting-1.png
ORGANIZER;CN="Sallie Minnich":MAILTO:Sdminnich1@yahooo.com
END:VEVENT
BEGIN:VEVENT
DTSTART;TZID=America/New_York:20270621T090000
DTEND;TZID=America/New_York:20270621T230000
DTSTAMP:20260420T014354
CREATED:20231012T122133Z
LAST-MODIFIED:20231012T122133Z
UID:10006849-1813568400-1813618800@brunswickforest.com
SUMMARY:Forest Quilters
DESCRIPTION:Textile Art & Quilting \nThe Community Commons \n@9am \nContact: Sallie Minnich \nSdminnich1@yahooo.com
URL:https://brunswickforest.com/events/forest-quilters-3/2027-06-21/
LOCATION:Community Commons
CATEGORIES:Resident Activities
ATTACH;FMTTYPE=image/png:https://brunswickforest.com/wpc/uploads/quilting-1.png
ORGANIZER;CN="Sallie Minnich":MAILTO:Sdminnich1@yahooo.com
END:VEVENT
BEGIN:VEVENT
DTSTART;TZID=America/New_York:20270628T090000
DTEND;TZID=America/New_York:20270628T230000
DTSTAMP:20260420T014354
CREATED:20231012T122133Z
LAST-MODIFIED:20231012T122133Z
UID:10006850-1814173200-1814223600@brunswickforest.com
SUMMARY:Forest Quilters
DESCRIPTION:Textile Art & Quilting \nThe Community Commons \n@9am \nContact: Sallie Minnich \nSdminnich1@yahooo.com
URL:https://brunswickforest.com/events/forest-quilters-3/2027-06-28/
LOCATION:Community Commons
CATEGORIES:Resident Activities
ATTACH;FMTTYPE=image/png:https://brunswickforest.com/wpc/uploads/quilting-1.png
ORGANIZER;CN="Sallie Minnich":MAILTO:Sdminnich1@yahooo.com
END:VEVENT
BEGIN:VEVENT
DTSTART;TZID=America/New_York:20270705T090000
DTEND;TZID=America/New_York:20270705T230000
DTSTAMP:20260420T014354
CREATED:20231012T122133Z
LAST-MODIFIED:20231012T122133Z
UID:10006851-1814778000-1814828400@brunswickforest.com
SUMMARY:Forest Quilters
DESCRIPTION:Textile Art & Quilting \nThe Community Commons \n@9am \nContact: Sallie Minnich \nSdminnich1@yahooo.com
URL:https://brunswickforest.com/events/forest-quilters-3/2027-07-05/
LOCATION:Community Commons
CATEGORIES:Resident Activities
ATTACH;FMTTYPE=image/png:https://brunswickforest.com/wpc/uploads/quilting-1.png
ORGANIZER;CN="Sallie Minnich":MAILTO:Sdminnich1@yahooo.com
END:VEVENT
BEGIN:VEVENT
DTSTART;TZID=America/New_York:20270712T090000
DTEND;TZID=America/New_York:20270712T230000
DTSTAMP:20260420T014354
CREATED:20231012T122133Z
LAST-MODIFIED:20231012T122133Z
UID:10006852-1815382800-1815433200@brunswickforest.com
SUMMARY:Forest Quilters
DESCRIPTION:Textile Art & Quilting \nThe Community Commons \n@9am \nContact: Sallie Minnich \nSdminnich1@yahooo.com
URL:https://brunswickforest.com/events/forest-quilters-3/2027-07-12/
LOCATION:Community Commons
CATEGORIES:Resident Activities
ATTACH;FMTTYPE=image/png:https://brunswickforest.com/wpc/uploads/quilting-1.png
ORGANIZER;CN="Sallie Minnich":MAILTO:Sdminnich1@yahooo.com
END:VEVENT
BEGIN:VEVENT
DTSTART;TZID=America/New_York:20270719T090000
DTEND;TZID=America/New_York:20270719T230000
DTSTAMP:20260420T014354
CREATED:20231012T122133Z
LAST-MODIFIED:20231012T122133Z
UID:10006853-1815987600-1816038000@brunswickforest.com
SUMMARY:Forest Quilters
DESCRIPTION:Textile Art & Quilting \nThe Community Commons \n@9am \nContact: Sallie Minnich \nSdminnich1@yahooo.com
URL:https://brunswickforest.com/events/forest-quilters-3/2027-07-19/
LOCATION:Community Commons
CATEGORIES:Resident Activities
ATTACH;FMTTYPE=image/png:https://brunswickforest.com/wpc/uploads/quilting-1.png
ORGANIZER;CN="Sallie Minnich":MAILTO:Sdminnich1@yahooo.com
END:VEVENT
BEGIN:VEVENT
DTSTART;TZID=America/New_York:20270726T090000
DTEND;TZID=America/New_York:20270726T230000
DTSTAMP:20260420T014354
CREATED:20231012T122133Z
LAST-MODIFIED:20231012T122133Z
UID:10006854-1816592400-1816642800@brunswickforest.com
SUMMARY:Forest Quilters
DESCRIPTION:Textile Art & Quilting \nThe Community Commons \n@9am \nContact: Sallie Minnich \nSdminnich1@yahooo.com
URL:https://brunswickforest.com/events/forest-quilters-3/2027-07-26/
LOCATION:Community Commons
CATEGORIES:Resident Activities
ATTACH;FMTTYPE=image/png:https://brunswickforest.com/wpc/uploads/quilting-1.png
ORGANIZER;CN="Sallie Minnich":MAILTO:Sdminnich1@yahooo.com
END:VEVENT
BEGIN:VEVENT
DTSTART;TZID=America/New_York:20270802T090000
DTEND;TZID=America/New_York:20270802T230000
DTSTAMP:20260420T014354
CREATED:20231012T122133Z
LAST-MODIFIED:20231012T122133Z
UID:10006855-1817197200-1817247600@brunswickforest.com
SUMMARY:Forest Quilters
DESCRIPTION:Textile Art & Quilting \nThe Community Commons \n@9am \nContact: Sallie Minnich \nSdminnich1@yahooo.com
URL:https://brunswickforest.com/events/forest-quilters-3/2027-08-02/
LOCATION:Community Commons
CATEGORIES:Resident Activities
ATTACH;FMTTYPE=image/png:https://brunswickforest.com/wpc/uploads/quilting-1.png
ORGANIZER;CN="Sallie Minnich":MAILTO:Sdminnich1@yahooo.com
END:VEVENT
BEGIN:VEVENT
DTSTART;TZID=America/New_York:20270809T090000
DTEND;TZID=America/New_York:20270809T230000
DTSTAMP:20260420T014354
CREATED:20231012T122133Z
LAST-MODIFIED:20231012T122133Z
UID:10006856-1817802000-1817852400@brunswickforest.com
SUMMARY:Forest Quilters
DESCRIPTION:Textile Art & Quilting \nThe Community Commons \n@9am \nContact: Sallie Minnich \nSdminnich1@yahooo.com
URL:https://brunswickforest.com/events/forest-quilters-3/2027-08-09/
LOCATION:Community Commons
CATEGORIES:Resident Activities
ATTACH;FMTTYPE=image/png:https://brunswickforest.com/wpc/uploads/quilting-1.png
ORGANIZER;CN="Sallie Minnich":MAILTO:Sdminnich1@yahooo.com
END:VEVENT
BEGIN:VEVENT
DTSTART;TZID=America/New_York:20270816T090000
DTEND;TZID=America/New_York:20270816T230000
DTSTAMP:20260420T014354
CREATED:20231012T122133Z
LAST-MODIFIED:20231012T122133Z
UID:10006857-1818406800-1818457200@brunswickforest.com
SUMMARY:Forest Quilters
DESCRIPTION:Textile Art & Quilting \nThe Community Commons \n@9am \nContact: Sallie Minnich \nSdminnich1@yahooo.com
URL:https://brunswickforest.com/events/forest-quilters-3/2027-08-16/
LOCATION:Community Commons
CATEGORIES:Resident Activities
ATTACH;FMTTYPE=image/png:https://brunswickforest.com/wpc/uploads/quilting-1.png
ORGANIZER;CN="Sallie Minnich":MAILTO:Sdminnich1@yahooo.com
END:VEVENT
BEGIN:VEVENT
DTSTART;TZID=America/New_York:20270823T090000
DTEND;TZID=America/New_York:20270823T230000
DTSTAMP:20260420T014354
CREATED:20231012T122133Z
LAST-MODIFIED:20231012T122133Z
UID:10006858-1819011600-1819062000@brunswickforest.com
SUMMARY:Forest Quilters
DESCRIPTION:Textile Art & Quilting \nThe Community Commons \n@9am \nContact: Sallie Minnich \nSdminnich1@yahooo.com
URL:https://brunswickforest.com/events/forest-quilters-3/2027-08-23/
LOCATION:Community Commons
CATEGORIES:Resident Activities
ATTACH;FMTTYPE=image/png:https://brunswickforest.com/wpc/uploads/quilting-1.png
ORGANIZER;CN="Sallie Minnich":MAILTO:Sdminnich1@yahooo.com
END:VEVENT
BEGIN:VEVENT
DTSTART;TZID=America/New_York:20270830T090000
DTEND;TZID=America/New_York:20270830T230000
DTSTAMP:20260420T014354
CREATED:20231012T122133Z
LAST-MODIFIED:20231012T122133Z
UID:10006859-1819616400-1819666800@brunswickforest.com
SUMMARY:Forest Quilters
DESCRIPTION:Textile Art & Quilting \nThe Community Commons \n@9am \nContact: Sallie Minnich \nSdminnich1@yahooo.com
URL:https://brunswickforest.com/events/forest-quilters-3/2027-08-30/
LOCATION:Community Commons
CATEGORIES:Resident Activities
ATTACH;FMTTYPE=image/png:https://brunswickforest.com/wpc/uploads/quilting-1.png
ORGANIZER;CN="Sallie Minnich":MAILTO:Sdminnich1@yahooo.com
END:VEVENT
BEGIN:VEVENT
DTSTART;TZID=America/New_York:20270906T090000
DTEND;TZID=America/New_York:20270906T230000
DTSTAMP:20260420T014354
CREATED:20231012T122133Z
LAST-MODIFIED:20231012T122133Z
UID:10006860-1820221200-1820271600@brunswickforest.com
SUMMARY:Forest Quilters
DESCRIPTION:Textile Art & Quilting \nThe Community Commons \n@9am \nContact: Sallie Minnich \nSdminnich1@yahooo.com
URL:https://brunswickforest.com/events/forest-quilters-3/2027-09-06/
LOCATION:Community Commons
CATEGORIES:Resident Activities
ATTACH;FMTTYPE=image/png:https://brunswickforest.com/wpc/uploads/quilting-1.png
ORGANIZER;CN="Sallie Minnich":MAILTO:Sdminnich1@yahooo.com
END:VEVENT
BEGIN:VEVENT
DTSTART;TZID=America/New_York:20270913T090000
DTEND;TZID=America/New_York:20270913T230000
DTSTAMP:20260420T014354
CREATED:20231012T122133Z
LAST-MODIFIED:20231012T122133Z
UID:10006861-1820826000-1820876400@brunswickforest.com
SUMMARY:Forest Quilters
DESCRIPTION:Textile Art & Quilting \nThe Community Commons \n@9am \nContact: Sallie Minnich \nSdminnich1@yahooo.com
URL:https://brunswickforest.com/events/forest-quilters-3/2027-09-13/
LOCATION:Community Commons
CATEGORIES:Resident Activities
ATTACH;FMTTYPE=image/png:https://brunswickforest.com/wpc/uploads/quilting-1.png
ORGANIZER;CN="Sallie Minnich":MAILTO:Sdminnich1@yahooo.com
END:VEVENT
BEGIN:VEVENT
DTSTART;TZID=America/New_York:20270920T090000
DTEND;TZID=America/New_York:20270920T230000
DTSTAMP:20260420T014354
CREATED:20231012T122133Z
LAST-MODIFIED:20231012T122133Z
UID:10006862-1821430800-1821481200@brunswickforest.com
SUMMARY:Forest Quilters
DESCRIPTION:Textile Art & Quilting \nThe Community Commons \n@9am \nContact: Sallie Minnich \nSdminnich1@yahooo.com
URL:https://brunswickforest.com/events/forest-quilters-3/2027-09-20/
LOCATION:Community Commons
CATEGORIES:Resident Activities
ATTACH;FMTTYPE=image/png:https://brunswickforest.com/wpc/uploads/quilting-1.png
ORGANIZER;CN="Sallie Minnich":MAILTO:Sdminnich1@yahooo.com
END:VEVENT
BEGIN:VEVENT
DTSTART;TZID=America/New_York:20270927T090000
DTEND;TZID=America/New_York:20270927T230000
DTSTAMP:20260420T014354
CREATED:20231012T122133Z
LAST-MODIFIED:20231012T122133Z
UID:10006863-1822035600-1822086000@brunswickforest.com
SUMMARY:Forest Quilters
DESCRIPTION:Textile Art & Quilting \nThe Community Commons \n@9am \nContact: Sallie Minnich \nSdminnich1@yahooo.com
URL:https://brunswickforest.com/events/forest-quilters-3/2027-09-27/
LOCATION:Community Commons
CATEGORIES:Resident Activities
ATTACH;FMTTYPE=image/png:https://brunswickforest.com/wpc/uploads/quilting-1.png
ORGANIZER;CN="Sallie Minnich":MAILTO:Sdminnich1@yahooo.com
END:VEVENT
BEGIN:VEVENT
DTSTART;TZID=America/New_York:20271004T090000
DTEND;TZID=America/New_York:20271004T230000
DTSTAMP:20260420T014354
CREATED:20231012T122133Z
LAST-MODIFIED:20231012T122133Z
UID:10006864-1822640400-1822690800@brunswickforest.com
SUMMARY:Forest Quilters
DESCRIPTION:Textile Art & Quilting \nThe Community Commons \n@9am \nContact: Sallie Minnich \nSdminnich1@yahooo.com
URL:https://brunswickforest.com/events/forest-quilters-3/2027-10-04/
LOCATION:Community Commons
CATEGORIES:Resident Activities
ATTACH;FMTTYPE=image/png:https://brunswickforest.com/wpc/uploads/quilting-1.png
ORGANIZER;CN="Sallie Minnich":MAILTO:Sdminnich1@yahooo.com
END:VEVENT
BEGIN:VEVENT
DTSTART;TZID=America/New_York:20271011T090000
DTEND;TZID=America/New_York:20271011T230000
DTSTAMP:20260420T014354
CREATED:20231012T122133Z
LAST-MODIFIED:20231012T122133Z
UID:10006865-1823245200-1823295600@brunswickforest.com
SUMMARY:Forest Quilters
DESCRIPTION:Textile Art & Quilting \nThe Community Commons \n@9am \nContact: Sallie Minnich \nSdminnich1@yahooo.com
URL:https://brunswickforest.com/events/forest-quilters-3/2027-10-11/
LOCATION:Community Commons
CATEGORIES:Resident Activities
ATTACH;FMTTYPE=image/png:https://brunswickforest.com/wpc/uploads/quilting-1.png
ORGANIZER;CN="Sallie Minnich":MAILTO:Sdminnich1@yahooo.com
END:VEVENT
BEGIN:VEVENT
DTSTART;TZID=America/New_York:20271018T090000
DTEND;TZID=America/New_York:20271018T230000
DTSTAMP:20260420T014354
CREATED:20231012T122133Z
LAST-MODIFIED:20231012T122133Z
UID:10006866-1823850000-1823900400@brunswickforest.com
SUMMARY:Forest Quilters
DESCRIPTION:Textile Art & Quilting \nThe Community Commons \n@9am \nContact: Sallie Minnich \nSdminnich1@yahooo.com
URL:https://brunswickforest.com/events/forest-quilters-3/2027-10-18/
LOCATION:Community Commons
CATEGORIES:Resident Activities
ATTACH;FMTTYPE=image/png:https://brunswickforest.com/wpc/uploads/quilting-1.png
ORGANIZER;CN="Sallie Minnich":MAILTO:Sdminnich1@yahooo.com
END:VEVENT
BEGIN:VEVENT
DTSTART;TZID=America/New_York:20271025T090000
DTEND;TZID=America/New_York:20271025T230000
DTSTAMP:20260420T014354
CREATED:20231012T122133Z
LAST-MODIFIED:20231012T122133Z
UID:10006867-1824454800-1824505200@brunswickforest.com
SUMMARY:Forest Quilters
DESCRIPTION:Textile Art & Quilting \nThe Community Commons \n@9am \nContact: Sallie Minnich \nSdminnich1@yahooo.com
URL:https://brunswickforest.com/events/forest-quilters-3/2027-10-25/
LOCATION:Community Commons
CATEGORIES:Resident Activities
ATTACH;FMTTYPE=image/png:https://brunswickforest.com/wpc/uploads/quilting-1.png
ORGANIZER;CN="Sallie Minnich":MAILTO:Sdminnich1@yahooo.com
END:VEVENT
BEGIN:VEVENT
DTSTART;TZID=America/New_York:20271101T090000
DTEND;TZID=America/New_York:20271101T230000
DTSTAMP:20260420T014354
CREATED:20231012T122133Z
LAST-MODIFIED:20231012T122133Z
UID:10006868-1825059600-1825110000@brunswickforest.com
SUMMARY:Forest Quilters
DESCRIPTION:Textile Art & Quilting \nThe Community Commons \n@9am \nContact: Sallie Minnich \nSdminnich1@yahooo.com
URL:https://brunswickforest.com/events/forest-quilters-3/2027-11-01/
LOCATION:Community Commons
CATEGORIES:Resident Activities
ATTACH;FMTTYPE=image/png:https://brunswickforest.com/wpc/uploads/quilting-1.png
ORGANIZER;CN="Sallie Minnich":MAILTO:Sdminnich1@yahooo.com
END:VEVENT
BEGIN:VEVENT
DTSTART;TZID=America/New_York:20271108T090000
DTEND;TZID=America/New_York:20271108T230000
DTSTAMP:20260420T014354
CREATED:20231012T122133Z
LAST-MODIFIED:20231012T122133Z
UID:10006869-1825664400-1825714800@brunswickforest.com
SUMMARY:Forest Quilters
DESCRIPTION:Textile Art & Quilting \nThe Community Commons \n@9am \nContact: Sallie Minnich \nSdminnich1@yahooo.com
URL:https://brunswickforest.com/events/forest-quilters-3/2027-11-08/
LOCATION:Community Commons
CATEGORIES:Resident Activities
ATTACH;FMTTYPE=image/png:https://brunswickforest.com/wpc/uploads/quilting-1.png
ORGANIZER;CN="Sallie Minnich":MAILTO:Sdminnich1@yahooo.com
END:VEVENT
BEGIN:VEVENT
DTSTART;TZID=America/New_York:20271115T090000
DTEND;TZID=America/New_York:20271115T230000
DTSTAMP:20260420T014354
CREATED:20231012T122133Z
LAST-MODIFIED:20231012T122133Z
UID:10006870-1826269200-1826319600@brunswickforest.com
SUMMARY:Forest Quilters
DESCRIPTION:Textile Art & Quilting \nThe Community Commons \n@9am \nContact: Sallie Minnich \nSdminnich1@yahooo.com
URL:https://brunswickforest.com/events/forest-quilters-3/2027-11-15/
LOCATION:Community Commons
CATEGORIES:Resident Activities
ATTACH;FMTTYPE=image/png:https://brunswickforest.com/wpc/uploads/quilting-1.png
ORGANIZER;CN="Sallie Minnich":MAILTO:Sdminnich1@yahooo.com
END:VEVENT
BEGIN:VEVENT
DTSTART;TZID=America/New_York:20271122T090000
DTEND;TZID=America/New_York:20271122T230000
DTSTAMP:20260420T014354
CREATED:20231012T122133Z
LAST-MODIFIED:20231012T122133Z
UID:10006871-1826874000-1826924400@brunswickforest.com
SUMMARY:Forest Quilters
DESCRIPTION:Textile Art & Quilting \nThe Community Commons \n@9am \nContact: Sallie Minnich \nSdminnich1@yahooo.com
URL:https://brunswickforest.com/events/forest-quilters-3/2027-11-22/
LOCATION:Community Commons
CATEGORIES:Resident Activities
ATTACH;FMTTYPE=image/png:https://brunswickforest.com/wpc/uploads/quilting-1.png
ORGANIZER;CN="Sallie Minnich":MAILTO:Sdminnich1@yahooo.com
END:VEVENT
BEGIN:VEVENT
DTSTART;TZID=America/New_York:20271129T090000
DTEND;TZID=America/New_York:20271129T230000
DTSTAMP:20260420T014354
CREATED:20231012T122133Z
LAST-MODIFIED:20231012T122133Z
UID:10006872-1827478800-1827529200@brunswickforest.com
SUMMARY:Forest Quilters
DESCRIPTION:Textile Art & Quilting \nThe Community Commons \n@9am \nContact: Sallie Minnich \nSdminnich1@yahooo.com
URL:https://brunswickforest.com/events/forest-quilters-3/2027-11-29/
LOCATION:Community Commons
CATEGORIES:Resident Activities
ATTACH;FMTTYPE=image/png:https://brunswickforest.com/wpc/uploads/quilting-1.png
ORGANIZER;CN="Sallie Minnich":MAILTO:Sdminnich1@yahooo.com
END:VEVENT
END:VCALENDAR