BEGIN:VCALENDAR
VERSION:2.0
PRODID:-//Brunswick Forest - ECPv6.15.20//NONSGML v1.0//EN
CALSCALE:GREGORIAN
METHOD:PUBLISH
X-ORIGINAL-URL:https://brunswickforest.com
X-WR-CALDESC:Events for Brunswick Forest
REFRESH-INTERVAL;VALUE=DURATION:PT1H
X-Robots-Tag:noindex
X-PUBLISHED-TTL:PT1H
BEGIN:VTIMEZONE
TZID:America/New_York
BEGIN:DAYLIGHT
TZOFFSETFROM:-0500
TZOFFSETTO:-0400
TZNAME:EDT
DTSTART:20270314T070000
END:DAYLIGHT
BEGIN:STANDARD
TZOFFSETFROM:-0400
TZOFFSETTO:-0500
TZNAME:EST
DTSTART:20271107T060000
END:STANDARD
BEGIN:DAYLIGHT
TZOFFSETFROM:-0500
TZOFFSETTO:-0400
TZNAME:EDT
DTSTART:20280312T070000
END:DAYLIGHT
BEGIN:STANDARD
TZOFFSETFROM:-0400
TZOFFSETTO:-0500
TZNAME:EST
DTSTART:20281105T060000
END:STANDARD
BEGIN:DAYLIGHT
TZOFFSETFROM:-0500
TZOFFSETTO:-0400
TZNAME:EDT
DTSTART:20290311T070000
END:DAYLIGHT
BEGIN:STANDARD
TZOFFSETFROM:-0400
TZOFFSETTO:-0500
TZNAME:EST
DTSTART:20291104T060000
END:STANDARD
END:VTIMEZONE
BEGIN:VEVENT
DTSTART;VALUE=DATE:20280221
DTEND;VALUE=DATE:20280222
DTSTAMP:20260422T063550
CREATED:20231012T122340Z
LAST-MODIFIED:20231012T122340Z
UID:10007148-1834704000-1834790399@brunswickforest.com
SUMMARY:Investors Club
DESCRIPTION:Email For Details \nContact: Patrick Loyd \npatrickaloyd@kw.com
URL:https://brunswickforest.com/events/investors-club-3/2028-02-21/
LOCATION:TBA
CATEGORIES:Resident Activities
ATTACH;FMTTYPE=image/png:https://brunswickforest.com/wpc/uploads/investment-club.png
ORGANIZER;CN="Patrick Loyd":MAILTO:patrickloyd@kw.com
END:VEVENT
BEGIN:VEVENT
DTSTART;VALUE=DATE:20280228
DTEND;VALUE=DATE:20280229
DTSTAMP:20260422T063550
CREATED:20231012T122340Z
LAST-MODIFIED:20231012T122340Z
UID:10007149-1835308800-1835395199@brunswickforest.com
SUMMARY:Investors Club
DESCRIPTION:Email For Details \nContact: Patrick Loyd \npatrickaloyd@kw.com
URL:https://brunswickforest.com/events/investors-club-3/2028-02-28/
LOCATION:TBA
CATEGORIES:Resident Activities
ATTACH;FMTTYPE=image/png:https://brunswickforest.com/wpc/uploads/investment-club.png
ORGANIZER;CN="Patrick Loyd":MAILTO:patrickloyd@kw.com
END:VEVENT
BEGIN:VEVENT
DTSTART;VALUE=DATE:20280306
DTEND;VALUE=DATE:20280307
DTSTAMP:20260422T063550
CREATED:20231012T122340Z
LAST-MODIFIED:20231012T122340Z
UID:10007150-1835913600-1835999999@brunswickforest.com
SUMMARY:Investors Club
DESCRIPTION:Email For Details \nContact: Patrick Loyd \npatrickaloyd@kw.com
URL:https://brunswickforest.com/events/investors-club-3/2028-03-06/
LOCATION:TBA
CATEGORIES:Resident Activities
ATTACH;FMTTYPE=image/png:https://brunswickforest.com/wpc/uploads/investment-club.png
ORGANIZER;CN="Patrick Loyd":MAILTO:patrickloyd@kw.com
END:VEVENT
BEGIN:VEVENT
DTSTART;VALUE=DATE:20280313
DTEND;VALUE=DATE:20280314
DTSTAMP:20260422T063550
CREATED:20231012T122340Z
LAST-MODIFIED:20231012T122340Z
UID:10007151-1836518400-1836604799@brunswickforest.com
SUMMARY:Investors Club
DESCRIPTION:Email For Details \nContact: Patrick Loyd \npatrickaloyd@kw.com
URL:https://brunswickforest.com/events/investors-club-3/2028-03-13/
LOCATION:TBA
CATEGORIES:Resident Activities
ATTACH;FMTTYPE=image/png:https://brunswickforest.com/wpc/uploads/investment-club.png
ORGANIZER;CN="Patrick Loyd":MAILTO:patrickloyd@kw.com
END:VEVENT
BEGIN:VEVENT
DTSTART;VALUE=DATE:20280320
DTEND;VALUE=DATE:20280321
DTSTAMP:20260422T063550
CREATED:20231012T122340Z
LAST-MODIFIED:20231012T122340Z
UID:10007152-1837123200-1837209599@brunswickforest.com
SUMMARY:Investors Club
DESCRIPTION:Email For Details \nContact: Patrick Loyd \npatrickaloyd@kw.com
URL:https://brunswickforest.com/events/investors-club-3/2028-03-20/
LOCATION:TBA
CATEGORIES:Resident Activities
ATTACH;FMTTYPE=image/png:https://brunswickforest.com/wpc/uploads/investment-club.png
ORGANIZER;CN="Patrick Loyd":MAILTO:patrickloyd@kw.com
END:VEVENT
BEGIN:VEVENT
DTSTART;VALUE=DATE:20280327
DTEND;VALUE=DATE:20280328
DTSTAMP:20260422T063550
CREATED:20231012T122340Z
LAST-MODIFIED:20231012T122340Z
UID:10007153-1837728000-1837814399@brunswickforest.com
SUMMARY:Investors Club
DESCRIPTION:Email For Details \nContact: Patrick Loyd \npatrickaloyd@kw.com
URL:https://brunswickforest.com/events/investors-club-3/2028-03-27/
LOCATION:TBA
CATEGORIES:Resident Activities
ATTACH;FMTTYPE=image/png:https://brunswickforest.com/wpc/uploads/investment-club.png
ORGANIZER;CN="Patrick Loyd":MAILTO:patrickloyd@kw.com
END:VEVENT
BEGIN:VEVENT
DTSTART;VALUE=DATE:20280403
DTEND;VALUE=DATE:20280404
DTSTAMP:20260422T063550
CREATED:20231012T122340Z
LAST-MODIFIED:20231012T122340Z
UID:10007154-1838332800-1838419199@brunswickforest.com
SUMMARY:Investors Club
DESCRIPTION:Email For Details \nContact: Patrick Loyd \npatrickaloyd@kw.com
URL:https://brunswickforest.com/events/investors-club-3/2028-04-03/
LOCATION:TBA
CATEGORIES:Resident Activities
ATTACH;FMTTYPE=image/png:https://brunswickforest.com/wpc/uploads/investment-club.png
ORGANIZER;CN="Patrick Loyd":MAILTO:patrickloyd@kw.com
END:VEVENT
BEGIN:VEVENT
DTSTART;VALUE=DATE:20280410
DTEND;VALUE=DATE:20280411
DTSTAMP:20260422T063550
CREATED:20231012T122340Z
LAST-MODIFIED:20231012T122340Z
UID:10007155-1838937600-1839023999@brunswickforest.com
SUMMARY:Investors Club
DESCRIPTION:Email For Details \nContact: Patrick Loyd \npatrickaloyd@kw.com
URL:https://brunswickforest.com/events/investors-club-3/2028-04-10/
LOCATION:TBA
CATEGORIES:Resident Activities
ATTACH;FMTTYPE=image/png:https://brunswickforest.com/wpc/uploads/investment-club.png
ORGANIZER;CN="Patrick Loyd":MAILTO:patrickloyd@kw.com
END:VEVENT
BEGIN:VEVENT
DTSTART;VALUE=DATE:20280417
DTEND;VALUE=DATE:20280418
DTSTAMP:20260422T063550
CREATED:20231012T122340Z
LAST-MODIFIED:20231012T122340Z
UID:10007156-1839542400-1839628799@brunswickforest.com
SUMMARY:Investors Club
DESCRIPTION:Email For Details \nContact: Patrick Loyd \npatrickaloyd@kw.com
URL:https://brunswickforest.com/events/investors-club-3/2028-04-17/
LOCATION:TBA
CATEGORIES:Resident Activities
ATTACH;FMTTYPE=image/png:https://brunswickforest.com/wpc/uploads/investment-club.png
ORGANIZER;CN="Patrick Loyd":MAILTO:patrickloyd@kw.com
END:VEVENT
BEGIN:VEVENT
DTSTART;VALUE=DATE:20280424
DTEND;VALUE=DATE:20280425
DTSTAMP:20260422T063550
CREATED:20231012T122340Z
LAST-MODIFIED:20231012T122340Z
UID:10007157-1840147200-1840233599@brunswickforest.com
SUMMARY:Investors Club
DESCRIPTION:Email For Details \nContact: Patrick Loyd \npatrickaloyd@kw.com
URL:https://brunswickforest.com/events/investors-club-3/2028-04-24/
LOCATION:TBA
CATEGORIES:Resident Activities
ATTACH;FMTTYPE=image/png:https://brunswickforest.com/wpc/uploads/investment-club.png
ORGANIZER;CN="Patrick Loyd":MAILTO:patrickloyd@kw.com
END:VEVENT
BEGIN:VEVENT
DTSTART;VALUE=DATE:20280501
DTEND;VALUE=DATE:20280502
DTSTAMP:20260422T063550
CREATED:20231012T122340Z
LAST-MODIFIED:20231012T122340Z
UID:10007158-1840752000-1840838399@brunswickforest.com
SUMMARY:Investors Club
DESCRIPTION:Email For Details \nContact: Patrick Loyd \npatrickaloyd@kw.com
URL:https://brunswickforest.com/events/investors-club-3/2028-05-01/
LOCATION:TBA
CATEGORIES:Resident Activities
ATTACH;FMTTYPE=image/png:https://brunswickforest.com/wpc/uploads/investment-club.png
ORGANIZER;CN="Patrick Loyd":MAILTO:patrickloyd@kw.com
END:VEVENT
BEGIN:VEVENT
DTSTART;VALUE=DATE:20280508
DTEND;VALUE=DATE:20280509
DTSTAMP:20260422T063550
CREATED:20231012T122340Z
LAST-MODIFIED:20231012T122340Z
UID:10007159-1841356800-1841443199@brunswickforest.com
SUMMARY:Investors Club
DESCRIPTION:Email For Details \nContact: Patrick Loyd \npatrickaloyd@kw.com
URL:https://brunswickforest.com/events/investors-club-3/2028-05-08/
LOCATION:TBA
CATEGORIES:Resident Activities
ATTACH;FMTTYPE=image/png:https://brunswickforest.com/wpc/uploads/investment-club.png
ORGANIZER;CN="Patrick Loyd":MAILTO:patrickloyd@kw.com
END:VEVENT
BEGIN:VEVENT
DTSTART;VALUE=DATE:20280515
DTEND;VALUE=DATE:20280516
DTSTAMP:20260422T063550
CREATED:20231012T122340Z
LAST-MODIFIED:20231012T122340Z
UID:10007160-1841961600-1842047999@brunswickforest.com
SUMMARY:Investors Club
DESCRIPTION:Email For Details \nContact: Patrick Loyd \npatrickaloyd@kw.com
URL:https://brunswickforest.com/events/investors-club-3/2028-05-15/
LOCATION:TBA
CATEGORIES:Resident Activities
ATTACH;FMTTYPE=image/png:https://brunswickforest.com/wpc/uploads/investment-club.png
ORGANIZER;CN="Patrick Loyd":MAILTO:patrickloyd@kw.com
END:VEVENT
BEGIN:VEVENT
DTSTART;VALUE=DATE:20280522
DTEND;VALUE=DATE:20280523
DTSTAMP:20260422T063550
CREATED:20231012T122340Z
LAST-MODIFIED:20231012T122340Z
UID:10007161-1842566400-1842652799@brunswickforest.com
SUMMARY:Investors Club
DESCRIPTION:Email For Details \nContact: Patrick Loyd \npatrickaloyd@kw.com
URL:https://brunswickforest.com/events/investors-club-3/2028-05-22/
LOCATION:TBA
CATEGORIES:Resident Activities
ATTACH;FMTTYPE=image/png:https://brunswickforest.com/wpc/uploads/investment-club.png
ORGANIZER;CN="Patrick Loyd":MAILTO:patrickloyd@kw.com
END:VEVENT
BEGIN:VEVENT
DTSTART;VALUE=DATE:20280529
DTEND;VALUE=DATE:20280530
DTSTAMP:20260422T063550
CREATED:20231012T122340Z
LAST-MODIFIED:20231012T122340Z
UID:10007162-1843171200-1843257599@brunswickforest.com
SUMMARY:Investors Club
DESCRIPTION:Email For Details \nContact: Patrick Loyd \npatrickaloyd@kw.com
URL:https://brunswickforest.com/events/investors-club-3/2028-05-29/
LOCATION:TBA
CATEGORIES:Resident Activities
ATTACH;FMTTYPE=image/png:https://brunswickforest.com/wpc/uploads/investment-club.png
ORGANIZER;CN="Patrick Loyd":MAILTO:patrickloyd@kw.com
END:VEVENT
BEGIN:VEVENT
DTSTART;VALUE=DATE:20280605
DTEND;VALUE=DATE:20280606
DTSTAMP:20260422T063550
CREATED:20231012T122340Z
LAST-MODIFIED:20231012T122340Z
UID:10007163-1843776000-1843862399@brunswickforest.com
SUMMARY:Investors Club
DESCRIPTION:Email For Details \nContact: Patrick Loyd \npatrickaloyd@kw.com
URL:https://brunswickforest.com/events/investors-club-3/2028-06-05/
LOCATION:TBA
CATEGORIES:Resident Activities
ATTACH;FMTTYPE=image/png:https://brunswickforest.com/wpc/uploads/investment-club.png
ORGANIZER;CN="Patrick Loyd":MAILTO:patrickloyd@kw.com
END:VEVENT
BEGIN:VEVENT
DTSTART;VALUE=DATE:20280612
DTEND;VALUE=DATE:20280613
DTSTAMP:20260422T063550
CREATED:20231012T122340Z
LAST-MODIFIED:20231012T122340Z
UID:10007164-1844380800-1844467199@brunswickforest.com
SUMMARY:Investors Club
DESCRIPTION:Email For Details \nContact: Patrick Loyd \npatrickaloyd@kw.com
URL:https://brunswickforest.com/events/investors-club-3/2028-06-12/
LOCATION:TBA
CATEGORIES:Resident Activities
ATTACH;FMTTYPE=image/png:https://brunswickforest.com/wpc/uploads/investment-club.png
ORGANIZER;CN="Patrick Loyd":MAILTO:patrickloyd@kw.com
END:VEVENT
BEGIN:VEVENT
DTSTART;VALUE=DATE:20280619
DTEND;VALUE=DATE:20280620
DTSTAMP:20260422T063550
CREATED:20231012T122340Z
LAST-MODIFIED:20231012T122340Z
UID:10007165-1844985600-1845071999@brunswickforest.com
SUMMARY:Investors Club
DESCRIPTION:Email For Details \nContact: Patrick Loyd \npatrickaloyd@kw.com
URL:https://brunswickforest.com/events/investors-club-3/2028-06-19/
LOCATION:TBA
CATEGORIES:Resident Activities
ATTACH;FMTTYPE=image/png:https://brunswickforest.com/wpc/uploads/investment-club.png
ORGANIZER;CN="Patrick Loyd":MAILTO:patrickloyd@kw.com
END:VEVENT
BEGIN:VEVENT
DTSTART;VALUE=DATE:20280626
DTEND;VALUE=DATE:20280627
DTSTAMP:20260422T063550
CREATED:20231012T122340Z
LAST-MODIFIED:20231012T122340Z
UID:10007166-1845590400-1845676799@brunswickforest.com
SUMMARY:Investors Club
DESCRIPTION:Email For Details \nContact: Patrick Loyd \npatrickaloyd@kw.com
URL:https://brunswickforest.com/events/investors-club-3/2028-06-26/
LOCATION:TBA
CATEGORIES:Resident Activities
ATTACH;FMTTYPE=image/png:https://brunswickforest.com/wpc/uploads/investment-club.png
ORGANIZER;CN="Patrick Loyd":MAILTO:patrickloyd@kw.com
END:VEVENT
BEGIN:VEVENT
DTSTART;VALUE=DATE:20280703
DTEND;VALUE=DATE:20280704
DTSTAMP:20260422T063550
CREATED:20231012T122340Z
LAST-MODIFIED:20231012T122340Z
UID:10007167-1846195200-1846281599@brunswickforest.com
SUMMARY:Investors Club
DESCRIPTION:Email For Details \nContact: Patrick Loyd \npatrickaloyd@kw.com
URL:https://brunswickforest.com/events/investors-club-3/2028-07-03/
LOCATION:TBA
CATEGORIES:Resident Activities
ATTACH;FMTTYPE=image/png:https://brunswickforest.com/wpc/uploads/investment-club.png
ORGANIZER;CN="Patrick Loyd":MAILTO:patrickloyd@kw.com
END:VEVENT
BEGIN:VEVENT
DTSTART;VALUE=DATE:20280710
DTEND;VALUE=DATE:20280711
DTSTAMP:20260422T063550
CREATED:20231012T122340Z
LAST-MODIFIED:20231012T122340Z
UID:10007168-1846800000-1846886399@brunswickforest.com
SUMMARY:Investors Club
DESCRIPTION:Email For Details \nContact: Patrick Loyd \npatrickaloyd@kw.com
URL:https://brunswickforest.com/events/investors-club-3/2028-07-10/
LOCATION:TBA
CATEGORIES:Resident Activities
ATTACH;FMTTYPE=image/png:https://brunswickforest.com/wpc/uploads/investment-club.png
ORGANIZER;CN="Patrick Loyd":MAILTO:patrickloyd@kw.com
END:VEVENT
BEGIN:VEVENT
DTSTART;VALUE=DATE:20280717
DTEND;VALUE=DATE:20280718
DTSTAMP:20260422T063550
CREATED:20231012T122340Z
LAST-MODIFIED:20231012T122340Z
UID:10007169-1847404800-1847491199@brunswickforest.com
SUMMARY:Investors Club
DESCRIPTION:Email For Details \nContact: Patrick Loyd \npatrickaloyd@kw.com
URL:https://brunswickforest.com/events/investors-club-3/2028-07-17/
LOCATION:TBA
CATEGORIES:Resident Activities
ATTACH;FMTTYPE=image/png:https://brunswickforest.com/wpc/uploads/investment-club.png
ORGANIZER;CN="Patrick Loyd":MAILTO:patrickloyd@kw.com
END:VEVENT
BEGIN:VEVENT
DTSTART;VALUE=DATE:20280724
DTEND;VALUE=DATE:20280725
DTSTAMP:20260422T063550
CREATED:20231012T122340Z
LAST-MODIFIED:20231012T122340Z
UID:10007170-1848009600-1848095999@brunswickforest.com
SUMMARY:Investors Club
DESCRIPTION:Email For Details \nContact: Patrick Loyd \npatrickaloyd@kw.com
URL:https://brunswickforest.com/events/investors-club-3/2028-07-24/
LOCATION:TBA
CATEGORIES:Resident Activities
ATTACH;FMTTYPE=image/png:https://brunswickforest.com/wpc/uploads/investment-club.png
ORGANIZER;CN="Patrick Loyd":MAILTO:patrickloyd@kw.com
END:VEVENT
BEGIN:VEVENT
DTSTART;VALUE=DATE:20280731
DTEND;VALUE=DATE:20280801
DTSTAMP:20260422T063550
CREATED:20231012T122340Z
LAST-MODIFIED:20231012T122340Z
UID:10007171-1848614400-1848700799@brunswickforest.com
SUMMARY:Investors Club
DESCRIPTION:Email For Details \nContact: Patrick Loyd \npatrickaloyd@kw.com
URL:https://brunswickforest.com/events/investors-club-3/2028-07-31/
LOCATION:TBA
CATEGORIES:Resident Activities
ATTACH;FMTTYPE=image/png:https://brunswickforest.com/wpc/uploads/investment-club.png
ORGANIZER;CN="Patrick Loyd":MAILTO:patrickloyd@kw.com
END:VEVENT
BEGIN:VEVENT
DTSTART;VALUE=DATE:20280807
DTEND;VALUE=DATE:20280808
DTSTAMP:20260422T063550
CREATED:20231012T122340Z
LAST-MODIFIED:20231012T122340Z
UID:10007172-1849219200-1849305599@brunswickforest.com
SUMMARY:Investors Club
DESCRIPTION:Email For Details \nContact: Patrick Loyd \npatrickaloyd@kw.com
URL:https://brunswickforest.com/events/investors-club-3/2028-08-07/
LOCATION:TBA
CATEGORIES:Resident Activities
ATTACH;FMTTYPE=image/png:https://brunswickforest.com/wpc/uploads/investment-club.png
ORGANIZER;CN="Patrick Loyd":MAILTO:patrickloyd@kw.com
END:VEVENT
BEGIN:VEVENT
DTSTART;VALUE=DATE:20280814
DTEND;VALUE=DATE:20280815
DTSTAMP:20260422T063550
CREATED:20231012T122340Z
LAST-MODIFIED:20231012T122340Z
UID:10007173-1849824000-1849910399@brunswickforest.com
SUMMARY:Investors Club
DESCRIPTION:Email For Details \nContact: Patrick Loyd \npatrickaloyd@kw.com
URL:https://brunswickforest.com/events/investors-club-3/2028-08-14/
LOCATION:TBA
CATEGORIES:Resident Activities
ATTACH;FMTTYPE=image/png:https://brunswickforest.com/wpc/uploads/investment-club.png
ORGANIZER;CN="Patrick Loyd":MAILTO:patrickloyd@kw.com
END:VEVENT
BEGIN:VEVENT
DTSTART;VALUE=DATE:20280821
DTEND;VALUE=DATE:20280822
DTSTAMP:20260422T063550
CREATED:20231012T122340Z
LAST-MODIFIED:20231012T122340Z
UID:10007174-1850428800-1850515199@brunswickforest.com
SUMMARY:Investors Club
DESCRIPTION:Email For Details \nContact: Patrick Loyd \npatrickaloyd@kw.com
URL:https://brunswickforest.com/events/investors-club-3/2028-08-21/
LOCATION:TBA
CATEGORIES:Resident Activities
ATTACH;FMTTYPE=image/png:https://brunswickforest.com/wpc/uploads/investment-club.png
ORGANIZER;CN="Patrick Loyd":MAILTO:patrickloyd@kw.com
END:VEVENT
BEGIN:VEVENT
DTSTART;VALUE=DATE:20280828
DTEND;VALUE=DATE:20280829
DTSTAMP:20260422T063550
CREATED:20231012T122340Z
LAST-MODIFIED:20231012T122340Z
UID:10007175-1851033600-1851119999@brunswickforest.com
SUMMARY:Investors Club
DESCRIPTION:Email For Details \nContact: Patrick Loyd \npatrickaloyd@kw.com
URL:https://brunswickforest.com/events/investors-club-3/2028-08-28/
LOCATION:TBA
CATEGORIES:Resident Activities
ATTACH;FMTTYPE=image/png:https://brunswickforest.com/wpc/uploads/investment-club.png
ORGANIZER;CN="Patrick Loyd":MAILTO:patrickloyd@kw.com
END:VEVENT
BEGIN:VEVENT
DTSTART;VALUE=DATE:20280904
DTEND;VALUE=DATE:20280905
DTSTAMP:20260422T063550
CREATED:20231012T122340Z
LAST-MODIFIED:20231012T122340Z
UID:10007176-1851638400-1851724799@brunswickforest.com
SUMMARY:Investors Club
DESCRIPTION:Email For Details \nContact: Patrick Loyd \npatrickaloyd@kw.com
URL:https://brunswickforest.com/events/investors-club-3/2028-09-04/
LOCATION:TBA
CATEGORIES:Resident Activities
ATTACH;FMTTYPE=image/png:https://brunswickforest.com/wpc/uploads/investment-club.png
ORGANIZER;CN="Patrick Loyd":MAILTO:patrickloyd@kw.com
END:VEVENT
BEGIN:VEVENT
DTSTART;VALUE=DATE:20280911
DTEND;VALUE=DATE:20280912
DTSTAMP:20260422T063550
CREATED:20231012T122340Z
LAST-MODIFIED:20231012T122340Z
UID:10007177-1852243200-1852329599@brunswickforest.com
SUMMARY:Investors Club
DESCRIPTION:Email For Details \nContact: Patrick Loyd \npatrickaloyd@kw.com
URL:https://brunswickforest.com/events/investors-club-3/2028-09-11/
LOCATION:TBA
CATEGORIES:Resident Activities
ATTACH;FMTTYPE=image/png:https://brunswickforest.com/wpc/uploads/investment-club.png
ORGANIZER;CN="Patrick Loyd":MAILTO:patrickloyd@kw.com
END:VEVENT
END:VCALENDAR