BEGIN:VCALENDAR
VERSION:2.0
PRODID:-//Brunswick Forest - ECPv6.15.20//NONSGML v1.0//EN
CALSCALE:GREGORIAN
METHOD:PUBLISH
X-ORIGINAL-URL:https://brunswickforest.com
X-WR-CALDESC:Events for Brunswick Forest
REFRESH-INTERVAL;VALUE=DURATION:PT1H
X-Robots-Tag:noindex
X-PUBLISHED-TTL:PT1H
BEGIN:VTIMEZONE
TZID:America/New_York
BEGIN:DAYLIGHT
TZOFFSETFROM:-0500
TZOFFSETTO:-0400
TZNAME:EDT
DTSTART:20220313T070000
END:DAYLIGHT
BEGIN:STANDARD
TZOFFSETFROM:-0400
TZOFFSETTO:-0500
TZNAME:EST
DTSTART:20221106T060000
END:STANDARD
BEGIN:DAYLIGHT
TZOFFSETFROM:-0500
TZOFFSETTO:-0400
TZNAME:EDT
DTSTART:20230312T070000
END:DAYLIGHT
BEGIN:STANDARD
TZOFFSETFROM:-0400
TZOFFSETTO:-0500
TZNAME:EST
DTSTART:20231105T060000
END:STANDARD
BEGIN:DAYLIGHT
TZOFFSETFROM:-0500
TZOFFSETTO:-0400
TZNAME:EDT
DTSTART:20240310T070000
END:DAYLIGHT
BEGIN:STANDARD
TZOFFSETFROM:-0400
TZOFFSETTO:-0500
TZNAME:EST
DTSTART:20241103T060000
END:STANDARD
BEGIN:DAYLIGHT
TZOFFSETFROM:-0500
TZOFFSETTO:-0400
TZNAME:EDT
DTSTART:20250309T070000
END:DAYLIGHT
BEGIN:STANDARD
TZOFFSETFROM:-0400
TZOFFSETTO:-0500
TZNAME:EST
DTSTART:20251102T060000
END:STANDARD
END:VTIMEZONE
BEGIN:VEVENT
DTSTART;TZID=America/New_York:20240312T133000
DTEND;TZID=America/New_York:20240312T143000
DTSTAMP:20260422T180117
CREATED:20231012T132244Z
LAST-MODIFIED:20231012T132244Z
UID:10009334-1710250200-1710253800@brunswickforest.com
SUMMARY:Mexican Train
DESCRIPTION:The Community Commons \nTuesdays \n@1:30pm \n  \nContact Marcia Belford: Mbel0254@comcast.net
URL:https://brunswickforest.com/events/mexican-train-4/2024-03-12/
LOCATION:Community Commons
CATEGORIES:Resident Activities
ATTACH;FMTTYPE=image/png:https://brunswickforest.com/wpc/uploads/2022/06/mexican-train.png
ORGANIZER;CN="Marcia Belford":MAILTO:Mbel0254@comcast.net
END:VEVENT
BEGIN:VEVENT
DTSTART;TZID=America/New_York:20240305T133000
DTEND;TZID=America/New_York:20240305T143000
DTSTAMP:20260422T180117
CREATED:20231012T132244Z
LAST-MODIFIED:20231012T132244Z
UID:10009333-1709645400-1709649000@brunswickforest.com
SUMMARY:Mexican Train
DESCRIPTION:The Community Commons \nTuesdays \n@1:30pm \n  \nContact Marcia Belford: Mbel0254@comcast.net
URL:https://brunswickforest.com/events/mexican-train-4/2024-03-05/
LOCATION:Community Commons
CATEGORIES:Resident Activities
ATTACH;FMTTYPE=image/png:https://brunswickforest.com/wpc/uploads/2022/06/mexican-train.png
ORGANIZER;CN="Marcia Belford":MAILTO:Mbel0254@comcast.net
END:VEVENT
BEGIN:VEVENT
DTSTART;TZID=America/New_York:20240227T133000
DTEND;TZID=America/New_York:20240227T143000
DTSTAMP:20260422T180117
CREATED:20231012T132244Z
LAST-MODIFIED:20231012T132244Z
UID:10009332-1709040600-1709044200@brunswickforest.com
SUMMARY:Mexican Train
DESCRIPTION:The Community Commons \nTuesdays \n@1:30pm \n  \nContact Marcia Belford: Mbel0254@comcast.net
URL:https://brunswickforest.com/events/mexican-train-4/2024-02-27/
LOCATION:Community Commons
CATEGORIES:Resident Activities
ATTACH;FMTTYPE=image/png:https://brunswickforest.com/wpc/uploads/2022/06/mexican-train.png
ORGANIZER;CN="Marcia Belford":MAILTO:Mbel0254@comcast.net
END:VEVENT
BEGIN:VEVENT
DTSTART;TZID=America/New_York:20240220T133000
DTEND;TZID=America/New_York:20240220T143000
DTSTAMP:20260422T180117
CREATED:20231012T132244Z
LAST-MODIFIED:20231012T132244Z
UID:10009331-1708435800-1708439400@brunswickforest.com
SUMMARY:Mexican Train
DESCRIPTION:The Community Commons \nTuesdays \n@1:30pm \n  \nContact Marcia Belford: Mbel0254@comcast.net
URL:https://brunswickforest.com/events/mexican-train-4/2024-02-20/
LOCATION:Community Commons
CATEGORIES:Resident Activities
ATTACH;FMTTYPE=image/png:https://brunswickforest.com/wpc/uploads/2022/06/mexican-train.png
ORGANIZER;CN="Marcia Belford":MAILTO:Mbel0254@comcast.net
END:VEVENT
BEGIN:VEVENT
DTSTART;TZID=America/New_York:20240213T133000
DTEND;TZID=America/New_York:20240213T143000
DTSTAMP:20260422T180117
CREATED:20231012T132244Z
LAST-MODIFIED:20231012T132244Z
UID:10009330-1707831000-1707834600@brunswickforest.com
SUMMARY:Mexican Train
DESCRIPTION:The Community Commons \nTuesdays \n@1:30pm \n  \nContact Marcia Belford: Mbel0254@comcast.net
URL:https://brunswickforest.com/events/mexican-train-4/2024-02-13/
LOCATION:Community Commons
CATEGORIES:Resident Activities
ATTACH;FMTTYPE=image/png:https://brunswickforest.com/wpc/uploads/2022/06/mexican-train.png
ORGANIZER;CN="Marcia Belford":MAILTO:Mbel0254@comcast.net
END:VEVENT
BEGIN:VEVENT
DTSTART;TZID=America/New_York:20240206T133000
DTEND;TZID=America/New_York:20240206T143000
DTSTAMP:20260422T180117
CREATED:20231012T132244Z
LAST-MODIFIED:20231012T132244Z
UID:10009329-1707226200-1707229800@brunswickforest.com
SUMMARY:Mexican Train
DESCRIPTION:The Community Commons \nTuesdays \n@1:30pm \n  \nContact Marcia Belford: Mbel0254@comcast.net
URL:https://brunswickforest.com/events/mexican-train-4/2024-02-06/
LOCATION:Community Commons
CATEGORIES:Resident Activities
ATTACH;FMTTYPE=image/png:https://brunswickforest.com/wpc/uploads/2022/06/mexican-train.png
ORGANIZER;CN="Marcia Belford":MAILTO:Mbel0254@comcast.net
END:VEVENT
BEGIN:VEVENT
DTSTART;TZID=America/New_York:20240130T133000
DTEND;TZID=America/New_York:20240130T143000
DTSTAMP:20260422T180117
CREATED:20231012T132244Z
LAST-MODIFIED:20231012T132244Z
UID:10009328-1706621400-1706625000@brunswickforest.com
SUMMARY:Mexican Train
DESCRIPTION:The Community Commons \nTuesdays \n@1:30pm \n  \nContact Marcia Belford: Mbel0254@comcast.net
URL:https://brunswickforest.com/events/mexican-train-4/2024-01-30/
LOCATION:Community Commons
CATEGORIES:Resident Activities
ATTACH;FMTTYPE=image/png:https://brunswickforest.com/wpc/uploads/2022/06/mexican-train.png
ORGANIZER;CN="Marcia Belford":MAILTO:Mbel0254@comcast.net
END:VEVENT
BEGIN:VEVENT
DTSTART;TZID=America/New_York:20240123T133000
DTEND;TZID=America/New_York:20240123T143000
DTSTAMP:20260422T180117
CREATED:20231012T132244Z
LAST-MODIFIED:20231012T132244Z
UID:10009327-1706016600-1706020200@brunswickforest.com
SUMMARY:Mexican Train
DESCRIPTION:The Community Commons \nTuesdays \n@1:30pm \n  \nContact Marcia Belford: Mbel0254@comcast.net
URL:https://brunswickforest.com/events/mexican-train-4/2024-01-23/
LOCATION:Community Commons
CATEGORIES:Resident Activities
ATTACH;FMTTYPE=image/png:https://brunswickforest.com/wpc/uploads/2022/06/mexican-train.png
ORGANIZER;CN="Marcia Belford":MAILTO:Mbel0254@comcast.net
END:VEVENT
BEGIN:VEVENT
DTSTART;TZID=America/New_York:20240116T133000
DTEND;TZID=America/New_York:20240116T143000
DTSTAMP:20260422T180117
CREATED:20231012T132244Z
LAST-MODIFIED:20231012T132244Z
UID:10009326-1705411800-1705415400@brunswickforest.com
SUMMARY:Mexican Train
DESCRIPTION:The Community Commons \nTuesdays \n@1:30pm \n  \nContact Marcia Belford: Mbel0254@comcast.net
URL:https://brunswickforest.com/events/mexican-train-4/2024-01-16/
LOCATION:Community Commons
CATEGORIES:Resident Activities
ATTACH;FMTTYPE=image/png:https://brunswickforest.com/wpc/uploads/2022/06/mexican-train.png
ORGANIZER;CN="Marcia Belford":MAILTO:Mbel0254@comcast.net
END:VEVENT
BEGIN:VEVENT
DTSTART;TZID=America/New_York:20240109T133000
DTEND;TZID=America/New_York:20240109T143000
DTSTAMP:20260422T180117
CREATED:20231012T132244Z
LAST-MODIFIED:20231012T132244Z
UID:10009325-1704807000-1704810600@brunswickforest.com
SUMMARY:Mexican Train
DESCRIPTION:The Community Commons \nTuesdays \n@1:30pm \n  \nContact Marcia Belford: Mbel0254@comcast.net
URL:https://brunswickforest.com/events/mexican-train-4/2024-01-09/
LOCATION:Community Commons
CATEGORIES:Resident Activities
ATTACH;FMTTYPE=image/png:https://brunswickforest.com/wpc/uploads/2022/06/mexican-train.png
ORGANIZER;CN="Marcia Belford":MAILTO:Mbel0254@comcast.net
END:VEVENT
BEGIN:VEVENT
DTSTART;TZID=America/New_York:20240102T133000
DTEND;TZID=America/New_York:20240102T143000
DTSTAMP:20260422T180117
CREATED:20231012T132244Z
LAST-MODIFIED:20231012T132244Z
UID:10009324-1704202200-1704205800@brunswickforest.com
SUMMARY:Mexican Train
DESCRIPTION:The Community Commons \nTuesdays \n@1:30pm \n  \nContact Marcia Belford: Mbel0254@comcast.net
URL:https://brunswickforest.com/events/mexican-train-4/2024-01-02/
LOCATION:Community Commons
CATEGORIES:Resident Activities
ATTACH;FMTTYPE=image/png:https://brunswickforest.com/wpc/uploads/2022/06/mexican-train.png
ORGANIZER;CN="Marcia Belford":MAILTO:Mbel0254@comcast.net
END:VEVENT
BEGIN:VEVENT
DTSTART;TZID=America/New_York:20231226T133000
DTEND;TZID=America/New_York:20231226T143000
DTSTAMP:20260422T180118
CREATED:20231012T132244Z
LAST-MODIFIED:20231012T132244Z
UID:10009323-1703597400-1703601000@brunswickforest.com
SUMMARY:Mexican Train
DESCRIPTION:The Community Commons \nTuesdays \n@1:30pm \n  \nContact Marcia Belford: Mbel0254@comcast.net
URL:https://brunswickforest.com/events/mexican-train-4/2023-12-26/
LOCATION:Community Commons
CATEGORIES:Resident Activities
ATTACH;FMTTYPE=image/png:https://brunswickforest.com/wpc/uploads/2022/06/mexican-train.png
ORGANIZER;CN="Marcia Belford":MAILTO:Mbel0254@comcast.net
END:VEVENT
BEGIN:VEVENT
DTSTART;TZID=America/New_York:20231219T133000
DTEND;TZID=America/New_York:20231219T143000
DTSTAMP:20260422T180118
CREATED:20231012T132244Z
LAST-MODIFIED:20231012T132244Z
UID:10009322-1702992600-1702996200@brunswickforest.com
SUMMARY:Mexican Train
DESCRIPTION:The Community Commons \nTuesdays \n@1:30pm \n  \nContact Marcia Belford: Mbel0254@comcast.net
URL:https://brunswickforest.com/events/mexican-train-4/2023-12-19/
LOCATION:Community Commons
CATEGORIES:Resident Activities
ATTACH;FMTTYPE=image/png:https://brunswickforest.com/wpc/uploads/2022/06/mexican-train.png
ORGANIZER;CN="Marcia Belford":MAILTO:Mbel0254@comcast.net
END:VEVENT
BEGIN:VEVENT
DTSTART;TZID=America/New_York:20231212T133000
DTEND;TZID=America/New_York:20231212T143000
DTSTAMP:20260422T180118
CREATED:20231012T132244Z
LAST-MODIFIED:20231012T132244Z
UID:10009321-1702387800-1702391400@brunswickforest.com
SUMMARY:Mexican Train
DESCRIPTION:The Community Commons \nTuesdays \n@1:30pm \n  \nContact Marcia Belford: Mbel0254@comcast.net
URL:https://brunswickforest.com/events/mexican-train-4/2023-12-12/
LOCATION:Community Commons
CATEGORIES:Resident Activities
ATTACH;FMTTYPE=image/png:https://brunswickforest.com/wpc/uploads/2022/06/mexican-train.png
ORGANIZER;CN="Marcia Belford":MAILTO:Mbel0254@comcast.net
END:VEVENT
BEGIN:VEVENT
DTSTART;TZID=America/New_York:20231205T133000
DTEND;TZID=America/New_York:20231205T143000
DTSTAMP:20260422T180118
CREATED:20231012T132244Z
LAST-MODIFIED:20231012T132244Z
UID:10009320-1701783000-1701786600@brunswickforest.com
SUMMARY:Mexican Train
DESCRIPTION:The Community Commons \nTuesdays \n@1:30pm \n  \nContact Marcia Belford: Mbel0254@comcast.net
URL:https://brunswickforest.com/events/mexican-train-4/2023-12-05/
LOCATION:Community Commons
CATEGORIES:Resident Activities
ATTACH;FMTTYPE=image/png:https://brunswickforest.com/wpc/uploads/2022/06/mexican-train.png
ORGANIZER;CN="Marcia Belford":MAILTO:Mbel0254@comcast.net
END:VEVENT
BEGIN:VEVENT
DTSTART;TZID=America/New_York:20231128T133000
DTEND;TZID=America/New_York:20231128T143000
DTSTAMP:20260422T180118
CREATED:20231012T132244Z
LAST-MODIFIED:20231012T132244Z
UID:10009319-1701178200-1701181800@brunswickforest.com
SUMMARY:Mexican Train
DESCRIPTION:The Community Commons \nTuesdays \n@1:30pm \n  \nContact Marcia Belford: Mbel0254@comcast.net
URL:https://brunswickforest.com/events/mexican-train-4/2023-11-28/
LOCATION:Community Commons
CATEGORIES:Resident Activities
ATTACH;FMTTYPE=image/png:https://brunswickforest.com/wpc/uploads/2022/06/mexican-train.png
ORGANIZER;CN="Marcia Belford":MAILTO:Mbel0254@comcast.net
END:VEVENT
BEGIN:VEVENT
DTSTART;TZID=America/New_York:20231121T133000
DTEND;TZID=America/New_York:20231121T143000
DTSTAMP:20260422T180118
CREATED:20231012T132244Z
LAST-MODIFIED:20231012T132244Z
UID:10009318-1700573400-1700577000@brunswickforest.com
SUMMARY:Mexican Train
DESCRIPTION:The Community Commons \nTuesdays \n@1:30pm \n  \nContact Marcia Belford: Mbel0254@comcast.net
URL:https://brunswickforest.com/events/mexican-train-4/2023-11-21/
LOCATION:Community Commons
CATEGORIES:Resident Activities
ATTACH;FMTTYPE=image/png:https://brunswickforest.com/wpc/uploads/2022/06/mexican-train.png
ORGANIZER;CN="Marcia Belford":MAILTO:Mbel0254@comcast.net
END:VEVENT
BEGIN:VEVENT
DTSTART;TZID=America/New_York:20231114T133000
DTEND;TZID=America/New_York:20231114T143000
DTSTAMP:20260422T180118
CREATED:20231012T132244Z
LAST-MODIFIED:20231012T132244Z
UID:10009317-1699968600-1699972200@brunswickforest.com
SUMMARY:Mexican Train
DESCRIPTION:The Community Commons \nTuesdays \n@1:30pm \n  \nContact Marcia Belford: Mbel0254@comcast.net
URL:https://brunswickforest.com/events/mexican-train-4/2023-11-14/
LOCATION:Community Commons
CATEGORIES:Resident Activities
ATTACH;FMTTYPE=image/png:https://brunswickforest.com/wpc/uploads/2022/06/mexican-train.png
ORGANIZER;CN="Marcia Belford":MAILTO:Mbel0254@comcast.net
END:VEVENT
BEGIN:VEVENT
DTSTART;TZID=America/New_York:20231107T133000
DTEND;TZID=America/New_York:20231107T143000
DTSTAMP:20260422T180118
CREATED:20231012T132244Z
LAST-MODIFIED:20231012T132244Z
UID:10009316-1699363800-1699367400@brunswickforest.com
SUMMARY:Mexican Train
DESCRIPTION:The Community Commons \nTuesdays \n@1:30pm \n  \nContact Marcia Belford: Mbel0254@comcast.net
URL:https://brunswickforest.com/events/mexican-train-4/2023-11-07/
LOCATION:Community Commons
CATEGORIES:Resident Activities
ATTACH;FMTTYPE=image/png:https://brunswickforest.com/wpc/uploads/2022/06/mexican-train.png
ORGANIZER;CN="Marcia Belford":MAILTO:Mbel0254@comcast.net
END:VEVENT
BEGIN:VEVENT
DTSTART;TZID=America/New_York:20231031T133000
DTEND;TZID=America/New_York:20231031T143000
DTSTAMP:20260422T180118
CREATED:20231012T132244Z
LAST-MODIFIED:20231012T132244Z
UID:10009315-1698759000-1698762600@brunswickforest.com
SUMMARY:Mexican Train
DESCRIPTION:The Community Commons \nTuesdays \n@1:30pm \n  \nContact Marcia Belford: Mbel0254@comcast.net
URL:https://brunswickforest.com/events/mexican-train-4/2023-10-31/
LOCATION:Community Commons
CATEGORIES:Resident Activities
ATTACH;FMTTYPE=image/png:https://brunswickforest.com/wpc/uploads/2022/06/mexican-train.png
ORGANIZER;CN="Marcia Belford":MAILTO:Mbel0254@comcast.net
END:VEVENT
BEGIN:VEVENT
DTSTART;TZID=America/New_York:20231024T133000
DTEND;TZID=America/New_York:20231024T143000
DTSTAMP:20260422T180118
CREATED:20231012T132244Z
LAST-MODIFIED:20231012T132244Z
UID:10009314-1698154200-1698157800@brunswickforest.com
SUMMARY:Mexican Train
DESCRIPTION:The Community Commons \nTuesdays \n@1:30pm \n  \nContact Marcia Belford: Mbel0254@comcast.net
URL:https://brunswickforest.com/events/mexican-train-4/2023-10-24/
LOCATION:Community Commons
CATEGORIES:Resident Activities
ATTACH;FMTTYPE=image/png:https://brunswickforest.com/wpc/uploads/2022/06/mexican-train.png
ORGANIZER;CN="Marcia Belford":MAILTO:Mbel0254@comcast.net
END:VEVENT
BEGIN:VEVENT
DTSTART;TZID=America/New_York:20231017T133000
DTEND;TZID=America/New_York:20231017T143000
DTSTAMP:20260422T180118
CREATED:20231012T132244Z
LAST-MODIFIED:20231012T132244Z
UID:10009313-1697549400-1697553000@brunswickforest.com
SUMMARY:Mexican Train
DESCRIPTION:The Community Commons \nTuesdays \n@1:30pm \n  \nContact Marcia Belford: Mbel0254@comcast.net
URL:https://brunswickforest.com/events/mexican-train-4/2023-10-17/
LOCATION:Community Commons
CATEGORIES:Resident Activities
ATTACH;FMTTYPE=image/png:https://brunswickforest.com/wpc/uploads/2022/06/mexican-train.png
ORGANIZER;CN="Marcia Belford":MAILTO:Mbel0254@comcast.net
END:VEVENT
BEGIN:VEVENT
DTSTART;TZID=America/New_York:20231010T133000
DTEND;TZID=America/New_York:20231010T143000
DTSTAMP:20260422T180118
CREATED:20231012T132244Z
LAST-MODIFIED:20231012T132244Z
UID:10009312-1696944600-1696948200@brunswickforest.com
SUMMARY:Mexican Train
DESCRIPTION:The Community Commons \nTuesdays \n@1:30pm \n  \nContact Marcia Belford: Mbel0254@comcast.net
URL:https://brunswickforest.com/events/mexican-train-4/2023-10-10/
LOCATION:Community Commons
CATEGORIES:Resident Activities
ATTACH;FMTTYPE=image/png:https://brunswickforest.com/wpc/uploads/2022/06/mexican-train.png
ORGANIZER;CN="Marcia Belford":MAILTO:Mbel0254@comcast.net
END:VEVENT
BEGIN:VEVENT
DTSTART;TZID=America/New_York:20231003T133000
DTEND;TZID=America/New_York:20231003T143000
DTSTAMP:20260422T180118
CREATED:20231012T132244Z
LAST-MODIFIED:20231012T132244Z
UID:10009311-1696339800-1696343400@brunswickforest.com
SUMMARY:Mexican Train
DESCRIPTION:The Community Commons \nTuesdays \n@1:30pm \n  \nContact Marcia Belford: Mbel0254@comcast.net
URL:https://brunswickforest.com/events/mexican-train-4/2023-10-03/
LOCATION:Community Commons
CATEGORIES:Resident Activities
ATTACH;FMTTYPE=image/png:https://brunswickforest.com/wpc/uploads/2022/06/mexican-train.png
ORGANIZER;CN="Marcia Belford":MAILTO:Mbel0254@comcast.net
END:VEVENT
BEGIN:VEVENT
DTSTART;TZID=America/New_York:20230627T133000
DTEND;TZID=America/New_York:20230627T143000
DTSTAMP:20260422T180118
CREATED:20230615T205906Z
LAST-MODIFIED:20230615T205906Z
UID:10006140-1687872600-1687876200@brunswickforest.com
SUMMARY:Mexican Train
DESCRIPTION:The Community Commons \nJune \n@1:30pm \n  \nContact Marcia Belford: Mbel0254@comcast.net
URL:https://brunswickforest.com/events/mexican-train-3/2023-06-27/
LOCATION:Community Commons
CATEGORIES:Resident Activities
ATTACH;FMTTYPE=image/png:https://brunswickforest.com/wpc/uploads/2022/06/mexican-train.png
ORGANIZER;CN="Marcia Belford":MAILTO:Mbel0254@comcast.net
END:VEVENT
BEGIN:VEVENT
DTSTART;TZID=America/New_York:20230620T133000
DTEND;TZID=America/New_York:20230620T143000
DTSTAMP:20260422T180118
CREATED:20230615T205906Z
LAST-MODIFIED:20230615T205906Z
UID:10006139-1687267800-1687271400@brunswickforest.com
SUMMARY:Mexican Train
DESCRIPTION:The Community Commons \nJune \n@1:30pm \n  \nContact Marcia Belford: Mbel0254@comcast.net
URL:https://brunswickforest.com/events/mexican-train-3/2023-06-20/
LOCATION:Community Commons
CATEGORIES:Resident Activities
ATTACH;FMTTYPE=image/png:https://brunswickforest.com/wpc/uploads/2022/06/mexican-train.png
ORGANIZER;CN="Marcia Belford":MAILTO:Mbel0254@comcast.net
END:VEVENT
BEGIN:VEVENT
DTSTART;TZID=America/New_York:20230613T133000
DTEND;TZID=America/New_York:20230613T143000
DTSTAMP:20260422T180118
CREATED:20230615T205906Z
LAST-MODIFIED:20230615T205906Z
UID:10006138-1686663000-1686666600@brunswickforest.com
SUMMARY:Mexican Train
DESCRIPTION:The Community Commons \nJune \n@1:30pm \n  \nContact Marcia Belford: Mbel0254@comcast.net
URL:https://brunswickforest.com/events/mexican-train-3/2023-06-13/
LOCATION:Community Commons
CATEGORIES:Resident Activities
ATTACH;FMTTYPE=image/png:https://brunswickforest.com/wpc/uploads/2022/06/mexican-train.png
ORGANIZER;CN="Marcia Belford":MAILTO:Mbel0254@comcast.net
END:VEVENT
BEGIN:VEVENT
DTSTART;TZID=America/New_York:20230606T133000
DTEND;TZID=America/New_York:20230606T143000
DTSTAMP:20260422T180118
CREATED:20230615T205906Z
LAST-MODIFIED:20230615T205906Z
UID:10006137-1686058200-1686061800@brunswickforest.com
SUMMARY:Mexican Train
DESCRIPTION:The Community Commons \nJune \n@1:30pm \n  \nContact Marcia Belford: Mbel0254@comcast.net
URL:https://brunswickforest.com/events/mexican-train-3/2023-06-06/
LOCATION:Community Commons
CATEGORIES:Resident Activities
ATTACH;FMTTYPE=image/png:https://brunswickforest.com/wpc/uploads/2022/06/mexican-train.png
ORGANIZER;CN="Marcia Belford":MAILTO:Mbel0254@comcast.net
END:VEVENT
BEGIN:VEVENT
DTSTART;TZID=America/New_York:20230328T133000
DTEND;TZID=America/New_York:20230328T143000
DTSTAMP:20260422T180118
CREATED:20230303T141825Z
LAST-MODIFIED:20230303T142022Z
UID:10005833-1680010200-1680013800@brunswickforest.com
SUMMARY:Mexican Train
DESCRIPTION:The Community Commons 3/7\, 3/14\, 3/21\, 3/28\, \n@1:30pm \n  \nContact Marcia Belford: Mbel0254@comcast.net
URL:https://brunswickforest.com/events/mexican-train-2/2023-03-28/
LOCATION:Community Commons
CATEGORIES:Resident Activities
ATTACH;FMTTYPE=image/png:https://brunswickforest.com/wpc/uploads/2022/06/mexican-train.png
ORGANIZER;CN="Marcia Belford":MAILTO:Mbel0254@comcast.net
END:VEVENT
BEGIN:VEVENT
DTSTART;TZID=America/New_York:20230321T133000
DTEND;TZID=America/New_York:20230321T143000
DTSTAMP:20260422T180118
CREATED:20230303T141825Z
LAST-MODIFIED:20230303T142022Z
UID:10005832-1679405400-1679409000@brunswickforest.com
SUMMARY:Mexican Train
DESCRIPTION:The Community Commons 3/7\, 3/14\, 3/21\, 3/28\, \n@1:30pm \n  \nContact Marcia Belford: Mbel0254@comcast.net
URL:https://brunswickforest.com/events/mexican-train-2/2023-03-21/
LOCATION:Community Commons
CATEGORIES:Resident Activities
ATTACH;FMTTYPE=image/png:https://brunswickforest.com/wpc/uploads/2022/06/mexican-train.png
ORGANIZER;CN="Marcia Belford":MAILTO:Mbel0254@comcast.net
END:VEVENT
END:VCALENDAR