BEGIN:VCALENDAR
VERSION:2.0
PRODID:-//Brunswick Forest - ECPv6.15.20//NONSGML v1.0//EN
CALSCALE:GREGORIAN
METHOD:PUBLISH
X-WR-CALNAME:Brunswick Forest
X-ORIGINAL-URL:https://brunswickforest.com
X-WR-CALDESC:Events for Brunswick Forest
REFRESH-INTERVAL;VALUE=DURATION:PT1H
X-Robots-Tag:noindex
X-PUBLISHED-TTL:PT1H
BEGIN:VTIMEZONE
TZID:America/New_York
BEGIN:DAYLIGHT
TZOFFSETFROM:-0500
TZOFFSETTO:-0400
TZNAME:EDT
DTSTART:20230312T070000
END:DAYLIGHT
BEGIN:STANDARD
TZOFFSETFROM:-0400
TZOFFSETTO:-0500
TZNAME:EST
DTSTART:20231105T060000
END:STANDARD
BEGIN:DAYLIGHT
TZOFFSETFROM:-0500
TZOFFSETTO:-0400
TZNAME:EDT
DTSTART:20240310T070000
END:DAYLIGHT
BEGIN:STANDARD
TZOFFSETFROM:-0400
TZOFFSETTO:-0500
TZNAME:EST
DTSTART:20241103T060000
END:STANDARD
BEGIN:DAYLIGHT
TZOFFSETFROM:-0500
TZOFFSETTO:-0400
TZNAME:EDT
DTSTART:20250309T070000
END:DAYLIGHT
BEGIN:STANDARD
TZOFFSETFROM:-0400
TZOFFSETTO:-0500
TZNAME:EST
DTSTART:20251102T060000
END:STANDARD
END:VTIMEZONE
BEGIN:VEVENT
DTSTART;TZID=America/New_York:20241001T133000
DTEND;TZID=America/New_York:20241001T143000
DTSTAMP:20260420T024724
CREATED:20231012T132244Z
LAST-MODIFIED:20231012T132244Z
UID:10009363-1727789400-1727793000@brunswickforest.com
SUMMARY:Mexican Train
DESCRIPTION:The Community Commons \nTuesdays \n@1:30pm \n  \nContact Marcia Belford: Mbel0254@comcast.net
URL:https://brunswickforest.com/events/mexican-train-4/2024-10-01/
LOCATION:Community Commons
CATEGORIES:Resident Activities
ATTACH;FMTTYPE=image/png:https://brunswickforest.com/wpc/uploads/2022/06/mexican-train.png
ORGANIZER;CN="Marcia Belford":MAILTO:Mbel0254@comcast.net
END:VEVENT
BEGIN:VEVENT
DTSTART;TZID=America/New_York:20240924T133000
DTEND;TZID=America/New_York:20240924T143000
DTSTAMP:20260420T024724
CREATED:20231012T132244Z
LAST-MODIFIED:20231012T132244Z
UID:10009362-1727184600-1727188200@brunswickforest.com
SUMMARY:Mexican Train
DESCRIPTION:The Community Commons \nTuesdays \n@1:30pm \n  \nContact Marcia Belford: Mbel0254@comcast.net
URL:https://brunswickforest.com/events/mexican-train-4/2024-09-24/
LOCATION:Community Commons
CATEGORIES:Resident Activities
ATTACH;FMTTYPE=image/png:https://brunswickforest.com/wpc/uploads/2022/06/mexican-train.png
ORGANIZER;CN="Marcia Belford":MAILTO:Mbel0254@comcast.net
END:VEVENT
BEGIN:VEVENT
DTSTART;TZID=America/New_York:20240917T133000
DTEND;TZID=America/New_York:20240917T143000
DTSTAMP:20260420T024724
CREATED:20231012T132244Z
LAST-MODIFIED:20231012T132244Z
UID:10009361-1726579800-1726583400@brunswickforest.com
SUMMARY:Mexican Train
DESCRIPTION:The Community Commons \nTuesdays \n@1:30pm \n  \nContact Marcia Belford: Mbel0254@comcast.net
URL:https://brunswickforest.com/events/mexican-train-4/2024-09-17/
LOCATION:Community Commons
CATEGORIES:Resident Activities
ATTACH;FMTTYPE=image/png:https://brunswickforest.com/wpc/uploads/2022/06/mexican-train.png
ORGANIZER;CN="Marcia Belford":MAILTO:Mbel0254@comcast.net
END:VEVENT
BEGIN:VEVENT
DTSTART;TZID=America/New_York:20240910T133000
DTEND;TZID=America/New_York:20240910T143000
DTSTAMP:20260420T024724
CREATED:20231012T132244Z
LAST-MODIFIED:20231012T132244Z
UID:10009360-1725975000-1725978600@brunswickforest.com
SUMMARY:Mexican Train
DESCRIPTION:The Community Commons \nTuesdays \n@1:30pm \n  \nContact Marcia Belford: Mbel0254@comcast.net
URL:https://brunswickforest.com/events/mexican-train-4/2024-09-10/
LOCATION:Community Commons
CATEGORIES:Resident Activities
ATTACH;FMTTYPE=image/png:https://brunswickforest.com/wpc/uploads/2022/06/mexican-train.png
ORGANIZER;CN="Marcia Belford":MAILTO:Mbel0254@comcast.net
END:VEVENT
BEGIN:VEVENT
DTSTART;TZID=America/New_York:20240903T133000
DTEND;TZID=America/New_York:20240903T143000
DTSTAMP:20260420T024724
CREATED:20231012T132244Z
LAST-MODIFIED:20231012T132244Z
UID:10009359-1725370200-1725373800@brunswickforest.com
SUMMARY:Mexican Train
DESCRIPTION:The Community Commons \nTuesdays \n@1:30pm \n  \nContact Marcia Belford: Mbel0254@comcast.net
URL:https://brunswickforest.com/events/mexican-train-4/2024-09-03/
LOCATION:Community Commons
CATEGORIES:Resident Activities
ATTACH;FMTTYPE=image/png:https://brunswickforest.com/wpc/uploads/2022/06/mexican-train.png
ORGANIZER;CN="Marcia Belford":MAILTO:Mbel0254@comcast.net
END:VEVENT
BEGIN:VEVENT
DTSTART;TZID=America/New_York:20240827T133000
DTEND;TZID=America/New_York:20240827T143000
DTSTAMP:20260420T024724
CREATED:20231012T132244Z
LAST-MODIFIED:20231012T132244Z
UID:10009358-1724765400-1724769000@brunswickforest.com
SUMMARY:Mexican Train
DESCRIPTION:The Community Commons \nTuesdays \n@1:30pm \n  \nContact Marcia Belford: Mbel0254@comcast.net
URL:https://brunswickforest.com/events/mexican-train-4/2024-08-27/
LOCATION:Community Commons
CATEGORIES:Resident Activities
ATTACH;FMTTYPE=image/png:https://brunswickforest.com/wpc/uploads/2022/06/mexican-train.png
ORGANIZER;CN="Marcia Belford":MAILTO:Mbel0254@comcast.net
END:VEVENT
BEGIN:VEVENT
DTSTART;TZID=America/New_York:20240820T133000
DTEND;TZID=America/New_York:20240820T143000
DTSTAMP:20260420T024724
CREATED:20231012T132244Z
LAST-MODIFIED:20231012T132244Z
UID:10009357-1724160600-1724164200@brunswickforest.com
SUMMARY:Mexican Train
DESCRIPTION:The Community Commons \nTuesdays \n@1:30pm \n  \nContact Marcia Belford: Mbel0254@comcast.net
URL:https://brunswickforest.com/events/mexican-train-4/2024-08-20/
LOCATION:Community Commons
CATEGORIES:Resident Activities
ATTACH;FMTTYPE=image/png:https://brunswickforest.com/wpc/uploads/2022/06/mexican-train.png
ORGANIZER;CN="Marcia Belford":MAILTO:Mbel0254@comcast.net
END:VEVENT
BEGIN:VEVENT
DTSTART;TZID=America/New_York:20240813T133000
DTEND;TZID=America/New_York:20240813T143000
DTSTAMP:20260420T024724
CREATED:20231012T132244Z
LAST-MODIFIED:20231012T132244Z
UID:10009356-1723555800-1723559400@brunswickforest.com
SUMMARY:Mexican Train
DESCRIPTION:The Community Commons \nTuesdays \n@1:30pm \n  \nContact Marcia Belford: Mbel0254@comcast.net
URL:https://brunswickforest.com/events/mexican-train-4/2024-08-13/
LOCATION:Community Commons
CATEGORIES:Resident Activities
ATTACH;FMTTYPE=image/png:https://brunswickforest.com/wpc/uploads/2022/06/mexican-train.png
ORGANIZER;CN="Marcia Belford":MAILTO:Mbel0254@comcast.net
END:VEVENT
BEGIN:VEVENT
DTSTART;TZID=America/New_York:20240806T133000
DTEND;TZID=America/New_York:20240806T143000
DTSTAMP:20260420T024724
CREATED:20231012T132244Z
LAST-MODIFIED:20231012T132244Z
UID:10009355-1722951000-1722954600@brunswickforest.com
SUMMARY:Mexican Train
DESCRIPTION:The Community Commons \nTuesdays \n@1:30pm \n  \nContact Marcia Belford: Mbel0254@comcast.net
URL:https://brunswickforest.com/events/mexican-train-4/2024-08-06/
LOCATION:Community Commons
CATEGORIES:Resident Activities
ATTACH;FMTTYPE=image/png:https://brunswickforest.com/wpc/uploads/2022/06/mexican-train.png
ORGANIZER;CN="Marcia Belford":MAILTO:Mbel0254@comcast.net
END:VEVENT
BEGIN:VEVENT
DTSTART;TZID=America/New_York:20240730T133000
DTEND;TZID=America/New_York:20240730T143000
DTSTAMP:20260420T024724
CREATED:20231012T132244Z
LAST-MODIFIED:20231012T132244Z
UID:10009354-1722346200-1722349800@brunswickforest.com
SUMMARY:Mexican Train
DESCRIPTION:The Community Commons \nTuesdays \n@1:30pm \n  \nContact Marcia Belford: Mbel0254@comcast.net
URL:https://brunswickforest.com/events/mexican-train-4/2024-07-30/
LOCATION:Community Commons
CATEGORIES:Resident Activities
ATTACH;FMTTYPE=image/png:https://brunswickforest.com/wpc/uploads/2022/06/mexican-train.png
ORGANIZER;CN="Marcia Belford":MAILTO:Mbel0254@comcast.net
END:VEVENT
BEGIN:VEVENT
DTSTART;TZID=America/New_York:20240723T133000
DTEND;TZID=America/New_York:20240723T143000
DTSTAMP:20260420T024724
CREATED:20231012T132244Z
LAST-MODIFIED:20231012T132244Z
UID:10009353-1721741400-1721745000@brunswickforest.com
SUMMARY:Mexican Train
DESCRIPTION:The Community Commons \nTuesdays \n@1:30pm \n  \nContact Marcia Belford: Mbel0254@comcast.net
URL:https://brunswickforest.com/events/mexican-train-4/2024-07-23/
LOCATION:Community Commons
CATEGORIES:Resident Activities
ATTACH;FMTTYPE=image/png:https://brunswickforest.com/wpc/uploads/2022/06/mexican-train.png
ORGANIZER;CN="Marcia Belford":MAILTO:Mbel0254@comcast.net
END:VEVENT
BEGIN:VEVENT
DTSTART;TZID=America/New_York:20240716T133000
DTEND;TZID=America/New_York:20240716T143000
DTSTAMP:20260420T024724
CREATED:20231012T132244Z
LAST-MODIFIED:20231012T132244Z
UID:10009352-1721136600-1721140200@brunswickforest.com
SUMMARY:Mexican Train
DESCRIPTION:The Community Commons \nTuesdays \n@1:30pm \n  \nContact Marcia Belford: Mbel0254@comcast.net
URL:https://brunswickforest.com/events/mexican-train-4/2024-07-16/
LOCATION:Community Commons
CATEGORIES:Resident Activities
ATTACH;FMTTYPE=image/png:https://brunswickforest.com/wpc/uploads/2022/06/mexican-train.png
ORGANIZER;CN="Marcia Belford":MAILTO:Mbel0254@comcast.net
END:VEVENT
BEGIN:VEVENT
DTSTART;TZID=America/New_York:20240709T133000
DTEND;TZID=America/New_York:20240709T143000
DTSTAMP:20260420T024724
CREATED:20231012T132244Z
LAST-MODIFIED:20231012T132244Z
UID:10009351-1720531800-1720535400@brunswickforest.com
SUMMARY:Mexican Train
DESCRIPTION:The Community Commons \nTuesdays \n@1:30pm \n  \nContact Marcia Belford: Mbel0254@comcast.net
URL:https://brunswickforest.com/events/mexican-train-4/2024-07-09/
LOCATION:Community Commons
CATEGORIES:Resident Activities
ATTACH;FMTTYPE=image/png:https://brunswickforest.com/wpc/uploads/2022/06/mexican-train.png
ORGANIZER;CN="Marcia Belford":MAILTO:Mbel0254@comcast.net
END:VEVENT
BEGIN:VEVENT
DTSTART;TZID=America/New_York:20240702T133000
DTEND;TZID=America/New_York:20240702T143000
DTSTAMP:20260420T024724
CREATED:20231012T132244Z
LAST-MODIFIED:20231012T132244Z
UID:10009350-1719927000-1719930600@brunswickforest.com
SUMMARY:Mexican Train
DESCRIPTION:The Community Commons \nTuesdays \n@1:30pm \n  \nContact Marcia Belford: Mbel0254@comcast.net
URL:https://brunswickforest.com/events/mexican-train-4/2024-07-02/
LOCATION:Community Commons
CATEGORIES:Resident Activities
ATTACH;FMTTYPE=image/png:https://brunswickforest.com/wpc/uploads/2022/06/mexican-train.png
ORGANIZER;CN="Marcia Belford":MAILTO:Mbel0254@comcast.net
END:VEVENT
BEGIN:VEVENT
DTSTART;TZID=America/New_York:20240625T133000
DTEND;TZID=America/New_York:20240625T143000
DTSTAMP:20260420T024724
CREATED:20231012T132244Z
LAST-MODIFIED:20231012T132244Z
UID:10009349-1719322200-1719325800@brunswickforest.com
SUMMARY:Mexican Train
DESCRIPTION:The Community Commons \nTuesdays \n@1:30pm \n  \nContact Marcia Belford: Mbel0254@comcast.net
URL:https://brunswickforest.com/events/mexican-train-4/2024-06-25/
LOCATION:Community Commons
CATEGORIES:Resident Activities
ATTACH;FMTTYPE=image/png:https://brunswickforest.com/wpc/uploads/2022/06/mexican-train.png
ORGANIZER;CN="Marcia Belford":MAILTO:Mbel0254@comcast.net
END:VEVENT
BEGIN:VEVENT
DTSTART;TZID=America/New_York:20240618T133000
DTEND;TZID=America/New_York:20240618T143000
DTSTAMP:20260420T024724
CREATED:20231012T132244Z
LAST-MODIFIED:20231012T132244Z
UID:10009348-1718717400-1718721000@brunswickforest.com
SUMMARY:Mexican Train
DESCRIPTION:The Community Commons \nTuesdays \n@1:30pm \n  \nContact Marcia Belford: Mbel0254@comcast.net
URL:https://brunswickforest.com/events/mexican-train-4/2024-06-18/
LOCATION:Community Commons
CATEGORIES:Resident Activities
ATTACH;FMTTYPE=image/png:https://brunswickforest.com/wpc/uploads/2022/06/mexican-train.png
ORGANIZER;CN="Marcia Belford":MAILTO:Mbel0254@comcast.net
END:VEVENT
BEGIN:VEVENT
DTSTART;TZID=America/New_York:20240611T133000
DTEND;TZID=America/New_York:20240611T143000
DTSTAMP:20260420T024724
CREATED:20231012T132244Z
LAST-MODIFIED:20231012T132244Z
UID:10009347-1718112600-1718116200@brunswickforest.com
SUMMARY:Mexican Train
DESCRIPTION:The Community Commons \nTuesdays \n@1:30pm \n  \nContact Marcia Belford: Mbel0254@comcast.net
URL:https://brunswickforest.com/events/mexican-train-4/2024-06-11/
LOCATION:Community Commons
CATEGORIES:Resident Activities
ATTACH;FMTTYPE=image/png:https://brunswickforest.com/wpc/uploads/2022/06/mexican-train.png
ORGANIZER;CN="Marcia Belford":MAILTO:Mbel0254@comcast.net
END:VEVENT
BEGIN:VEVENT
DTSTART;TZID=America/New_York:20240604T133000
DTEND;TZID=America/New_York:20240604T143000
DTSTAMP:20260420T024724
CREATED:20231012T132244Z
LAST-MODIFIED:20231012T132244Z
UID:10009346-1717507800-1717511400@brunswickforest.com
SUMMARY:Mexican Train
DESCRIPTION:The Community Commons \nTuesdays \n@1:30pm \n  \nContact Marcia Belford: Mbel0254@comcast.net
URL:https://brunswickforest.com/events/mexican-train-4/2024-06-04/
LOCATION:Community Commons
CATEGORIES:Resident Activities
ATTACH;FMTTYPE=image/png:https://brunswickforest.com/wpc/uploads/2022/06/mexican-train.png
ORGANIZER;CN="Marcia Belford":MAILTO:Mbel0254@comcast.net
END:VEVENT
BEGIN:VEVENT
DTSTART;TZID=America/New_York:20240528T133000
DTEND;TZID=America/New_York:20240528T143000
DTSTAMP:20260420T024724
CREATED:20231012T132244Z
LAST-MODIFIED:20231012T132244Z
UID:10009345-1716903000-1716906600@brunswickforest.com
SUMMARY:Mexican Train
DESCRIPTION:The Community Commons \nTuesdays \n@1:30pm \n  \nContact Marcia Belford: Mbel0254@comcast.net
URL:https://brunswickforest.com/events/mexican-train-4/2024-05-28/
LOCATION:Community Commons
CATEGORIES:Resident Activities
ATTACH;FMTTYPE=image/png:https://brunswickforest.com/wpc/uploads/2022/06/mexican-train.png
ORGANIZER;CN="Marcia Belford":MAILTO:Mbel0254@comcast.net
END:VEVENT
BEGIN:VEVENT
DTSTART;TZID=America/New_York:20240521T133000
DTEND;TZID=America/New_York:20240521T143000
DTSTAMP:20260420T024724
CREATED:20231012T132244Z
LAST-MODIFIED:20231012T132244Z
UID:10009344-1716298200-1716301800@brunswickforest.com
SUMMARY:Mexican Train
DESCRIPTION:The Community Commons \nTuesdays \n@1:30pm \n  \nContact Marcia Belford: Mbel0254@comcast.net
URL:https://brunswickforest.com/events/mexican-train-4/2024-05-21/
LOCATION:Community Commons
CATEGORIES:Resident Activities
ATTACH;FMTTYPE=image/png:https://brunswickforest.com/wpc/uploads/2022/06/mexican-train.png
ORGANIZER;CN="Marcia Belford":MAILTO:Mbel0254@comcast.net
END:VEVENT
BEGIN:VEVENT
DTSTART;TZID=America/New_York:20240514T133000
DTEND;TZID=America/New_York:20240514T143000
DTSTAMP:20260420T024724
CREATED:20231012T132244Z
LAST-MODIFIED:20231012T132244Z
UID:10009343-1715693400-1715697000@brunswickforest.com
SUMMARY:Mexican Train
DESCRIPTION:The Community Commons \nTuesdays \n@1:30pm \n  \nContact Marcia Belford: Mbel0254@comcast.net
URL:https://brunswickforest.com/events/mexican-train-4/2024-05-14/
LOCATION:Community Commons
CATEGORIES:Resident Activities
ATTACH;FMTTYPE=image/png:https://brunswickforest.com/wpc/uploads/2022/06/mexican-train.png
ORGANIZER;CN="Marcia Belford":MAILTO:Mbel0254@comcast.net
END:VEVENT
BEGIN:VEVENT
DTSTART;TZID=America/New_York:20240507T133000
DTEND;TZID=America/New_York:20240507T143000
DTSTAMP:20260420T024724
CREATED:20231012T132244Z
LAST-MODIFIED:20231012T132244Z
UID:10009342-1715088600-1715092200@brunswickforest.com
SUMMARY:Mexican Train
DESCRIPTION:The Community Commons \nTuesdays \n@1:30pm \n  \nContact Marcia Belford: Mbel0254@comcast.net
URL:https://brunswickforest.com/events/mexican-train-4/2024-05-07/
LOCATION:Community Commons
CATEGORIES:Resident Activities
ATTACH;FMTTYPE=image/png:https://brunswickforest.com/wpc/uploads/2022/06/mexican-train.png
ORGANIZER;CN="Marcia Belford":MAILTO:Mbel0254@comcast.net
END:VEVENT
BEGIN:VEVENT
DTSTART;TZID=America/New_York:20240430T133000
DTEND;TZID=America/New_York:20240430T143000
DTSTAMP:20260420T024724
CREATED:20231012T132244Z
LAST-MODIFIED:20231012T132244Z
UID:10009341-1714483800-1714487400@brunswickforest.com
SUMMARY:Mexican Train
DESCRIPTION:The Community Commons \nTuesdays \n@1:30pm \n  \nContact Marcia Belford: Mbel0254@comcast.net
URL:https://brunswickforest.com/events/mexican-train-4/2024-04-30/
LOCATION:Community Commons
CATEGORIES:Resident Activities
ATTACH;FMTTYPE=image/png:https://brunswickforest.com/wpc/uploads/2022/06/mexican-train.png
ORGANIZER;CN="Marcia Belford":MAILTO:Mbel0254@comcast.net
END:VEVENT
BEGIN:VEVENT
DTSTART;TZID=America/New_York:20240423T133000
DTEND;TZID=America/New_York:20240423T143000
DTSTAMP:20260420T024724
CREATED:20231012T132244Z
LAST-MODIFIED:20231012T132244Z
UID:10009340-1713879000-1713882600@brunswickforest.com
SUMMARY:Mexican Train
DESCRIPTION:The Community Commons \nTuesdays \n@1:30pm \n  \nContact Marcia Belford: Mbel0254@comcast.net
URL:https://brunswickforest.com/events/mexican-train-4/2024-04-23/
LOCATION:Community Commons
CATEGORIES:Resident Activities
ATTACH;FMTTYPE=image/png:https://brunswickforest.com/wpc/uploads/2022/06/mexican-train.png
ORGANIZER;CN="Marcia Belford":MAILTO:Mbel0254@comcast.net
END:VEVENT
BEGIN:VEVENT
DTSTART;TZID=America/New_York:20240416T133000
DTEND;TZID=America/New_York:20240416T143000
DTSTAMP:20260420T024724
CREATED:20231012T132244Z
LAST-MODIFIED:20231012T132244Z
UID:10009339-1713274200-1713277800@brunswickforest.com
SUMMARY:Mexican Train
DESCRIPTION:The Community Commons \nTuesdays \n@1:30pm \n  \nContact Marcia Belford: Mbel0254@comcast.net
URL:https://brunswickforest.com/events/mexican-train-4/2024-04-16/
LOCATION:Community Commons
CATEGORIES:Resident Activities
ATTACH;FMTTYPE=image/png:https://brunswickforest.com/wpc/uploads/2022/06/mexican-train.png
ORGANIZER;CN="Marcia Belford":MAILTO:Mbel0254@comcast.net
END:VEVENT
BEGIN:VEVENT
DTSTART;TZID=America/New_York:20240409T133000
DTEND;TZID=America/New_York:20240409T143000
DTSTAMP:20260420T024724
CREATED:20231012T132244Z
LAST-MODIFIED:20231012T132244Z
UID:10009338-1712669400-1712673000@brunswickforest.com
SUMMARY:Mexican Train
DESCRIPTION:The Community Commons \nTuesdays \n@1:30pm \n  \nContact Marcia Belford: Mbel0254@comcast.net
URL:https://brunswickforest.com/events/mexican-train-4/2024-04-09/
LOCATION:Community Commons
CATEGORIES:Resident Activities
ATTACH;FMTTYPE=image/png:https://brunswickforest.com/wpc/uploads/2022/06/mexican-train.png
ORGANIZER;CN="Marcia Belford":MAILTO:Mbel0254@comcast.net
END:VEVENT
BEGIN:VEVENT
DTSTART;TZID=America/New_York:20240402T133000
DTEND;TZID=America/New_York:20240402T143000
DTSTAMP:20260420T024724
CREATED:20231012T132244Z
LAST-MODIFIED:20231012T132244Z
UID:10009337-1712064600-1712068200@brunswickforest.com
SUMMARY:Mexican Train
DESCRIPTION:The Community Commons \nTuesdays \n@1:30pm \n  \nContact Marcia Belford: Mbel0254@comcast.net
URL:https://brunswickforest.com/events/mexican-train-4/2024-04-02/
LOCATION:Community Commons
CATEGORIES:Resident Activities
ATTACH;FMTTYPE=image/png:https://brunswickforest.com/wpc/uploads/2022/06/mexican-train.png
ORGANIZER;CN="Marcia Belford":MAILTO:Mbel0254@comcast.net
END:VEVENT
BEGIN:VEVENT
DTSTART;TZID=America/New_York:20240326T133000
DTEND;TZID=America/New_York:20240326T143000
DTSTAMP:20260420T024724
CREATED:20231012T132244Z
LAST-MODIFIED:20231012T132244Z
UID:10009336-1711459800-1711463400@brunswickforest.com
SUMMARY:Mexican Train
DESCRIPTION:The Community Commons \nTuesdays \n@1:30pm \n  \nContact Marcia Belford: Mbel0254@comcast.net
URL:https://brunswickforest.com/events/mexican-train-4/2024-03-26/
LOCATION:Community Commons
CATEGORIES:Resident Activities
ATTACH;FMTTYPE=image/png:https://brunswickforest.com/wpc/uploads/2022/06/mexican-train.png
ORGANIZER;CN="Marcia Belford":MAILTO:Mbel0254@comcast.net
END:VEVENT
BEGIN:VEVENT
DTSTART;TZID=America/New_York:20240319T133000
DTEND;TZID=America/New_York:20240319T143000
DTSTAMP:20260420T024724
CREATED:20231012T132244Z
LAST-MODIFIED:20231012T132244Z
UID:10009335-1710855000-1710858600@brunswickforest.com
SUMMARY:Mexican Train
DESCRIPTION:The Community Commons \nTuesdays \n@1:30pm \n  \nContact Marcia Belford: Mbel0254@comcast.net
URL:https://brunswickforest.com/events/mexican-train-4/2024-03-19/
LOCATION:Community Commons
CATEGORIES:Resident Activities
ATTACH;FMTTYPE=image/png:https://brunswickforest.com/wpc/uploads/2022/06/mexican-train.png
ORGANIZER;CN="Marcia Belford":MAILTO:Mbel0254@comcast.net
END:VEVENT
BEGIN:VEVENT
DTSTART;TZID=America/New_York:20240312T133000
DTEND;TZID=America/New_York:20240312T143000
DTSTAMP:20260420T024724
CREATED:20231012T132244Z
LAST-MODIFIED:20231012T132244Z
UID:10009334-1710250200-1710253800@brunswickforest.com
SUMMARY:Mexican Train
DESCRIPTION:The Community Commons \nTuesdays \n@1:30pm \n  \nContact Marcia Belford: Mbel0254@comcast.net
URL:https://brunswickforest.com/events/mexican-train-4/2024-03-12/
LOCATION:Community Commons
CATEGORIES:Resident Activities
ATTACH;FMTTYPE=image/png:https://brunswickforest.com/wpc/uploads/2022/06/mexican-train.png
ORGANIZER;CN="Marcia Belford":MAILTO:Mbel0254@comcast.net
END:VEVENT
END:VCALENDAR