BEGIN:VCALENDAR
VERSION:2.0
PRODID:-//Brunswick Forest - ECPv6.15.20//NONSGML v1.0//EN
CALSCALE:GREGORIAN
METHOD:PUBLISH
X-WR-CALNAME:Brunswick Forest
X-ORIGINAL-URL:https://brunswickforest.com
X-WR-CALDESC:Events for Brunswick Forest
REFRESH-INTERVAL;VALUE=DURATION:PT1H
X-Robots-Tag:noindex
X-PUBLISHED-TTL:PT1H
BEGIN:VTIMEZONE
TZID:America/New_York
BEGIN:DAYLIGHT
TZOFFSETFROM:-0500
TZOFFSETTO:-0400
TZNAME:EDT
DTSTART:20260308T070000
END:DAYLIGHT
BEGIN:STANDARD
TZOFFSETFROM:-0400
TZOFFSETTO:-0500
TZNAME:EST
DTSTART:20261101T060000
END:STANDARD
BEGIN:DAYLIGHT
TZOFFSETFROM:-0500
TZOFFSETTO:-0400
TZNAME:EDT
DTSTART:20270314T070000
END:DAYLIGHT
BEGIN:STANDARD
TZOFFSETFROM:-0400
TZOFFSETTO:-0500
TZNAME:EST
DTSTART:20271107T060000
END:STANDARD
BEGIN:DAYLIGHT
TZOFFSETFROM:-0500
TZOFFSETTO:-0400
TZNAME:EDT
DTSTART:20280312T070000
END:DAYLIGHT
BEGIN:STANDARD
TZOFFSETFROM:-0400
TZOFFSETTO:-0500
TZNAME:EST
DTSTART:20281105T060000
END:STANDARD
BEGIN:DAYLIGHT
TZOFFSETFROM:-0500
TZOFFSETTO:-0400
TZNAME:EDT
DTSTART:20290311T070000
END:DAYLIGHT
BEGIN:STANDARD
TZOFFSETFROM:-0400
TZOFFSETTO:-0500
TZNAME:EST
DTSTART:20291104T060000
END:STANDARD
END:VTIMEZONE
BEGIN:VEVENT
DTSTART;TZID=America/New_York:20270615T133000
DTEND;TZID=America/New_York:20270615T143000
DTSTAMP:20260419T123728
CREATED:20231012T132244Z
LAST-MODIFIED:20231012T132244Z
UID:10009504-1813066200-1813069800@brunswickforest.com
SUMMARY:Mexican Train
DESCRIPTION:The Community Commons \nTuesdays \n@1:30pm \n  \nContact Marcia Belford: Mbel0254@comcast.net
URL:https://brunswickforest.com/events/mexican-train-4/2027-06-15/
LOCATION:Community Commons
CATEGORIES:Resident Activities
ATTACH;FMTTYPE=image/png:https://brunswickforest.com/wpc/uploads/2022/06/mexican-train.png
ORGANIZER;CN="Marcia Belford":MAILTO:Mbel0254@comcast.net
END:VEVENT
BEGIN:VEVENT
DTSTART;TZID=America/New_York:20270622T133000
DTEND;TZID=America/New_York:20270622T143000
DTSTAMP:20260419T123728
CREATED:20231012T132244Z
LAST-MODIFIED:20231012T132244Z
UID:10009505-1813671000-1813674600@brunswickforest.com
SUMMARY:Mexican Train
DESCRIPTION:The Community Commons \nTuesdays \n@1:30pm \n  \nContact Marcia Belford: Mbel0254@comcast.net
URL:https://brunswickforest.com/events/mexican-train-4/2027-06-22/
LOCATION:Community Commons
CATEGORIES:Resident Activities
ATTACH;FMTTYPE=image/png:https://brunswickforest.com/wpc/uploads/2022/06/mexican-train.png
ORGANIZER;CN="Marcia Belford":MAILTO:Mbel0254@comcast.net
END:VEVENT
BEGIN:VEVENT
DTSTART;TZID=America/New_York:20270629T133000
DTEND;TZID=America/New_York:20270629T143000
DTSTAMP:20260419T123728
CREATED:20231012T132244Z
LAST-MODIFIED:20231012T132244Z
UID:10009506-1814275800-1814279400@brunswickforest.com
SUMMARY:Mexican Train
DESCRIPTION:The Community Commons \nTuesdays \n@1:30pm \n  \nContact Marcia Belford: Mbel0254@comcast.net
URL:https://brunswickforest.com/events/mexican-train-4/2027-06-29/
LOCATION:Community Commons
CATEGORIES:Resident Activities
ATTACH;FMTTYPE=image/png:https://brunswickforest.com/wpc/uploads/2022/06/mexican-train.png
ORGANIZER;CN="Marcia Belford":MAILTO:Mbel0254@comcast.net
END:VEVENT
BEGIN:VEVENT
DTSTART;TZID=America/New_York:20270706T133000
DTEND;TZID=America/New_York:20270706T143000
DTSTAMP:20260419T123728
CREATED:20231012T132244Z
LAST-MODIFIED:20231012T132244Z
UID:10009507-1814880600-1814884200@brunswickforest.com
SUMMARY:Mexican Train
DESCRIPTION:The Community Commons \nTuesdays \n@1:30pm \n  \nContact Marcia Belford: Mbel0254@comcast.net
URL:https://brunswickforest.com/events/mexican-train-4/2027-07-06/
LOCATION:Community Commons
CATEGORIES:Resident Activities
ATTACH;FMTTYPE=image/png:https://brunswickforest.com/wpc/uploads/2022/06/mexican-train.png
ORGANIZER;CN="Marcia Belford":MAILTO:Mbel0254@comcast.net
END:VEVENT
BEGIN:VEVENT
DTSTART;TZID=America/New_York:20270713T133000
DTEND;TZID=America/New_York:20270713T143000
DTSTAMP:20260419T123728
CREATED:20231012T132244Z
LAST-MODIFIED:20231012T132244Z
UID:10009508-1815485400-1815489000@brunswickforest.com
SUMMARY:Mexican Train
DESCRIPTION:The Community Commons \nTuesdays \n@1:30pm \n  \nContact Marcia Belford: Mbel0254@comcast.net
URL:https://brunswickforest.com/events/mexican-train-4/2027-07-13/
LOCATION:Community Commons
CATEGORIES:Resident Activities
ATTACH;FMTTYPE=image/png:https://brunswickforest.com/wpc/uploads/2022/06/mexican-train.png
ORGANIZER;CN="Marcia Belford":MAILTO:Mbel0254@comcast.net
END:VEVENT
BEGIN:VEVENT
DTSTART;TZID=America/New_York:20270720T133000
DTEND;TZID=America/New_York:20270720T143000
DTSTAMP:20260419T123728
CREATED:20231012T132244Z
LAST-MODIFIED:20231012T132244Z
UID:10009509-1816090200-1816093800@brunswickforest.com
SUMMARY:Mexican Train
DESCRIPTION:The Community Commons \nTuesdays \n@1:30pm \n  \nContact Marcia Belford: Mbel0254@comcast.net
URL:https://brunswickforest.com/events/mexican-train-4/2027-07-20/
LOCATION:Community Commons
CATEGORIES:Resident Activities
ATTACH;FMTTYPE=image/png:https://brunswickforest.com/wpc/uploads/2022/06/mexican-train.png
ORGANIZER;CN="Marcia Belford":MAILTO:Mbel0254@comcast.net
END:VEVENT
BEGIN:VEVENT
DTSTART;TZID=America/New_York:20270727T133000
DTEND;TZID=America/New_York:20270727T143000
DTSTAMP:20260419T123728
CREATED:20231012T132244Z
LAST-MODIFIED:20231012T132244Z
UID:10009510-1816695000-1816698600@brunswickforest.com
SUMMARY:Mexican Train
DESCRIPTION:The Community Commons \nTuesdays \n@1:30pm \n  \nContact Marcia Belford: Mbel0254@comcast.net
URL:https://brunswickforest.com/events/mexican-train-4/2027-07-27/
LOCATION:Community Commons
CATEGORIES:Resident Activities
ATTACH;FMTTYPE=image/png:https://brunswickforest.com/wpc/uploads/2022/06/mexican-train.png
ORGANIZER;CN="Marcia Belford":MAILTO:Mbel0254@comcast.net
END:VEVENT
BEGIN:VEVENT
DTSTART;TZID=America/New_York:20270803T133000
DTEND;TZID=America/New_York:20270803T143000
DTSTAMP:20260419T123728
CREATED:20231012T132244Z
LAST-MODIFIED:20231012T132244Z
UID:10009511-1817299800-1817303400@brunswickforest.com
SUMMARY:Mexican Train
DESCRIPTION:The Community Commons \nTuesdays \n@1:30pm \n  \nContact Marcia Belford: Mbel0254@comcast.net
URL:https://brunswickforest.com/events/mexican-train-4/2027-08-03/
LOCATION:Community Commons
CATEGORIES:Resident Activities
ATTACH;FMTTYPE=image/png:https://brunswickforest.com/wpc/uploads/2022/06/mexican-train.png
ORGANIZER;CN="Marcia Belford":MAILTO:Mbel0254@comcast.net
END:VEVENT
BEGIN:VEVENT
DTSTART;TZID=America/New_York:20270810T133000
DTEND;TZID=America/New_York:20270810T143000
DTSTAMP:20260419T123728
CREATED:20231012T132244Z
LAST-MODIFIED:20231012T132244Z
UID:10009512-1817904600-1817908200@brunswickforest.com
SUMMARY:Mexican Train
DESCRIPTION:The Community Commons \nTuesdays \n@1:30pm \n  \nContact Marcia Belford: Mbel0254@comcast.net
URL:https://brunswickforest.com/events/mexican-train-4/2027-08-10/
LOCATION:Community Commons
CATEGORIES:Resident Activities
ATTACH;FMTTYPE=image/png:https://brunswickforest.com/wpc/uploads/2022/06/mexican-train.png
ORGANIZER;CN="Marcia Belford":MAILTO:Mbel0254@comcast.net
END:VEVENT
BEGIN:VEVENT
DTSTART;TZID=America/New_York:20270817T133000
DTEND;TZID=America/New_York:20270817T143000
DTSTAMP:20260419T123728
CREATED:20231012T132244Z
LAST-MODIFIED:20231012T132244Z
UID:10009513-1818509400-1818513000@brunswickforest.com
SUMMARY:Mexican Train
DESCRIPTION:The Community Commons \nTuesdays \n@1:30pm \n  \nContact Marcia Belford: Mbel0254@comcast.net
URL:https://brunswickforest.com/events/mexican-train-4/2027-08-17/
LOCATION:Community Commons
CATEGORIES:Resident Activities
ATTACH;FMTTYPE=image/png:https://brunswickforest.com/wpc/uploads/2022/06/mexican-train.png
ORGANIZER;CN="Marcia Belford":MAILTO:Mbel0254@comcast.net
END:VEVENT
BEGIN:VEVENT
DTSTART;TZID=America/New_York:20270824T133000
DTEND;TZID=America/New_York:20270824T143000
DTSTAMP:20260419T123728
CREATED:20231012T132244Z
LAST-MODIFIED:20231012T132244Z
UID:10009514-1819114200-1819117800@brunswickforest.com
SUMMARY:Mexican Train
DESCRIPTION:The Community Commons \nTuesdays \n@1:30pm \n  \nContact Marcia Belford: Mbel0254@comcast.net
URL:https://brunswickforest.com/events/mexican-train-4/2027-08-24/
LOCATION:Community Commons
CATEGORIES:Resident Activities
ATTACH;FMTTYPE=image/png:https://brunswickforest.com/wpc/uploads/2022/06/mexican-train.png
ORGANIZER;CN="Marcia Belford":MAILTO:Mbel0254@comcast.net
END:VEVENT
BEGIN:VEVENT
DTSTART;TZID=America/New_York:20270831T133000
DTEND;TZID=America/New_York:20270831T143000
DTSTAMP:20260419T123728
CREATED:20231012T132244Z
LAST-MODIFIED:20231012T132244Z
UID:10009515-1819719000-1819722600@brunswickforest.com
SUMMARY:Mexican Train
DESCRIPTION:The Community Commons \nTuesdays \n@1:30pm \n  \nContact Marcia Belford: Mbel0254@comcast.net
URL:https://brunswickforest.com/events/mexican-train-4/2027-08-31/
LOCATION:Community Commons
CATEGORIES:Resident Activities
ATTACH;FMTTYPE=image/png:https://brunswickforest.com/wpc/uploads/2022/06/mexican-train.png
ORGANIZER;CN="Marcia Belford":MAILTO:Mbel0254@comcast.net
END:VEVENT
BEGIN:VEVENT
DTSTART;TZID=America/New_York:20270907T133000
DTEND;TZID=America/New_York:20270907T143000
DTSTAMP:20260419T123728
CREATED:20231012T132244Z
LAST-MODIFIED:20231012T132244Z
UID:10009516-1820323800-1820327400@brunswickforest.com
SUMMARY:Mexican Train
DESCRIPTION:The Community Commons \nTuesdays \n@1:30pm \n  \nContact Marcia Belford: Mbel0254@comcast.net
URL:https://brunswickforest.com/events/mexican-train-4/2027-09-07/
LOCATION:Community Commons
CATEGORIES:Resident Activities
ATTACH;FMTTYPE=image/png:https://brunswickforest.com/wpc/uploads/2022/06/mexican-train.png
ORGANIZER;CN="Marcia Belford":MAILTO:Mbel0254@comcast.net
END:VEVENT
BEGIN:VEVENT
DTSTART;TZID=America/New_York:20270914T133000
DTEND;TZID=America/New_York:20270914T143000
DTSTAMP:20260419T123728
CREATED:20231012T132244Z
LAST-MODIFIED:20231012T132244Z
UID:10009517-1820928600-1820932200@brunswickforest.com
SUMMARY:Mexican Train
DESCRIPTION:The Community Commons \nTuesdays \n@1:30pm \n  \nContact Marcia Belford: Mbel0254@comcast.net
URL:https://brunswickforest.com/events/mexican-train-4/2027-09-14/
LOCATION:Community Commons
CATEGORIES:Resident Activities
ATTACH;FMTTYPE=image/png:https://brunswickforest.com/wpc/uploads/2022/06/mexican-train.png
ORGANIZER;CN="Marcia Belford":MAILTO:Mbel0254@comcast.net
END:VEVENT
BEGIN:VEVENT
DTSTART;TZID=America/New_York:20270921T133000
DTEND;TZID=America/New_York:20270921T143000
DTSTAMP:20260419T123728
CREATED:20231012T132244Z
LAST-MODIFIED:20231012T132244Z
UID:10009518-1821533400-1821537000@brunswickforest.com
SUMMARY:Mexican Train
DESCRIPTION:The Community Commons \nTuesdays \n@1:30pm \n  \nContact Marcia Belford: Mbel0254@comcast.net
URL:https://brunswickforest.com/events/mexican-train-4/2027-09-21/
LOCATION:Community Commons
CATEGORIES:Resident Activities
ATTACH;FMTTYPE=image/png:https://brunswickforest.com/wpc/uploads/2022/06/mexican-train.png
ORGANIZER;CN="Marcia Belford":MAILTO:Mbel0254@comcast.net
END:VEVENT
BEGIN:VEVENT
DTSTART;TZID=America/New_York:20270928T133000
DTEND;TZID=America/New_York:20270928T143000
DTSTAMP:20260419T123728
CREATED:20231012T132244Z
LAST-MODIFIED:20231012T132244Z
UID:10009519-1822138200-1822141800@brunswickforest.com
SUMMARY:Mexican Train
DESCRIPTION:The Community Commons \nTuesdays \n@1:30pm \n  \nContact Marcia Belford: Mbel0254@comcast.net
URL:https://brunswickforest.com/events/mexican-train-4/2027-09-28/
LOCATION:Community Commons
CATEGORIES:Resident Activities
ATTACH;FMTTYPE=image/png:https://brunswickforest.com/wpc/uploads/2022/06/mexican-train.png
ORGANIZER;CN="Marcia Belford":MAILTO:Mbel0254@comcast.net
END:VEVENT
BEGIN:VEVENT
DTSTART;TZID=America/New_York:20271005T133000
DTEND;TZID=America/New_York:20271005T143000
DTSTAMP:20260419T123728
CREATED:20231012T132244Z
LAST-MODIFIED:20231012T132244Z
UID:10009520-1822743000-1822746600@brunswickforest.com
SUMMARY:Mexican Train
DESCRIPTION:The Community Commons \nTuesdays \n@1:30pm \n  \nContact Marcia Belford: Mbel0254@comcast.net
URL:https://brunswickforest.com/events/mexican-train-4/2027-10-05/
LOCATION:Community Commons
CATEGORIES:Resident Activities
ATTACH;FMTTYPE=image/png:https://brunswickforest.com/wpc/uploads/2022/06/mexican-train.png
ORGANIZER;CN="Marcia Belford":MAILTO:Mbel0254@comcast.net
END:VEVENT
BEGIN:VEVENT
DTSTART;TZID=America/New_York:20271012T133000
DTEND;TZID=America/New_York:20271012T143000
DTSTAMP:20260419T123728
CREATED:20231012T132244Z
LAST-MODIFIED:20231012T132244Z
UID:10009521-1823347800-1823351400@brunswickforest.com
SUMMARY:Mexican Train
DESCRIPTION:The Community Commons \nTuesdays \n@1:30pm \n  \nContact Marcia Belford: Mbel0254@comcast.net
URL:https://brunswickforest.com/events/mexican-train-4/2027-10-12/
LOCATION:Community Commons
CATEGORIES:Resident Activities
ATTACH;FMTTYPE=image/png:https://brunswickforest.com/wpc/uploads/2022/06/mexican-train.png
ORGANIZER;CN="Marcia Belford":MAILTO:Mbel0254@comcast.net
END:VEVENT
BEGIN:VEVENT
DTSTART;TZID=America/New_York:20271019T133000
DTEND;TZID=America/New_York:20271019T143000
DTSTAMP:20260419T123728
CREATED:20231012T132244Z
LAST-MODIFIED:20231012T132244Z
UID:10009522-1823952600-1823956200@brunswickforest.com
SUMMARY:Mexican Train
DESCRIPTION:The Community Commons \nTuesdays \n@1:30pm \n  \nContact Marcia Belford: Mbel0254@comcast.net
URL:https://brunswickforest.com/events/mexican-train-4/2027-10-19/
LOCATION:Community Commons
CATEGORIES:Resident Activities
ATTACH;FMTTYPE=image/png:https://brunswickforest.com/wpc/uploads/2022/06/mexican-train.png
ORGANIZER;CN="Marcia Belford":MAILTO:Mbel0254@comcast.net
END:VEVENT
BEGIN:VEVENT
DTSTART;TZID=America/New_York:20271026T133000
DTEND;TZID=America/New_York:20271026T143000
DTSTAMP:20260419T123728
CREATED:20231012T132244Z
LAST-MODIFIED:20231012T132244Z
UID:10009523-1824557400-1824561000@brunswickforest.com
SUMMARY:Mexican Train
DESCRIPTION:The Community Commons \nTuesdays \n@1:30pm \n  \nContact Marcia Belford: Mbel0254@comcast.net
URL:https://brunswickforest.com/events/mexican-train-4/2027-10-26/
LOCATION:Community Commons
CATEGORIES:Resident Activities
ATTACH;FMTTYPE=image/png:https://brunswickforest.com/wpc/uploads/2022/06/mexican-train.png
ORGANIZER;CN="Marcia Belford":MAILTO:Mbel0254@comcast.net
END:VEVENT
BEGIN:VEVENT
DTSTART;TZID=America/New_York:20271102T133000
DTEND;TZID=America/New_York:20271102T143000
DTSTAMP:20260419T123728
CREATED:20231012T132244Z
LAST-MODIFIED:20231012T132244Z
UID:10009524-1825162200-1825165800@brunswickforest.com
SUMMARY:Mexican Train
DESCRIPTION:The Community Commons \nTuesdays \n@1:30pm \n  \nContact Marcia Belford: Mbel0254@comcast.net
URL:https://brunswickforest.com/events/mexican-train-4/2027-11-02/
LOCATION:Community Commons
CATEGORIES:Resident Activities
ATTACH;FMTTYPE=image/png:https://brunswickforest.com/wpc/uploads/2022/06/mexican-train.png
ORGANIZER;CN="Marcia Belford":MAILTO:Mbel0254@comcast.net
END:VEVENT
BEGIN:VEVENT
DTSTART;TZID=America/New_York:20271109T133000
DTEND;TZID=America/New_York:20271109T143000
DTSTAMP:20260419T123728
CREATED:20231012T132244Z
LAST-MODIFIED:20231012T132244Z
UID:10009525-1825767000-1825770600@brunswickforest.com
SUMMARY:Mexican Train
DESCRIPTION:The Community Commons \nTuesdays \n@1:30pm \n  \nContact Marcia Belford: Mbel0254@comcast.net
URL:https://brunswickforest.com/events/mexican-train-4/2027-11-09/
LOCATION:Community Commons
CATEGORIES:Resident Activities
ATTACH;FMTTYPE=image/png:https://brunswickforest.com/wpc/uploads/2022/06/mexican-train.png
ORGANIZER;CN="Marcia Belford":MAILTO:Mbel0254@comcast.net
END:VEVENT
BEGIN:VEVENT
DTSTART;TZID=America/New_York:20271116T133000
DTEND;TZID=America/New_York:20271116T143000
DTSTAMP:20260419T123728
CREATED:20231012T132244Z
LAST-MODIFIED:20231012T132244Z
UID:10009526-1826371800-1826375400@brunswickforest.com
SUMMARY:Mexican Train
DESCRIPTION:The Community Commons \nTuesdays \n@1:30pm \n  \nContact Marcia Belford: Mbel0254@comcast.net
URL:https://brunswickforest.com/events/mexican-train-4/2027-11-16/
LOCATION:Community Commons
CATEGORIES:Resident Activities
ATTACH;FMTTYPE=image/png:https://brunswickforest.com/wpc/uploads/2022/06/mexican-train.png
ORGANIZER;CN="Marcia Belford":MAILTO:Mbel0254@comcast.net
END:VEVENT
BEGIN:VEVENT
DTSTART;TZID=America/New_York:20271123T133000
DTEND;TZID=America/New_York:20271123T143000
DTSTAMP:20260419T123728
CREATED:20231012T132244Z
LAST-MODIFIED:20231012T132244Z
UID:10009527-1826976600-1826980200@brunswickforest.com
SUMMARY:Mexican Train
DESCRIPTION:The Community Commons \nTuesdays \n@1:30pm \n  \nContact Marcia Belford: Mbel0254@comcast.net
URL:https://brunswickforest.com/events/mexican-train-4/2027-11-23/
LOCATION:Community Commons
CATEGORIES:Resident Activities
ATTACH;FMTTYPE=image/png:https://brunswickforest.com/wpc/uploads/2022/06/mexican-train.png
ORGANIZER;CN="Marcia Belford":MAILTO:Mbel0254@comcast.net
END:VEVENT
BEGIN:VEVENT
DTSTART;TZID=America/New_York:20271130T133000
DTEND;TZID=America/New_York:20271130T143000
DTSTAMP:20260419T123728
CREATED:20231012T132244Z
LAST-MODIFIED:20231012T132244Z
UID:10009528-1827581400-1827585000@brunswickforest.com
SUMMARY:Mexican Train
DESCRIPTION:The Community Commons \nTuesdays \n@1:30pm \n  \nContact Marcia Belford: Mbel0254@comcast.net
URL:https://brunswickforest.com/events/mexican-train-4/2027-11-30/
LOCATION:Community Commons
CATEGORIES:Resident Activities
ATTACH;FMTTYPE=image/png:https://brunswickforest.com/wpc/uploads/2022/06/mexican-train.png
ORGANIZER;CN="Marcia Belford":MAILTO:Mbel0254@comcast.net
END:VEVENT
BEGIN:VEVENT
DTSTART;TZID=America/New_York:20271207T133000
DTEND;TZID=America/New_York:20271207T143000
DTSTAMP:20260419T123728
CREATED:20231012T132244Z
LAST-MODIFIED:20231012T132244Z
UID:10009529-1828186200-1828189800@brunswickforest.com
SUMMARY:Mexican Train
DESCRIPTION:The Community Commons \nTuesdays \n@1:30pm \n  \nContact Marcia Belford: Mbel0254@comcast.net
URL:https://brunswickforest.com/events/mexican-train-4/2027-12-07/
LOCATION:Community Commons
CATEGORIES:Resident Activities
ATTACH;FMTTYPE=image/png:https://brunswickforest.com/wpc/uploads/2022/06/mexican-train.png
ORGANIZER;CN="Marcia Belford":MAILTO:Mbel0254@comcast.net
END:VEVENT
BEGIN:VEVENT
DTSTART;TZID=America/New_York:20271214T133000
DTEND;TZID=America/New_York:20271214T143000
DTSTAMP:20260419T123728
CREATED:20231012T132244Z
LAST-MODIFIED:20231012T132244Z
UID:10009530-1828791000-1828794600@brunswickforest.com
SUMMARY:Mexican Train
DESCRIPTION:The Community Commons \nTuesdays \n@1:30pm \n  \nContact Marcia Belford: Mbel0254@comcast.net
URL:https://brunswickforest.com/events/mexican-train-4/2027-12-14/
LOCATION:Community Commons
CATEGORIES:Resident Activities
ATTACH;FMTTYPE=image/png:https://brunswickforest.com/wpc/uploads/2022/06/mexican-train.png
ORGANIZER;CN="Marcia Belford":MAILTO:Mbel0254@comcast.net
END:VEVENT
BEGIN:VEVENT
DTSTART;TZID=America/New_York:20271221T133000
DTEND;TZID=America/New_York:20271221T143000
DTSTAMP:20260419T123728
CREATED:20231012T132244Z
LAST-MODIFIED:20231012T132244Z
UID:10009531-1829395800-1829399400@brunswickforest.com
SUMMARY:Mexican Train
DESCRIPTION:The Community Commons \nTuesdays \n@1:30pm \n  \nContact Marcia Belford: Mbel0254@comcast.net
URL:https://brunswickforest.com/events/mexican-train-4/2027-12-21/
LOCATION:Community Commons
CATEGORIES:Resident Activities
ATTACH;FMTTYPE=image/png:https://brunswickforest.com/wpc/uploads/2022/06/mexican-train.png
ORGANIZER;CN="Marcia Belford":MAILTO:Mbel0254@comcast.net
END:VEVENT
BEGIN:VEVENT
DTSTART;TZID=America/New_York:20271228T133000
DTEND;TZID=America/New_York:20271228T143000
DTSTAMP:20260419T123728
CREATED:20231012T132244Z
LAST-MODIFIED:20231012T132244Z
UID:10009532-1830000600-1830004200@brunswickforest.com
SUMMARY:Mexican Train
DESCRIPTION:The Community Commons \nTuesdays \n@1:30pm \n  \nContact Marcia Belford: Mbel0254@comcast.net
URL:https://brunswickforest.com/events/mexican-train-4/2027-12-28/
LOCATION:Community Commons
CATEGORIES:Resident Activities
ATTACH;FMTTYPE=image/png:https://brunswickforest.com/wpc/uploads/2022/06/mexican-train.png
ORGANIZER;CN="Marcia Belford":MAILTO:Mbel0254@comcast.net
END:VEVENT
BEGIN:VEVENT
DTSTART;TZID=America/New_York:20280104T133000
DTEND;TZID=America/New_York:20280104T143000
DTSTAMP:20260419T123728
CREATED:20231012T132244Z
LAST-MODIFIED:20231012T132244Z
UID:10009533-1830605400-1830609000@brunswickforest.com
SUMMARY:Mexican Train
DESCRIPTION:The Community Commons \nTuesdays \n@1:30pm \n  \nContact Marcia Belford: Mbel0254@comcast.net
URL:https://brunswickforest.com/events/mexican-train-4/2028-01-04/
LOCATION:Community Commons
CATEGORIES:Resident Activities
ATTACH;FMTTYPE=image/png:https://brunswickforest.com/wpc/uploads/2022/06/mexican-train.png
ORGANIZER;CN="Marcia Belford":MAILTO:Mbel0254@comcast.net
END:VEVENT
END:VCALENDAR