BEGIN:VCALENDAR
VERSION:2.0
PRODID:-//Brunswick Forest - ECPv6.15.20//NONSGML v1.0//EN
CALSCALE:GREGORIAN
METHOD:PUBLISH
X-WR-CALNAME:Brunswick Forest
X-ORIGINAL-URL:https://brunswickforest.com
X-WR-CALDESC:Events for Brunswick Forest
REFRESH-INTERVAL;VALUE=DURATION:PT1H
X-Robots-Tag:noindex
X-PUBLISHED-TTL:PT1H
BEGIN:VTIMEZONE
TZID:America/New_York
BEGIN:DAYLIGHT
TZOFFSETFROM:-0500
TZOFFSETTO:-0400
TZNAME:EDT
DTSTART:20230312T070000
END:DAYLIGHT
BEGIN:STANDARD
TZOFFSETFROM:-0400
TZOFFSETTO:-0500
TZNAME:EST
DTSTART:20231105T060000
END:STANDARD
BEGIN:DAYLIGHT
TZOFFSETFROM:-0500
TZOFFSETTO:-0400
TZNAME:EDT
DTSTART:20240310T070000
END:DAYLIGHT
BEGIN:STANDARD
TZOFFSETFROM:-0400
TZOFFSETTO:-0500
TZNAME:EST
DTSTART:20241103T060000
END:STANDARD
BEGIN:DAYLIGHT
TZOFFSETFROM:-0500
TZOFFSETTO:-0400
TZNAME:EDT
DTSTART:20250309T070000
END:DAYLIGHT
BEGIN:STANDARD
TZOFFSETFROM:-0400
TZOFFSETTO:-0500
TZNAME:EST
DTSTART:20251102T060000
END:STANDARD
BEGIN:DAYLIGHT
TZOFFSETFROM:-0500
TZOFFSETTO:-0400
TZNAME:EDT
DTSTART:20260308T070000
END:DAYLIGHT
BEGIN:STANDARD
TZOFFSETFROM:-0400
TZOFFSETTO:-0500
TZNAME:EST
DTSTART:20261101T060000
END:STANDARD
END:VTIMEZONE
BEGIN:VEVENT
DTSTART;TZID=America/New_York:20250325T133000
DTEND;TZID=America/New_York:20250325T143000
DTSTAMP:20260419T174909
CREATED:20231012T132244Z
LAST-MODIFIED:20231012T132244Z
UID:10009388-1742909400-1742913000@brunswickforest.com
SUMMARY:Mexican Train
DESCRIPTION:The Community Commons \nTuesdays \n@1:30pm \n  \nContact Marcia Belford: Mbel0254@comcast.net
URL:https://brunswickforest.com/events/mexican-train-4/2025-03-25/
LOCATION:Community Commons
CATEGORIES:Resident Activities
ATTACH;FMTTYPE=image/png:https://brunswickforest.com/wpc/uploads/2022/06/mexican-train.png
ORGANIZER;CN="Marcia Belford":MAILTO:Mbel0254@comcast.net
END:VEVENT
BEGIN:VEVENT
DTSTART;TZID=America/New_York:20250318T133000
DTEND;TZID=America/New_York:20250318T143000
DTSTAMP:20260419T174909
CREATED:20231012T132244Z
LAST-MODIFIED:20231012T132244Z
UID:10009387-1742304600-1742308200@brunswickforest.com
SUMMARY:Mexican Train
DESCRIPTION:The Community Commons \nTuesdays \n@1:30pm \n  \nContact Marcia Belford: Mbel0254@comcast.net
URL:https://brunswickforest.com/events/mexican-train-4/2025-03-18/
LOCATION:Community Commons
CATEGORIES:Resident Activities
ATTACH;FMTTYPE=image/png:https://brunswickforest.com/wpc/uploads/2022/06/mexican-train.png
ORGANIZER;CN="Marcia Belford":MAILTO:Mbel0254@comcast.net
END:VEVENT
BEGIN:VEVENT
DTSTART;TZID=America/New_York:20250311T133000
DTEND;TZID=America/New_York:20250311T143000
DTSTAMP:20260419T174909
CREATED:20231012T132244Z
LAST-MODIFIED:20231012T132244Z
UID:10009386-1741699800-1741703400@brunswickforest.com
SUMMARY:Mexican Train
DESCRIPTION:The Community Commons \nTuesdays \n@1:30pm \n  \nContact Marcia Belford: Mbel0254@comcast.net
URL:https://brunswickforest.com/events/mexican-train-4/2025-03-11/
LOCATION:Community Commons
CATEGORIES:Resident Activities
ATTACH;FMTTYPE=image/png:https://brunswickforest.com/wpc/uploads/2022/06/mexican-train.png
ORGANIZER;CN="Marcia Belford":MAILTO:Mbel0254@comcast.net
END:VEVENT
BEGIN:VEVENT
DTSTART;TZID=America/New_York:20250304T133000
DTEND;TZID=America/New_York:20250304T143000
DTSTAMP:20260419T174909
CREATED:20231012T132244Z
LAST-MODIFIED:20231012T132244Z
UID:10009385-1741095000-1741098600@brunswickforest.com
SUMMARY:Mexican Train
DESCRIPTION:The Community Commons \nTuesdays \n@1:30pm \n  \nContact Marcia Belford: Mbel0254@comcast.net
URL:https://brunswickforest.com/events/mexican-train-4/2025-03-04/
LOCATION:Community Commons
CATEGORIES:Resident Activities
ATTACH;FMTTYPE=image/png:https://brunswickforest.com/wpc/uploads/2022/06/mexican-train.png
ORGANIZER;CN="Marcia Belford":MAILTO:Mbel0254@comcast.net
END:VEVENT
BEGIN:VEVENT
DTSTART;TZID=America/New_York:20250225T133000
DTEND;TZID=America/New_York:20250225T143000
DTSTAMP:20260419T174909
CREATED:20231012T132244Z
LAST-MODIFIED:20231012T132244Z
UID:10009384-1740490200-1740493800@brunswickforest.com
SUMMARY:Mexican Train
DESCRIPTION:The Community Commons \nTuesdays \n@1:30pm \n  \nContact Marcia Belford: Mbel0254@comcast.net
URL:https://brunswickforest.com/events/mexican-train-4/2025-02-25/
LOCATION:Community Commons
CATEGORIES:Resident Activities
ATTACH;FMTTYPE=image/png:https://brunswickforest.com/wpc/uploads/2022/06/mexican-train.png
ORGANIZER;CN="Marcia Belford":MAILTO:Mbel0254@comcast.net
END:VEVENT
BEGIN:VEVENT
DTSTART;TZID=America/New_York:20250218T133000
DTEND;TZID=America/New_York:20250218T143000
DTSTAMP:20260419T174909
CREATED:20231012T132244Z
LAST-MODIFIED:20231012T132244Z
UID:10009383-1739885400-1739889000@brunswickforest.com
SUMMARY:Mexican Train
DESCRIPTION:The Community Commons \nTuesdays \n@1:30pm \n  \nContact Marcia Belford: Mbel0254@comcast.net
URL:https://brunswickforest.com/events/mexican-train-4/2025-02-18/
LOCATION:Community Commons
CATEGORIES:Resident Activities
ATTACH;FMTTYPE=image/png:https://brunswickforest.com/wpc/uploads/2022/06/mexican-train.png
ORGANIZER;CN="Marcia Belford":MAILTO:Mbel0254@comcast.net
END:VEVENT
BEGIN:VEVENT
DTSTART;TZID=America/New_York:20250211T133000
DTEND;TZID=America/New_York:20250211T143000
DTSTAMP:20260419T174909
CREATED:20231012T132244Z
LAST-MODIFIED:20231012T132244Z
UID:10009382-1739280600-1739284200@brunswickforest.com
SUMMARY:Mexican Train
DESCRIPTION:The Community Commons \nTuesdays \n@1:30pm \n  \nContact Marcia Belford: Mbel0254@comcast.net
URL:https://brunswickforest.com/events/mexican-train-4/2025-02-11/
LOCATION:Community Commons
CATEGORIES:Resident Activities
ATTACH;FMTTYPE=image/png:https://brunswickforest.com/wpc/uploads/2022/06/mexican-train.png
ORGANIZER;CN="Marcia Belford":MAILTO:Mbel0254@comcast.net
END:VEVENT
BEGIN:VEVENT
DTSTART;TZID=America/New_York:20250204T133000
DTEND;TZID=America/New_York:20250204T143000
DTSTAMP:20260419T174909
CREATED:20231012T132244Z
LAST-MODIFIED:20231012T132244Z
UID:10009381-1738675800-1738679400@brunswickforest.com
SUMMARY:Mexican Train
DESCRIPTION:The Community Commons \nTuesdays \n@1:30pm \n  \nContact Marcia Belford: Mbel0254@comcast.net
URL:https://brunswickforest.com/events/mexican-train-4/2025-02-04/
LOCATION:Community Commons
CATEGORIES:Resident Activities
ATTACH;FMTTYPE=image/png:https://brunswickforest.com/wpc/uploads/2022/06/mexican-train.png
ORGANIZER;CN="Marcia Belford":MAILTO:Mbel0254@comcast.net
END:VEVENT
BEGIN:VEVENT
DTSTART;TZID=America/New_York:20250128T133000
DTEND;TZID=America/New_York:20250128T143000
DTSTAMP:20260419T174909
CREATED:20231012T132244Z
LAST-MODIFIED:20231012T132244Z
UID:10009380-1738071000-1738074600@brunswickforest.com
SUMMARY:Mexican Train
DESCRIPTION:The Community Commons \nTuesdays \n@1:30pm \n  \nContact Marcia Belford: Mbel0254@comcast.net
URL:https://brunswickforest.com/events/mexican-train-4/2025-01-28/
LOCATION:Community Commons
CATEGORIES:Resident Activities
ATTACH;FMTTYPE=image/png:https://brunswickforest.com/wpc/uploads/2022/06/mexican-train.png
ORGANIZER;CN="Marcia Belford":MAILTO:Mbel0254@comcast.net
END:VEVENT
BEGIN:VEVENT
DTSTART;TZID=America/New_York:20250121T133000
DTEND;TZID=America/New_York:20250121T143000
DTSTAMP:20260419T174909
CREATED:20231012T132244Z
LAST-MODIFIED:20231012T132244Z
UID:10009379-1737466200-1737469800@brunswickforest.com
SUMMARY:Mexican Train
DESCRIPTION:The Community Commons \nTuesdays \n@1:30pm \n  \nContact Marcia Belford: Mbel0254@comcast.net
URL:https://brunswickforest.com/events/mexican-train-4/2025-01-21/
LOCATION:Community Commons
CATEGORIES:Resident Activities
ATTACH;FMTTYPE=image/png:https://brunswickforest.com/wpc/uploads/2022/06/mexican-train.png
ORGANIZER;CN="Marcia Belford":MAILTO:Mbel0254@comcast.net
END:VEVENT
BEGIN:VEVENT
DTSTART;TZID=America/New_York:20250114T133000
DTEND;TZID=America/New_York:20250114T143000
DTSTAMP:20260419T174909
CREATED:20231012T132244Z
LAST-MODIFIED:20231012T132244Z
UID:10009378-1736861400-1736865000@brunswickforest.com
SUMMARY:Mexican Train
DESCRIPTION:The Community Commons \nTuesdays \n@1:30pm \n  \nContact Marcia Belford: Mbel0254@comcast.net
URL:https://brunswickforest.com/events/mexican-train-4/2025-01-14/
LOCATION:Community Commons
CATEGORIES:Resident Activities
ATTACH;FMTTYPE=image/png:https://brunswickforest.com/wpc/uploads/2022/06/mexican-train.png
ORGANIZER;CN="Marcia Belford":MAILTO:Mbel0254@comcast.net
END:VEVENT
BEGIN:VEVENT
DTSTART;TZID=America/New_York:20250107T133000
DTEND;TZID=America/New_York:20250107T143000
DTSTAMP:20260419T174909
CREATED:20231012T132244Z
LAST-MODIFIED:20231012T132244Z
UID:10009377-1736256600-1736260200@brunswickforest.com
SUMMARY:Mexican Train
DESCRIPTION:The Community Commons \nTuesdays \n@1:30pm \n  \nContact Marcia Belford: Mbel0254@comcast.net
URL:https://brunswickforest.com/events/mexican-train-4/2025-01-07/
LOCATION:Community Commons
CATEGORIES:Resident Activities
ATTACH;FMTTYPE=image/png:https://brunswickforest.com/wpc/uploads/2022/06/mexican-train.png
ORGANIZER;CN="Marcia Belford":MAILTO:Mbel0254@comcast.net
END:VEVENT
BEGIN:VEVENT
DTSTART;TZID=America/New_York:20241231T133000
DTEND;TZID=America/New_York:20241231T143000
DTSTAMP:20260419T174909
CREATED:20231012T132244Z
LAST-MODIFIED:20231012T132244Z
UID:10009376-1735651800-1735655400@brunswickforest.com
SUMMARY:Mexican Train
DESCRIPTION:The Community Commons \nTuesdays \n@1:30pm \n  \nContact Marcia Belford: Mbel0254@comcast.net
URL:https://brunswickforest.com/events/mexican-train-4/2024-12-31/
LOCATION:Community Commons
CATEGORIES:Resident Activities
ATTACH;FMTTYPE=image/png:https://brunswickforest.com/wpc/uploads/2022/06/mexican-train.png
ORGANIZER;CN="Marcia Belford":MAILTO:Mbel0254@comcast.net
END:VEVENT
BEGIN:VEVENT
DTSTART;TZID=America/New_York:20241224T133000
DTEND;TZID=America/New_York:20241224T143000
DTSTAMP:20260419T174909
CREATED:20231012T132244Z
LAST-MODIFIED:20231012T132244Z
UID:10009375-1735047000-1735050600@brunswickforest.com
SUMMARY:Mexican Train
DESCRIPTION:The Community Commons \nTuesdays \n@1:30pm \n  \nContact Marcia Belford: Mbel0254@comcast.net
URL:https://brunswickforest.com/events/mexican-train-4/2024-12-24/
LOCATION:Community Commons
CATEGORIES:Resident Activities
ATTACH;FMTTYPE=image/png:https://brunswickforest.com/wpc/uploads/2022/06/mexican-train.png
ORGANIZER;CN="Marcia Belford":MAILTO:Mbel0254@comcast.net
END:VEVENT
BEGIN:VEVENT
DTSTART;TZID=America/New_York:20241217T133000
DTEND;TZID=America/New_York:20241217T143000
DTSTAMP:20260419T174909
CREATED:20231012T132244Z
LAST-MODIFIED:20231012T132244Z
UID:10009374-1734442200-1734445800@brunswickforest.com
SUMMARY:Mexican Train
DESCRIPTION:The Community Commons \nTuesdays \n@1:30pm \n  \nContact Marcia Belford: Mbel0254@comcast.net
URL:https://brunswickforest.com/events/mexican-train-4/2024-12-17/
LOCATION:Community Commons
CATEGORIES:Resident Activities
ATTACH;FMTTYPE=image/png:https://brunswickforest.com/wpc/uploads/2022/06/mexican-train.png
ORGANIZER;CN="Marcia Belford":MAILTO:Mbel0254@comcast.net
END:VEVENT
BEGIN:VEVENT
DTSTART;TZID=America/New_York:20241210T133000
DTEND;TZID=America/New_York:20241210T143000
DTSTAMP:20260419T174909
CREATED:20231012T132244Z
LAST-MODIFIED:20231012T132244Z
UID:10009373-1733837400-1733841000@brunswickforest.com
SUMMARY:Mexican Train
DESCRIPTION:The Community Commons \nTuesdays \n@1:30pm \n  \nContact Marcia Belford: Mbel0254@comcast.net
URL:https://brunswickforest.com/events/mexican-train-4/2024-12-10/
LOCATION:Community Commons
CATEGORIES:Resident Activities
ATTACH;FMTTYPE=image/png:https://brunswickforest.com/wpc/uploads/2022/06/mexican-train.png
ORGANIZER;CN="Marcia Belford":MAILTO:Mbel0254@comcast.net
END:VEVENT
BEGIN:VEVENT
DTSTART;TZID=America/New_York:20241203T133000
DTEND;TZID=America/New_York:20241203T143000
DTSTAMP:20260419T174909
CREATED:20231012T132244Z
LAST-MODIFIED:20231012T132244Z
UID:10009372-1733232600-1733236200@brunswickforest.com
SUMMARY:Mexican Train
DESCRIPTION:The Community Commons \nTuesdays \n@1:30pm \n  \nContact Marcia Belford: Mbel0254@comcast.net
URL:https://brunswickforest.com/events/mexican-train-4/2024-12-03/
LOCATION:Community Commons
CATEGORIES:Resident Activities
ATTACH;FMTTYPE=image/png:https://brunswickforest.com/wpc/uploads/2022/06/mexican-train.png
ORGANIZER;CN="Marcia Belford":MAILTO:Mbel0254@comcast.net
END:VEVENT
BEGIN:VEVENT
DTSTART;TZID=America/New_York:20241126T133000
DTEND;TZID=America/New_York:20241126T143000
DTSTAMP:20260419T174909
CREATED:20231012T132244Z
LAST-MODIFIED:20231012T132244Z
UID:10009371-1732627800-1732631400@brunswickforest.com
SUMMARY:Mexican Train
DESCRIPTION:The Community Commons \nTuesdays \n@1:30pm \n  \nContact Marcia Belford: Mbel0254@comcast.net
URL:https://brunswickforest.com/events/mexican-train-4/2024-11-26/
LOCATION:Community Commons
CATEGORIES:Resident Activities
ATTACH;FMTTYPE=image/png:https://brunswickforest.com/wpc/uploads/2022/06/mexican-train.png
ORGANIZER;CN="Marcia Belford":MAILTO:Mbel0254@comcast.net
END:VEVENT
BEGIN:VEVENT
DTSTART;TZID=America/New_York:20241119T133000
DTEND;TZID=America/New_York:20241119T143000
DTSTAMP:20260419T174909
CREATED:20231012T132244Z
LAST-MODIFIED:20231012T132244Z
UID:10009370-1732023000-1732026600@brunswickforest.com
SUMMARY:Mexican Train
DESCRIPTION:The Community Commons \nTuesdays \n@1:30pm \n  \nContact Marcia Belford: Mbel0254@comcast.net
URL:https://brunswickforest.com/events/mexican-train-4/2024-11-19/
LOCATION:Community Commons
CATEGORIES:Resident Activities
ATTACH;FMTTYPE=image/png:https://brunswickforest.com/wpc/uploads/2022/06/mexican-train.png
ORGANIZER;CN="Marcia Belford":MAILTO:Mbel0254@comcast.net
END:VEVENT
BEGIN:VEVENT
DTSTART;TZID=America/New_York:20241112T133000
DTEND;TZID=America/New_York:20241112T143000
DTSTAMP:20260419T174909
CREATED:20231012T132244Z
LAST-MODIFIED:20231012T132244Z
UID:10009369-1731418200-1731421800@brunswickforest.com
SUMMARY:Mexican Train
DESCRIPTION:The Community Commons \nTuesdays \n@1:30pm \n  \nContact Marcia Belford: Mbel0254@comcast.net
URL:https://brunswickforest.com/events/mexican-train-4/2024-11-12/
LOCATION:Community Commons
CATEGORIES:Resident Activities
ATTACH;FMTTYPE=image/png:https://brunswickforest.com/wpc/uploads/2022/06/mexican-train.png
ORGANIZER;CN="Marcia Belford":MAILTO:Mbel0254@comcast.net
END:VEVENT
BEGIN:VEVENT
DTSTART;TZID=America/New_York:20241105T133000
DTEND;TZID=America/New_York:20241105T143000
DTSTAMP:20260419T174909
CREATED:20231012T132244Z
LAST-MODIFIED:20231012T132244Z
UID:10009368-1730813400-1730817000@brunswickforest.com
SUMMARY:Mexican Train
DESCRIPTION:The Community Commons \nTuesdays \n@1:30pm \n  \nContact Marcia Belford: Mbel0254@comcast.net
URL:https://brunswickforest.com/events/mexican-train-4/2024-11-05/
LOCATION:Community Commons
CATEGORIES:Resident Activities
ATTACH;FMTTYPE=image/png:https://brunswickforest.com/wpc/uploads/2022/06/mexican-train.png
ORGANIZER;CN="Marcia Belford":MAILTO:Mbel0254@comcast.net
END:VEVENT
BEGIN:VEVENT
DTSTART;TZID=America/New_York:20241029T133000
DTEND;TZID=America/New_York:20241029T143000
DTSTAMP:20260419T174909
CREATED:20231012T132244Z
LAST-MODIFIED:20231012T132244Z
UID:10009367-1730208600-1730212200@brunswickforest.com
SUMMARY:Mexican Train
DESCRIPTION:The Community Commons \nTuesdays \n@1:30pm \n  \nContact Marcia Belford: Mbel0254@comcast.net
URL:https://brunswickforest.com/events/mexican-train-4/2024-10-29/
LOCATION:Community Commons
CATEGORIES:Resident Activities
ATTACH;FMTTYPE=image/png:https://brunswickforest.com/wpc/uploads/2022/06/mexican-train.png
ORGANIZER;CN="Marcia Belford":MAILTO:Mbel0254@comcast.net
END:VEVENT
BEGIN:VEVENT
DTSTART;TZID=America/New_York:20241022T133000
DTEND;TZID=America/New_York:20241022T143000
DTSTAMP:20260419T174909
CREATED:20231012T132244Z
LAST-MODIFIED:20231012T132244Z
UID:10009366-1729603800-1729607400@brunswickforest.com
SUMMARY:Mexican Train
DESCRIPTION:The Community Commons \nTuesdays \n@1:30pm \n  \nContact Marcia Belford: Mbel0254@comcast.net
URL:https://brunswickforest.com/events/mexican-train-4/2024-10-22/
LOCATION:Community Commons
CATEGORIES:Resident Activities
ATTACH;FMTTYPE=image/png:https://brunswickforest.com/wpc/uploads/2022/06/mexican-train.png
ORGANIZER;CN="Marcia Belford":MAILTO:Mbel0254@comcast.net
END:VEVENT
BEGIN:VEVENT
DTSTART;TZID=America/New_York:20241015T133000
DTEND;TZID=America/New_York:20241015T143000
DTSTAMP:20260419T174909
CREATED:20231012T132244Z
LAST-MODIFIED:20231012T132244Z
UID:10009365-1728999000-1729002600@brunswickforest.com
SUMMARY:Mexican Train
DESCRIPTION:The Community Commons \nTuesdays \n@1:30pm \n  \nContact Marcia Belford: Mbel0254@comcast.net
URL:https://brunswickforest.com/events/mexican-train-4/2024-10-15/
LOCATION:Community Commons
CATEGORIES:Resident Activities
ATTACH;FMTTYPE=image/png:https://brunswickforest.com/wpc/uploads/2022/06/mexican-train.png
ORGANIZER;CN="Marcia Belford":MAILTO:Mbel0254@comcast.net
END:VEVENT
BEGIN:VEVENT
DTSTART;TZID=America/New_York:20241008T133000
DTEND;TZID=America/New_York:20241008T143000
DTSTAMP:20260419T174909
CREATED:20231012T132244Z
LAST-MODIFIED:20231012T132244Z
UID:10009364-1728394200-1728397800@brunswickforest.com
SUMMARY:Mexican Train
DESCRIPTION:The Community Commons \nTuesdays \n@1:30pm \n  \nContact Marcia Belford: Mbel0254@comcast.net
URL:https://brunswickforest.com/events/mexican-train-4/2024-10-08/
LOCATION:Community Commons
CATEGORIES:Resident Activities
ATTACH;FMTTYPE=image/png:https://brunswickforest.com/wpc/uploads/2022/06/mexican-train.png
ORGANIZER;CN="Marcia Belford":MAILTO:Mbel0254@comcast.net
END:VEVENT
BEGIN:VEVENT
DTSTART;TZID=America/New_York:20241001T133000
DTEND;TZID=America/New_York:20241001T143000
DTSTAMP:20260419T174909
CREATED:20231012T132244Z
LAST-MODIFIED:20231012T132244Z
UID:10009363-1727789400-1727793000@brunswickforest.com
SUMMARY:Mexican Train
DESCRIPTION:The Community Commons \nTuesdays \n@1:30pm \n  \nContact Marcia Belford: Mbel0254@comcast.net
URL:https://brunswickforest.com/events/mexican-train-4/2024-10-01/
LOCATION:Community Commons
CATEGORIES:Resident Activities
ATTACH;FMTTYPE=image/png:https://brunswickforest.com/wpc/uploads/2022/06/mexican-train.png
ORGANIZER;CN="Marcia Belford":MAILTO:Mbel0254@comcast.net
END:VEVENT
BEGIN:VEVENT
DTSTART;TZID=America/New_York:20240924T133000
DTEND;TZID=America/New_York:20240924T143000
DTSTAMP:20260419T174909
CREATED:20231012T132244Z
LAST-MODIFIED:20231012T132244Z
UID:10009362-1727184600-1727188200@brunswickforest.com
SUMMARY:Mexican Train
DESCRIPTION:The Community Commons \nTuesdays \n@1:30pm \n  \nContact Marcia Belford: Mbel0254@comcast.net
URL:https://brunswickforest.com/events/mexican-train-4/2024-09-24/
LOCATION:Community Commons
CATEGORIES:Resident Activities
ATTACH;FMTTYPE=image/png:https://brunswickforest.com/wpc/uploads/2022/06/mexican-train.png
ORGANIZER;CN="Marcia Belford":MAILTO:Mbel0254@comcast.net
END:VEVENT
BEGIN:VEVENT
DTSTART;TZID=America/New_York:20240917T133000
DTEND;TZID=America/New_York:20240917T143000
DTSTAMP:20260419T174909
CREATED:20231012T132244Z
LAST-MODIFIED:20231012T132244Z
UID:10009361-1726579800-1726583400@brunswickforest.com
SUMMARY:Mexican Train
DESCRIPTION:The Community Commons \nTuesdays \n@1:30pm \n  \nContact Marcia Belford: Mbel0254@comcast.net
URL:https://brunswickforest.com/events/mexican-train-4/2024-09-17/
LOCATION:Community Commons
CATEGORIES:Resident Activities
ATTACH;FMTTYPE=image/png:https://brunswickforest.com/wpc/uploads/2022/06/mexican-train.png
ORGANIZER;CN="Marcia Belford":MAILTO:Mbel0254@comcast.net
END:VEVENT
BEGIN:VEVENT
DTSTART;TZID=America/New_York:20240910T133000
DTEND;TZID=America/New_York:20240910T143000
DTSTAMP:20260419T174909
CREATED:20231012T132244Z
LAST-MODIFIED:20231012T132244Z
UID:10009360-1725975000-1725978600@brunswickforest.com
SUMMARY:Mexican Train
DESCRIPTION:The Community Commons \nTuesdays \n@1:30pm \n  \nContact Marcia Belford: Mbel0254@comcast.net
URL:https://brunswickforest.com/events/mexican-train-4/2024-09-10/
LOCATION:Community Commons
CATEGORIES:Resident Activities
ATTACH;FMTTYPE=image/png:https://brunswickforest.com/wpc/uploads/2022/06/mexican-train.png
ORGANIZER;CN="Marcia Belford":MAILTO:Mbel0254@comcast.net
END:VEVENT
BEGIN:VEVENT
DTSTART;TZID=America/New_York:20240903T133000
DTEND;TZID=America/New_York:20240903T143000
DTSTAMP:20260419T174909
CREATED:20231012T132244Z
LAST-MODIFIED:20231012T132244Z
UID:10009359-1725370200-1725373800@brunswickforest.com
SUMMARY:Mexican Train
DESCRIPTION:The Community Commons \nTuesdays \n@1:30pm \n  \nContact Marcia Belford: Mbel0254@comcast.net
URL:https://brunswickforest.com/events/mexican-train-4/2024-09-03/
LOCATION:Community Commons
CATEGORIES:Resident Activities
ATTACH;FMTTYPE=image/png:https://brunswickforest.com/wpc/uploads/2022/06/mexican-train.png
ORGANIZER;CN="Marcia Belford":MAILTO:Mbel0254@comcast.net
END:VEVENT
END:VCALENDAR