BEGIN:VCALENDAR
VERSION:2.0
PRODID:-//Brunswick Forest - ECPv6.15.20//NONSGML v1.0//EN
CALSCALE:GREGORIAN
METHOD:PUBLISH
X-ORIGINAL-URL:https://brunswickforest.com
X-WR-CALDESC:Events for Brunswick Forest
REFRESH-INTERVAL;VALUE=DURATION:PT1H
X-Robots-Tag:noindex
X-PUBLISHED-TTL:PT1H
BEGIN:VTIMEZONE
TZID:America/New_York
BEGIN:DAYLIGHT
TZOFFSETFROM:-0500
TZOFFSETTO:-0400
TZNAME:EDT
DTSTART:20270314T070000
END:DAYLIGHT
BEGIN:STANDARD
TZOFFSETFROM:-0400
TZOFFSETTO:-0500
TZNAME:EST
DTSTART:20271107T060000
END:STANDARD
BEGIN:DAYLIGHT
TZOFFSETFROM:-0500
TZOFFSETTO:-0400
TZNAME:EDT
DTSTART:20280312T070000
END:DAYLIGHT
BEGIN:STANDARD
TZOFFSETFROM:-0400
TZOFFSETTO:-0500
TZNAME:EST
DTSTART:20281105T060000
END:STANDARD
BEGIN:DAYLIGHT
TZOFFSETFROM:-0500
TZOFFSETTO:-0400
TZNAME:EDT
DTSTART:20290311T070000
END:DAYLIGHT
BEGIN:STANDARD
TZOFFSETFROM:-0400
TZOFFSETTO:-0500
TZNAME:EST
DTSTART:20291104T060000
END:STANDARD
END:VTIMEZONE
BEGIN:VEVENT
DTSTART;TZID=America/New_York:20280705T100000
DTEND;TZID=America/New_York:20280705T120000
DTSTAMP:20260419T122800
CREATED:20231012T145046Z
LAST-MODIFIED:20231012T145046Z
UID:10010888-1846404000-1846411200@brunswickforest.com
SUMMARY:Chess Club
DESCRIPTION:*Email For Location* \n@10am \nContact: Lee Lowery \neleelowery@gmail.com
URL:https://brunswickforest.com/events/chess-club-4/2028-07-05/
LOCATION:TBA
CATEGORIES:Resident Activities
ATTACH;FMTTYPE=image/png:https://brunswickforest.com/wpc/uploads/2022/06/chess-club.png
ORGANIZER;CN="Lee Lowery":MAILTO:eleelowery@gmail.com
END:VEVENT
BEGIN:VEVENT
DTSTART;TZID=America/New_York:20280712T100000
DTEND;TZID=America/New_York:20280712T120000
DTSTAMP:20260419T122800
CREATED:20231012T145046Z
LAST-MODIFIED:20231012T145046Z
UID:10010889-1847008800-1847016000@brunswickforest.com
SUMMARY:Chess Club
DESCRIPTION:*Email For Location* \n@10am \nContact: Lee Lowery \neleelowery@gmail.com
URL:https://brunswickforest.com/events/chess-club-4/2028-07-12/
LOCATION:TBA
CATEGORIES:Resident Activities
ATTACH;FMTTYPE=image/png:https://brunswickforest.com/wpc/uploads/2022/06/chess-club.png
ORGANIZER;CN="Lee Lowery":MAILTO:eleelowery@gmail.com
END:VEVENT
BEGIN:VEVENT
DTSTART;TZID=America/New_York:20280719T100000
DTEND;TZID=America/New_York:20280719T120000
DTSTAMP:20260419T122800
CREATED:20231012T145046Z
LAST-MODIFIED:20231012T145046Z
UID:10010890-1847613600-1847620800@brunswickforest.com
SUMMARY:Chess Club
DESCRIPTION:*Email For Location* \n@10am \nContact: Lee Lowery \neleelowery@gmail.com
URL:https://brunswickforest.com/events/chess-club-4/2028-07-19/
LOCATION:TBA
CATEGORIES:Resident Activities
ATTACH;FMTTYPE=image/png:https://brunswickforest.com/wpc/uploads/2022/06/chess-club.png
ORGANIZER;CN="Lee Lowery":MAILTO:eleelowery@gmail.com
END:VEVENT
BEGIN:VEVENT
DTSTART;TZID=America/New_York:20280726T100000
DTEND;TZID=America/New_York:20280726T120000
DTSTAMP:20260419T122800
CREATED:20231012T145046Z
LAST-MODIFIED:20231012T145046Z
UID:10010891-1848218400-1848225600@brunswickforest.com
SUMMARY:Chess Club
DESCRIPTION:*Email For Location* \n@10am \nContact: Lee Lowery \neleelowery@gmail.com
URL:https://brunswickforest.com/events/chess-club-4/2028-07-26/
LOCATION:TBA
CATEGORIES:Resident Activities
ATTACH;FMTTYPE=image/png:https://brunswickforest.com/wpc/uploads/2022/06/chess-club.png
ORGANIZER;CN="Lee Lowery":MAILTO:eleelowery@gmail.com
END:VEVENT
BEGIN:VEVENT
DTSTART;TZID=America/New_York:20280802T100000
DTEND;TZID=America/New_York:20280802T120000
DTSTAMP:20260419T122800
CREATED:20231012T145046Z
LAST-MODIFIED:20231012T145046Z
UID:10010892-1848823200-1848830400@brunswickforest.com
SUMMARY:Chess Club
DESCRIPTION:*Email For Location* \n@10am \nContact: Lee Lowery \neleelowery@gmail.com
URL:https://brunswickforest.com/events/chess-club-4/2028-08-02/
LOCATION:TBA
CATEGORIES:Resident Activities
ATTACH;FMTTYPE=image/png:https://brunswickforest.com/wpc/uploads/2022/06/chess-club.png
ORGANIZER;CN="Lee Lowery":MAILTO:eleelowery@gmail.com
END:VEVENT
BEGIN:VEVENT
DTSTART;TZID=America/New_York:20280809T100000
DTEND;TZID=America/New_York:20280809T120000
DTSTAMP:20260419T122800
CREATED:20231012T145046Z
LAST-MODIFIED:20231012T145046Z
UID:10010893-1849428000-1849435200@brunswickforest.com
SUMMARY:Chess Club
DESCRIPTION:*Email For Location* \n@10am \nContact: Lee Lowery \neleelowery@gmail.com
URL:https://brunswickforest.com/events/chess-club-4/2028-08-09/
LOCATION:TBA
CATEGORIES:Resident Activities
ATTACH;FMTTYPE=image/png:https://brunswickforest.com/wpc/uploads/2022/06/chess-club.png
ORGANIZER;CN="Lee Lowery":MAILTO:eleelowery@gmail.com
END:VEVENT
BEGIN:VEVENT
DTSTART;TZID=America/New_York:20280816T100000
DTEND;TZID=America/New_York:20280816T120000
DTSTAMP:20260419T122800
CREATED:20231012T145046Z
LAST-MODIFIED:20231012T145046Z
UID:10010894-1850032800-1850040000@brunswickforest.com
SUMMARY:Chess Club
DESCRIPTION:*Email For Location* \n@10am \nContact: Lee Lowery \neleelowery@gmail.com
URL:https://brunswickforest.com/events/chess-club-4/2028-08-16/
LOCATION:TBA
CATEGORIES:Resident Activities
ATTACH;FMTTYPE=image/png:https://brunswickforest.com/wpc/uploads/2022/06/chess-club.png
ORGANIZER;CN="Lee Lowery":MAILTO:eleelowery@gmail.com
END:VEVENT
BEGIN:VEVENT
DTSTART;TZID=America/New_York:20280823T100000
DTEND;TZID=America/New_York:20280823T120000
DTSTAMP:20260419T122800
CREATED:20231012T145046Z
LAST-MODIFIED:20231012T145046Z
UID:10010895-1850637600-1850644800@brunswickforest.com
SUMMARY:Chess Club
DESCRIPTION:*Email For Location* \n@10am \nContact: Lee Lowery \neleelowery@gmail.com
URL:https://brunswickforest.com/events/chess-club-4/2028-08-23/
LOCATION:TBA
CATEGORIES:Resident Activities
ATTACH;FMTTYPE=image/png:https://brunswickforest.com/wpc/uploads/2022/06/chess-club.png
ORGANIZER;CN="Lee Lowery":MAILTO:eleelowery@gmail.com
END:VEVENT
BEGIN:VEVENT
DTSTART;TZID=America/New_York:20280830T100000
DTEND;TZID=America/New_York:20280830T120000
DTSTAMP:20260419T122800
CREATED:20231012T145046Z
LAST-MODIFIED:20231012T145046Z
UID:10010896-1851242400-1851249600@brunswickforest.com
SUMMARY:Chess Club
DESCRIPTION:*Email For Location* \n@10am \nContact: Lee Lowery \neleelowery@gmail.com
URL:https://brunswickforest.com/events/chess-club-4/2028-08-30/
LOCATION:TBA
CATEGORIES:Resident Activities
ATTACH;FMTTYPE=image/png:https://brunswickforest.com/wpc/uploads/2022/06/chess-club.png
ORGANIZER;CN="Lee Lowery":MAILTO:eleelowery@gmail.com
END:VEVENT
BEGIN:VEVENT
DTSTART;TZID=America/New_York:20280906T100000
DTEND;TZID=America/New_York:20280906T120000
DTSTAMP:20260419T122800
CREATED:20231012T145046Z
LAST-MODIFIED:20231012T145046Z
UID:10010897-1851847200-1851854400@brunswickforest.com
SUMMARY:Chess Club
DESCRIPTION:*Email For Location* \n@10am \nContact: Lee Lowery \neleelowery@gmail.com
URL:https://brunswickforest.com/events/chess-club-4/2028-09-06/
LOCATION:TBA
CATEGORIES:Resident Activities
ATTACH;FMTTYPE=image/png:https://brunswickforest.com/wpc/uploads/2022/06/chess-club.png
ORGANIZER;CN="Lee Lowery":MAILTO:eleelowery@gmail.com
END:VEVENT
BEGIN:VEVENT
DTSTART;TZID=America/New_York:20280913T100000
DTEND;TZID=America/New_York:20280913T120000
DTSTAMP:20260419T122800
CREATED:20231012T145046Z
LAST-MODIFIED:20231012T145046Z
UID:10010898-1852452000-1852459200@brunswickforest.com
SUMMARY:Chess Club
DESCRIPTION:*Email For Location* \n@10am \nContact: Lee Lowery \neleelowery@gmail.com
URL:https://brunswickforest.com/events/chess-club-4/2028-09-13/
LOCATION:TBA
CATEGORIES:Resident Activities
ATTACH;FMTTYPE=image/png:https://brunswickforest.com/wpc/uploads/2022/06/chess-club.png
ORGANIZER;CN="Lee Lowery":MAILTO:eleelowery@gmail.com
END:VEVENT
BEGIN:VEVENT
DTSTART;TZID=America/New_York:20280920T100000
DTEND;TZID=America/New_York:20280920T120000
DTSTAMP:20260419T122800
CREATED:20231012T145046Z
LAST-MODIFIED:20231012T145046Z
UID:10010899-1853056800-1853064000@brunswickforest.com
SUMMARY:Chess Club
DESCRIPTION:*Email For Location* \n@10am \nContact: Lee Lowery \neleelowery@gmail.com
URL:https://brunswickforest.com/events/chess-club-4/2028-09-20/
LOCATION:TBA
CATEGORIES:Resident Activities
ATTACH;FMTTYPE=image/png:https://brunswickforest.com/wpc/uploads/2022/06/chess-club.png
ORGANIZER;CN="Lee Lowery":MAILTO:eleelowery@gmail.com
END:VEVENT
BEGIN:VEVENT
DTSTART;TZID=America/New_York:20280927T100000
DTEND;TZID=America/New_York:20280927T120000
DTSTAMP:20260419T122800
CREATED:20231012T145046Z
LAST-MODIFIED:20231012T145046Z
UID:10010900-1853661600-1853668800@brunswickforest.com
SUMMARY:Chess Club
DESCRIPTION:*Email For Location* \n@10am \nContact: Lee Lowery \neleelowery@gmail.com
URL:https://brunswickforest.com/events/chess-club-4/2028-09-27/
LOCATION:TBA
CATEGORIES:Resident Activities
ATTACH;FMTTYPE=image/png:https://brunswickforest.com/wpc/uploads/2022/06/chess-club.png
ORGANIZER;CN="Lee Lowery":MAILTO:eleelowery@gmail.com
END:VEVENT
BEGIN:VEVENT
DTSTART;TZID=America/New_York:20281004T100000
DTEND;TZID=America/New_York:20281004T120000
DTSTAMP:20260419T122800
CREATED:20231012T145046Z
LAST-MODIFIED:20231012T145046Z
UID:10010901-1854266400-1854273600@brunswickforest.com
SUMMARY:Chess Club
DESCRIPTION:*Email For Location* \n@10am \nContact: Lee Lowery \neleelowery@gmail.com
URL:https://brunswickforest.com/events/chess-club-4/2028-10-04/
LOCATION:TBA
CATEGORIES:Resident Activities
ATTACH;FMTTYPE=image/png:https://brunswickforest.com/wpc/uploads/2022/06/chess-club.png
ORGANIZER;CN="Lee Lowery":MAILTO:eleelowery@gmail.com
END:VEVENT
BEGIN:VEVENT
DTSTART;TZID=America/New_York:20281011T100000
DTEND;TZID=America/New_York:20281011T120000
DTSTAMP:20260419T122800
CREATED:20231012T145046Z
LAST-MODIFIED:20231012T145046Z
UID:10010902-1854871200-1854878400@brunswickforest.com
SUMMARY:Chess Club
DESCRIPTION:*Email For Location* \n@10am \nContact: Lee Lowery \neleelowery@gmail.com
URL:https://brunswickforest.com/events/chess-club-4/2028-10-11/
LOCATION:TBA
CATEGORIES:Resident Activities
ATTACH;FMTTYPE=image/png:https://brunswickforest.com/wpc/uploads/2022/06/chess-club.png
ORGANIZER;CN="Lee Lowery":MAILTO:eleelowery@gmail.com
END:VEVENT
END:VCALENDAR