BEGIN:VCALENDAR
VERSION:2.0
PRODID:-//Brunswick Forest - ECPv6.15.20//NONSGML v1.0//EN
CALSCALE:GREGORIAN
METHOD:PUBLISH
X-WR-CALNAME:Brunswick Forest
X-ORIGINAL-URL:https://brunswickforest.com
X-WR-CALDESC:Events for Brunswick Forest
REFRESH-INTERVAL;VALUE=DURATION:PT1H
X-Robots-Tag:noindex
X-PUBLISHED-TTL:PT1H
BEGIN:VTIMEZONE
TZID:America/New_York
BEGIN:DAYLIGHT
TZOFFSETFROM:-0500
TZOFFSETTO:-0400
TZNAME:EDT
DTSTART:20220313T070000
END:DAYLIGHT
BEGIN:STANDARD
TZOFFSETFROM:-0400
TZOFFSETTO:-0500
TZNAME:EST
DTSTART:20221106T060000
END:STANDARD
BEGIN:DAYLIGHT
TZOFFSETFROM:-0500
TZOFFSETTO:-0400
TZNAME:EDT
DTSTART:20230312T070000
END:DAYLIGHT
BEGIN:STANDARD
TZOFFSETFROM:-0400
TZOFFSETTO:-0500
TZNAME:EST
DTSTART:20231105T060000
END:STANDARD
BEGIN:DAYLIGHT
TZOFFSETFROM:-0500
TZOFFSETTO:-0400
TZNAME:EDT
DTSTART:20240310T070000
END:DAYLIGHT
BEGIN:STANDARD
TZOFFSETFROM:-0400
TZOFFSETTO:-0500
TZNAME:EST
DTSTART:20241103T060000
END:STANDARD
BEGIN:DAYLIGHT
TZOFFSETFROM:-0500
TZOFFSETTO:-0400
TZNAME:EDT
DTSTART:20250309T070000
END:DAYLIGHT
BEGIN:STANDARD
TZOFFSETFROM:-0400
TZOFFSETTO:-0500
TZNAME:EST
DTSTART:20251102T060000
END:STANDARD
END:VTIMEZONE
BEGIN:VEVENT
DTSTART;TZID=America/New_York:20240206T170000
DTEND;TZID=America/New_York:20240206T180000
DTSTAMP:20260422T030101
CREATED:20231012T132908Z
LAST-MODIFIED:20231012T132908Z
UID:10010124-1707238800-1707242400@brunswickforest.com
SUMMARY:Wood Workers Group
DESCRIPTION:The Community Commons \nTuesdays \n@5:00pm \nContact: Greg Miller \nImsantaclaus1@hotmail.com
URL:https://brunswickforest.com/events/wood-workers-group-3/2024-02-06/
LOCATION:Community Commons
CATEGORIES:Resident Activities
ATTACH;FMTTYPE=image/png:https://brunswickforest.com/wpc/uploads/woodwork.png
ORGANIZER;CN="Greg Miller":MAILTO:Imsantaclaus1@hotmail.com
END:VEVENT
BEGIN:VEVENT
DTSTART;TZID=America/New_York:20240130T170000
DTEND;TZID=America/New_York:20240130T180000
DTSTAMP:20260422T030101
CREATED:20231012T132908Z
LAST-MODIFIED:20231012T132908Z
UID:10010123-1706634000-1706637600@brunswickforest.com
SUMMARY:Wood Workers Group
DESCRIPTION:The Community Commons \nTuesdays \n@5:00pm \nContact: Greg Miller \nImsantaclaus1@hotmail.com
URL:https://brunswickforest.com/events/wood-workers-group-3/2024-01-30/
LOCATION:Community Commons
CATEGORIES:Resident Activities
ATTACH;FMTTYPE=image/png:https://brunswickforest.com/wpc/uploads/woodwork.png
ORGANIZER;CN="Greg Miller":MAILTO:Imsantaclaus1@hotmail.com
END:VEVENT
BEGIN:VEVENT
DTSTART;TZID=America/New_York:20240123T170000
DTEND;TZID=America/New_York:20240123T180000
DTSTAMP:20260422T030101
CREATED:20231012T132908Z
LAST-MODIFIED:20231012T132908Z
UID:10010122-1706029200-1706032800@brunswickforest.com
SUMMARY:Wood Workers Group
DESCRIPTION:The Community Commons \nTuesdays \n@5:00pm \nContact: Greg Miller \nImsantaclaus1@hotmail.com
URL:https://brunswickforest.com/events/wood-workers-group-3/2024-01-23/
LOCATION:Community Commons
CATEGORIES:Resident Activities
ATTACH;FMTTYPE=image/png:https://brunswickforest.com/wpc/uploads/woodwork.png
ORGANIZER;CN="Greg Miller":MAILTO:Imsantaclaus1@hotmail.com
END:VEVENT
BEGIN:VEVENT
DTSTART;TZID=America/New_York:20240116T170000
DTEND;TZID=America/New_York:20240116T180000
DTSTAMP:20260422T030101
CREATED:20231012T132908Z
LAST-MODIFIED:20231012T132908Z
UID:10010121-1705424400-1705428000@brunswickforest.com
SUMMARY:Wood Workers Group
DESCRIPTION:The Community Commons \nTuesdays \n@5:00pm \nContact: Greg Miller \nImsantaclaus1@hotmail.com
URL:https://brunswickforest.com/events/wood-workers-group-3/2024-01-16/
LOCATION:Community Commons
CATEGORIES:Resident Activities
ATTACH;FMTTYPE=image/png:https://brunswickforest.com/wpc/uploads/woodwork.png
ORGANIZER;CN="Greg Miller":MAILTO:Imsantaclaus1@hotmail.com
END:VEVENT
BEGIN:VEVENT
DTSTART;TZID=America/New_York:20240109T170000
DTEND;TZID=America/New_York:20240109T180000
DTSTAMP:20260422T030101
CREATED:20231012T132908Z
LAST-MODIFIED:20231012T132908Z
UID:10010120-1704819600-1704823200@brunswickforest.com
SUMMARY:Wood Workers Group
DESCRIPTION:The Community Commons \nTuesdays \n@5:00pm \nContact: Greg Miller \nImsantaclaus1@hotmail.com
URL:https://brunswickforest.com/events/wood-workers-group-3/2024-01-09/
LOCATION:Community Commons
CATEGORIES:Resident Activities
ATTACH;FMTTYPE=image/png:https://brunswickforest.com/wpc/uploads/woodwork.png
ORGANIZER;CN="Greg Miller":MAILTO:Imsantaclaus1@hotmail.com
END:VEVENT
BEGIN:VEVENT
DTSTART;TZID=America/New_York:20240102T170000
DTEND;TZID=America/New_York:20240102T180000
DTSTAMP:20260422T030101
CREATED:20231012T132908Z
LAST-MODIFIED:20231012T132908Z
UID:10010119-1704214800-1704218400@brunswickforest.com
SUMMARY:Wood Workers Group
DESCRIPTION:The Community Commons \nTuesdays \n@5:00pm \nContact: Greg Miller \nImsantaclaus1@hotmail.com
URL:https://brunswickforest.com/events/wood-workers-group-3/2024-01-02/
LOCATION:Community Commons
CATEGORIES:Resident Activities
ATTACH;FMTTYPE=image/png:https://brunswickforest.com/wpc/uploads/woodwork.png
ORGANIZER;CN="Greg Miller":MAILTO:Imsantaclaus1@hotmail.com
END:VEVENT
BEGIN:VEVENT
DTSTART;TZID=America/New_York:20231226T170000
DTEND;TZID=America/New_York:20231226T180000
DTSTAMP:20260422T030101
CREATED:20231012T132908Z
LAST-MODIFIED:20231012T132908Z
UID:10010118-1703610000-1703613600@brunswickforest.com
SUMMARY:Wood Workers Group
DESCRIPTION:The Community Commons \nTuesdays \n@5:00pm \nContact: Greg Miller \nImsantaclaus1@hotmail.com
URL:https://brunswickforest.com/events/wood-workers-group-3/2023-12-26/
LOCATION:Community Commons
CATEGORIES:Resident Activities
ATTACH;FMTTYPE=image/png:https://brunswickforest.com/wpc/uploads/woodwork.png
ORGANIZER;CN="Greg Miller":MAILTO:Imsantaclaus1@hotmail.com
END:VEVENT
BEGIN:VEVENT
DTSTART;TZID=America/New_York:20231219T170000
DTEND;TZID=America/New_York:20231219T180000
DTSTAMP:20260422T030101
CREATED:20231012T132908Z
LAST-MODIFIED:20231012T132908Z
UID:10010117-1703005200-1703008800@brunswickforest.com
SUMMARY:Wood Workers Group
DESCRIPTION:The Community Commons \nTuesdays \n@5:00pm \nContact: Greg Miller \nImsantaclaus1@hotmail.com
URL:https://brunswickforest.com/events/wood-workers-group-3/2023-12-19/
LOCATION:Community Commons
CATEGORIES:Resident Activities
ATTACH;FMTTYPE=image/png:https://brunswickforest.com/wpc/uploads/woodwork.png
ORGANIZER;CN="Greg Miller":MAILTO:Imsantaclaus1@hotmail.com
END:VEVENT
BEGIN:VEVENT
DTSTART;TZID=America/New_York:20231212T170000
DTEND;TZID=America/New_York:20231212T180000
DTSTAMP:20260422T030101
CREATED:20231012T132908Z
LAST-MODIFIED:20231012T132908Z
UID:10010116-1702400400-1702404000@brunswickforest.com
SUMMARY:Wood Workers Group
DESCRIPTION:The Community Commons \nTuesdays \n@5:00pm \nContact: Greg Miller \nImsantaclaus1@hotmail.com
URL:https://brunswickforest.com/events/wood-workers-group-3/2023-12-12/
LOCATION:Community Commons
CATEGORIES:Resident Activities
ATTACH;FMTTYPE=image/png:https://brunswickforest.com/wpc/uploads/woodwork.png
ORGANIZER;CN="Greg Miller":MAILTO:Imsantaclaus1@hotmail.com
END:VEVENT
BEGIN:VEVENT
DTSTART;TZID=America/New_York:20231205T170000
DTEND;TZID=America/New_York:20231205T180000
DTSTAMP:20260422T030101
CREATED:20231012T132908Z
LAST-MODIFIED:20231012T132908Z
UID:10010115-1701795600-1701799200@brunswickforest.com
SUMMARY:Wood Workers Group
DESCRIPTION:The Community Commons \nTuesdays \n@5:00pm \nContact: Greg Miller \nImsantaclaus1@hotmail.com
URL:https://brunswickforest.com/events/wood-workers-group-3/2023-12-05/
LOCATION:Community Commons
CATEGORIES:Resident Activities
ATTACH;FMTTYPE=image/png:https://brunswickforest.com/wpc/uploads/woodwork.png
ORGANIZER;CN="Greg Miller":MAILTO:Imsantaclaus1@hotmail.com
END:VEVENT
BEGIN:VEVENT
DTSTART;TZID=America/New_York:20231128T170000
DTEND;TZID=America/New_York:20231128T180000
DTSTAMP:20260422T030101
CREATED:20231012T132908Z
LAST-MODIFIED:20231012T132908Z
UID:10010114-1701190800-1701194400@brunswickforest.com
SUMMARY:Wood Workers Group
DESCRIPTION:The Community Commons \nTuesdays \n@5:00pm \nContact: Greg Miller \nImsantaclaus1@hotmail.com
URL:https://brunswickforest.com/events/wood-workers-group-3/2023-11-28/
LOCATION:Community Commons
CATEGORIES:Resident Activities
ATTACH;FMTTYPE=image/png:https://brunswickforest.com/wpc/uploads/woodwork.png
ORGANIZER;CN="Greg Miller":MAILTO:Imsantaclaus1@hotmail.com
END:VEVENT
BEGIN:VEVENT
DTSTART;TZID=America/New_York:20231121T170000
DTEND;TZID=America/New_York:20231121T180000
DTSTAMP:20260422T030101
CREATED:20231012T132908Z
LAST-MODIFIED:20231012T132908Z
UID:10010113-1700586000-1700589600@brunswickforest.com
SUMMARY:Wood Workers Group
DESCRIPTION:The Community Commons \nTuesdays \n@5:00pm \nContact: Greg Miller \nImsantaclaus1@hotmail.com
URL:https://brunswickforest.com/events/wood-workers-group-3/2023-11-21/
LOCATION:Community Commons
CATEGORIES:Resident Activities
ATTACH;FMTTYPE=image/png:https://brunswickforest.com/wpc/uploads/woodwork.png
ORGANIZER;CN="Greg Miller":MAILTO:Imsantaclaus1@hotmail.com
END:VEVENT
BEGIN:VEVENT
DTSTART;TZID=America/New_York:20231114T170000
DTEND;TZID=America/New_York:20231114T180000
DTSTAMP:20260422T030101
CREATED:20231012T132908Z
LAST-MODIFIED:20231012T132908Z
UID:10010112-1699981200-1699984800@brunswickforest.com
SUMMARY:Wood Workers Group
DESCRIPTION:The Community Commons \nTuesdays \n@5:00pm \nContact: Greg Miller \nImsantaclaus1@hotmail.com
URL:https://brunswickforest.com/events/wood-workers-group-3/2023-11-14/
LOCATION:Community Commons
CATEGORIES:Resident Activities
ATTACH;FMTTYPE=image/png:https://brunswickforest.com/wpc/uploads/woodwork.png
ORGANIZER;CN="Greg Miller":MAILTO:Imsantaclaus1@hotmail.com
END:VEVENT
BEGIN:VEVENT
DTSTART;TZID=America/New_York:20231107T170000
DTEND;TZID=America/New_York:20231107T180000
DTSTAMP:20260422T030101
CREATED:20231012T132908Z
LAST-MODIFIED:20231012T132908Z
UID:10010111-1699376400-1699380000@brunswickforest.com
SUMMARY:Wood Workers Group
DESCRIPTION:The Community Commons \nTuesdays \n@5:00pm \nContact: Greg Miller \nImsantaclaus1@hotmail.com
URL:https://brunswickforest.com/events/wood-workers-group-3/2023-11-07/
LOCATION:Community Commons
CATEGORIES:Resident Activities
ATTACH;FMTTYPE=image/png:https://brunswickforest.com/wpc/uploads/woodwork.png
ORGANIZER;CN="Greg Miller":MAILTO:Imsantaclaus1@hotmail.com
END:VEVENT
BEGIN:VEVENT
DTSTART;TZID=America/New_York:20231031T170000
DTEND;TZID=America/New_York:20231031T180000
DTSTAMP:20260422T030101
CREATED:20231012T132908Z
LAST-MODIFIED:20231012T132908Z
UID:10010110-1698771600-1698775200@brunswickforest.com
SUMMARY:Wood Workers Group
DESCRIPTION:The Community Commons \nTuesdays \n@5:00pm \nContact: Greg Miller \nImsantaclaus1@hotmail.com
URL:https://brunswickforest.com/events/wood-workers-group-3/2023-10-31/
LOCATION:Community Commons
CATEGORIES:Resident Activities
ATTACH;FMTTYPE=image/png:https://brunswickforest.com/wpc/uploads/woodwork.png
ORGANIZER;CN="Greg Miller":MAILTO:Imsantaclaus1@hotmail.com
END:VEVENT
BEGIN:VEVENT
DTSTART;TZID=America/New_York:20231024T170000
DTEND;TZID=America/New_York:20231024T180000
DTSTAMP:20260422T030101
CREATED:20231012T132908Z
LAST-MODIFIED:20231012T132908Z
UID:10010109-1698166800-1698170400@brunswickforest.com
SUMMARY:Wood Workers Group
DESCRIPTION:The Community Commons \nTuesdays \n@5:00pm \nContact: Greg Miller \nImsantaclaus1@hotmail.com
URL:https://brunswickforest.com/events/wood-workers-group-3/2023-10-24/
LOCATION:Community Commons
CATEGORIES:Resident Activities
ATTACH;FMTTYPE=image/png:https://brunswickforest.com/wpc/uploads/woodwork.png
ORGANIZER;CN="Greg Miller":MAILTO:Imsantaclaus1@hotmail.com
END:VEVENT
BEGIN:VEVENT
DTSTART;TZID=America/New_York:20231017T170000
DTEND;TZID=America/New_York:20231017T180000
DTSTAMP:20260422T030101
CREATED:20231012T132908Z
LAST-MODIFIED:20231012T132908Z
UID:10010108-1697562000-1697565600@brunswickforest.com
SUMMARY:Wood Workers Group
DESCRIPTION:The Community Commons \nTuesdays \n@5:00pm \nContact: Greg Miller \nImsantaclaus1@hotmail.com
URL:https://brunswickforest.com/events/wood-workers-group-3/2023-10-17/
LOCATION:Community Commons
CATEGORIES:Resident Activities
ATTACH;FMTTYPE=image/png:https://brunswickforest.com/wpc/uploads/woodwork.png
ORGANIZER;CN="Greg Miller":MAILTO:Imsantaclaus1@hotmail.com
END:VEVENT
BEGIN:VEVENT
DTSTART;TZID=America/New_York:20231010T170000
DTEND;TZID=America/New_York:20231010T180000
DTSTAMP:20260422T030101
CREATED:20231012T132908Z
LAST-MODIFIED:20231012T132908Z
UID:10010107-1696957200-1696960800@brunswickforest.com
SUMMARY:Wood Workers Group
DESCRIPTION:The Community Commons \nTuesdays \n@5:00pm \nContact: Greg Miller \nImsantaclaus1@hotmail.com
URL:https://brunswickforest.com/events/wood-workers-group-3/2023-10-10/
LOCATION:Community Commons
CATEGORIES:Resident Activities
ATTACH;FMTTYPE=image/png:https://brunswickforest.com/wpc/uploads/woodwork.png
ORGANIZER;CN="Greg Miller":MAILTO:Imsantaclaus1@hotmail.com
END:VEVENT
BEGIN:VEVENT
DTSTART;TZID=America/New_York:20231003T170000
DTEND;TZID=America/New_York:20231003T180000
DTSTAMP:20260422T030101
CREATED:20231012T132908Z
LAST-MODIFIED:20231012T132908Z
UID:10010106-1696352400-1696356000@brunswickforest.com
SUMMARY:Wood Workers Group
DESCRIPTION:The Community Commons \nTuesdays \n@5:00pm \nContact: Greg Miller \nImsantaclaus1@hotmail.com
URL:https://brunswickforest.com/events/wood-workers-group-3/2023-10-03/
LOCATION:Community Commons
CATEGORIES:Resident Activities
ATTACH;FMTTYPE=image/png:https://brunswickforest.com/wpc/uploads/woodwork.png
ORGANIZER;CN="Greg Miller":MAILTO:Imsantaclaus1@hotmail.com
END:VEVENT
BEGIN:VEVENT
DTSTART;TZID=America/New_York:20230620T170000
DTEND;TZID=America/New_York:20230620T180000
DTSTAMP:20260422T030101
CREATED:20230615T205625Z
LAST-MODIFIED:20230615T205625Z
UID:10006132-1687280400-1687284000@brunswickforest.com
SUMMARY:Wood Workers Group
DESCRIPTION:The Community Commons \nJune \n@5:00pm \nContact: Greg Miller \nImsantaclaus1@hotmail.com
URL:https://brunswickforest.com/events/wood-workers-group-2/
LOCATION:Community Commons
CATEGORIES:Resident Activities
ATTACH;FMTTYPE=image/png:https://brunswickforest.com/wpc/uploads/woodwork.png
ORGANIZER;CN="Greg Miller":MAILTO:Imsantaclaus1@hotmail.com
END:VEVENT
END:VCALENDAR