BEGIN:VCALENDAR
VERSION:2.0
PRODID:-//Brunswick Forest - ECPv6.15.20//NONSGML v1.0//EN
CALSCALE:GREGORIAN
METHOD:PUBLISH
X-ORIGINAL-URL:https://brunswickforest.com
X-WR-CALDESC:Events for Brunswick Forest
REFRESH-INTERVAL;VALUE=DURATION:PT1H
X-Robots-Tag:noindex
X-PUBLISHED-TTL:PT1H
BEGIN:VTIMEZONE
TZID:America/New_York
BEGIN:DAYLIGHT
TZOFFSETFROM:-0500
TZOFFSETTO:-0400
TZNAME:EDT
DTSTART:20220313T070000
END:DAYLIGHT
BEGIN:STANDARD
TZOFFSETFROM:-0400
TZOFFSETTO:-0500
TZNAME:EST
DTSTART:20221106T060000
END:STANDARD
BEGIN:DAYLIGHT
TZOFFSETFROM:-0500
TZOFFSETTO:-0400
TZNAME:EDT
DTSTART:20230312T070000
END:DAYLIGHT
BEGIN:STANDARD
TZOFFSETFROM:-0400
TZOFFSETTO:-0500
TZNAME:EST
DTSTART:20231105T060000
END:STANDARD
BEGIN:DAYLIGHT
TZOFFSETFROM:-0500
TZOFFSETTO:-0400
TZNAME:EDT
DTSTART:20240310T070000
END:DAYLIGHT
BEGIN:STANDARD
TZOFFSETFROM:-0400
TZOFFSETTO:-0500
TZNAME:EST
DTSTART:20241103T060000
END:STANDARD
END:VTIMEZONE
BEGIN:VEVENT
DTSTART;TZID=America/New_York:20230330T123000
DTEND;TZID=America/New_York:20230330T133000
DTSTAMP:20260419T171512
CREATED:20230303T155211Z
LAST-MODIFIED:20230303T155211Z
UID:10005894-1680179400-1680183000@brunswickforest.com
SUMMARY:Duplicate Bridge
DESCRIPTION:Hammock Meeting Space 3/2\, 3/9\, 3/16\, 3/23\, 3/30 \n@12:30 \nContact Ben Reischer \nBen.reischer@gmail.com
URL:https://brunswickforest.com/events/duplicate-bridge/2023-03-30/
LOCATION:Hammock Meeting Room
CATEGORIES:Resident Activities
ATTACH;FMTTYPE=image/png:https://brunswickforest.com/wpc/uploads/bridge.png
ORGANIZER;CN="Ben Reischer":MAILTO:Ben.reischer@gmail.com
END:VEVENT
BEGIN:VEVENT
DTSTART;TZID=America/New_York:20230328T123000
DTEND;TZID=America/New_York:20230328T143000
DTSTAMP:20260419T171512
CREATED:20230302T195309Z
LAST-MODIFIED:20230302T195309Z
UID:10005787-1680006600-1680013800@brunswickforest.com
SUMMARY:Bridge Group
DESCRIPTION:The Cutlar Community 3/7\, 3/14\, 3/21\, 3/28 \n@12:30pm \nContact: Ben Reischer \nBen.reischer@gmail.com
URL:https://brunswickforest.com/events/bridge-group-3/2023-03-28/
LOCATION:Cutler Community Center\, 1120 East Cutlar Crossing\, Leland\, NC\, 28451
CATEGORIES:Resident Activities
ATTACH;FMTTYPE=image/png:https://brunswickforest.com/wpc/uploads/bridge-group.png
ORGANIZER;CN="Ben Reischer":MAILTO:Ben.reischer@gmail.com
END:VEVENT
BEGIN:VEVENT
DTSTART;TZID=America/New_York:20230323T123000
DTEND;TZID=America/New_York:20230323T133000
DTSTAMP:20260419T171512
CREATED:20230303T155211Z
LAST-MODIFIED:20230303T155211Z
UID:10005893-1679574600-1679578200@brunswickforest.com
SUMMARY:Duplicate Bridge
DESCRIPTION:Hammock Meeting Space 3/2\, 3/9\, 3/16\, 3/23\, 3/30 \n@12:30 \nContact Ben Reischer \nBen.reischer@gmail.com
URL:https://brunswickforest.com/events/duplicate-bridge/2023-03-23/
LOCATION:Hammock Meeting Room
CATEGORIES:Resident Activities
ATTACH;FMTTYPE=image/png:https://brunswickforest.com/wpc/uploads/bridge.png
ORGANIZER;CN="Ben Reischer":MAILTO:Ben.reischer@gmail.com
END:VEVENT
END:VCALENDAR